Workbook

Sheet INSTRUCTIONS
A1: instructions for using this excel This workbook contains 23 workable tabs filled with the 2025 Weekly NFL games (18), a Total-Wins tab, an Overall points tab, a Wild Card round, Divisional round, and Championship, should you decide to run it that far. Tabs are prefilled with formulas to do all the hard work for you, whether you want to stick with my structured point system, or modify to your own preferences. You have to fill out names and team picks. Weekly and Overall tabs are set for up to 40 players, spread out in 4 divisions. With a little bit of excel knowledge you can easily modify that to your final count. Weekly: Games are set as 3, 5, or 10 pointers; 3 for outer conference (AFC vs NFC) 5 for inner conference (AFC vs AFC, NFC vs NFC) 10 for divisional matchups (AFCW vs AFCW, NFCE vs NFCE, etc.) Conditional formulas are implemented so that if the winner matches the pick points are awarded automatically. Points rollover weekly, you have to manually transfer individual point totals to your overall sheet and total wins sheet if you use them. Total wins is if you just want to run it as each game is worth 1 point, I ran it as a side-pot where the winner there gets a payout as well. It won't always be the one with the overall points due to the point structure so it spices things up. Should you decide to use playoffs, I have them preset in confidence fashion and in intervals of 5. For example; wild card round is 6 games, players would put 30 on their most confident pick down to 5 on their least confident one. How mine is setup is the top (4 division winners), total wins winner (if not a division winner), and the nect 3-4 best overall scores go to playoffs in a random head to head bracket format. If you have any questions or issues, you can always e-mail me at Ben@eagleyeforum.com and I will respond as soon as possible

Sheet SAMPLES

Sheet WK1
A1: PARTICIPANTS | B1: DAL | C1: KC | D1: TB | E1: CIN | F1: MIA | G1: CAR | H1: LV | I1: AZ | J1: PIT | K1: NYG | L1: TEN | M1: SF | N1: DET | O1: HOU | P1: BAL | Q1: MIN | V1: AWAY | W1: TOTAL | X1: TOTAL
A2: HOME | B2: PHI | C2: LAC | D2: ATL | E2: CLE | F2: IND | G2: JAC | H2: NE | I2: NO | J2: NYJ | K2: WAS | L2: DEN | M2: SEA | N2: GB | O2: LAR | P2: BUF | Q2: CHI | V2: HOME | W2: WINS | X2: PTS
A3: POINT VALUE | B3: 10 | C3: 10 | D3: 10 | E3: 10 | F3: 5 | G3: 3 | H3: 5 | I3: 5 | J3: 5 | K3: 10 | L3: 5 | M3: 10 | N3: 10 | O3: 3 | P3: 5 | Q3: 10 | V3: POINT VALUE | W3: 16 | X3: =SUM(B3:Q3) -> 116
A4: WINNER | R4: N/A | S4: N/A | T4: N/A | U4: N/A | V4: WINNER
A5: DIVISION I
W6: =SUM(IF(B6=B$4,1),IF(C6=C$4,1),IF(D6=D$4,1),IF(E6=E$4,1),IF(F6=F$4,1),IF(G6=G$4,1),IF(H6=H$4,1),IF(I6=I$4,1),IF(J6=J$4,1),IF(K6=K$4,1),IF(L6=L$4,1),IF(M6=M$4,1),IF(N6=N$4,1),IF(O6=O$4,1),IF(P6=P$4,1),IF(Q6=Q$4,1)) -> 16 | X6: =SUM(IF(B6=B$4,B$3),IF(C6=C$4,C$3),IF(D6=D$4,D$3),IF(E6=E$4,E$3),IF(F6=F$4,F$3),IF(G6=G$4,G$3),IF(H6=H$4,H$3),IF(I6=I$4,I$3),IF(J6=J$4,J$3),IF(K6=K$4,K$3),IF(L6=L$4,L$3),IF(M6=M$4,M$3),IF(N6=N$4,N$3),IF(O6=O$4,O$3),IF(P6=P$4,P$3),IF(Q6=Q$4,Q$3)) -> 116
W7: =SUM(IF(B7=B$4,1),IF(C7=C$4,1),IF(D7=D$4,1),IF(E7=E$4,1),IF(F7=F$4,1),IF(G7=G$4,1),IF(H7=H$4,1),IF(I7=I$4,1),IF(J7=J$4,1),IF(K7=K$4,1),IF(L7=L$4,1),IF(M7=M$4,1),IF(N7=N$4,1),IF(O7=O$4,1),IF(P7=P$4,1),IF(Q7=Q$4,1)) -> 16 | X7: =SUM(IF(B7=B$4,B$3),IF(C7=C$4,C$3),IF(D7=D$4,D$3),IF(E7=E$4,E$3),IF(F7=F$4,F$3),IF(G7=G$4,G$3),IF(H7=H$4,H$3),IF(I7=I$4,I$3),IF(J7=J$4,J$3),IF(K7=K$4,K$3),IF(L7=L$4,L$3),IF(M7=M$4,M$3),IF(N7=N$4,N$3),IF(O7=O$4,O$3),IF(P7=P$4,P$3),IF(Q7=Q$4,Q$3)) -> 116
W8: =SUM(IF(B8=B$4,1),IF(C8=C$4,1),IF(D8=D$4,1),IF(E8=E$4,1),IF(F8=F$4,1),IF(G8=G$4,1),IF(H8=H$4,1),IF(I8=I$4,1),IF(J8=J$4,1),IF(K8=K$4,1),IF(L8=L$4,1),IF(M8=M$4,1),IF(N8=N$4,1),IF(O8=O$4,1),IF(P8=P$4,1),IF(Q8=Q$4,1)) -> 16 | X8: =SUM(IF(B8=B$4,B$3),IF(C8=C$4,C$3),IF(D8=D$4,D$3),IF(E8=E$4,E$3),IF(F8=F$4,F$3),IF(G8=G$4,G$3),IF(H8=H$4,H$3),IF(I8=I$4,I$3),IF(J8=J$4,J$3),IF(K8=K$4,K$3),IF(L8=L$4,L$3),IF(M8=M$4,M$3),IF(N8=N$4,N$3),IF(O8=O$4,O$3),IF(P8=P$4,P$3),IF(Q8=Q$4,Q$3)) -> 116
W9: =SUM(IF(B9=B$4,1),IF(C9=C$4,1),IF(D9=D$4,1),IF(E9=E$4,1),IF(F9=F$4,1),IF(G9=G$4,1),IF(H9=H$4,1),IF(I9=I$4,1),IF(J9=J$4,1),IF(K9=K$4,1),IF(L9=L$4,1),IF(M9=M$4,1),IF(N9=N$4,1),IF(O9=O$4,1),IF(P9=P$4,1),IF(Q9=Q$4,1)) -> 16 | X9: =SUM(IF(B9=B$4,B$3),IF(C9=C$4,C$3),IF(D9=D$4,D$3),IF(E9=E$4,E$3),IF(F9=F$4,F$3),IF(G9=G$4,G$3),IF(H9=H$4,H$3),IF(I9=I$4,I$3),IF(J9=J$4,J$3),IF(K9=K$4,K$3),IF(L9=L$4,L$3),IF(M9=M$4,M$3),IF(N9=N$4,N$3),IF(O9=O$4,O$3),IF(P9=P$4,P$3),IF(Q9=Q$4,Q$3)) -> 116
W10: =SUM(IF(B10=B$4,1),IF(C10=C$4,1),IF(D10=D$4,1),IF(E10=E$4,1),IF(F10=F$4,1),IF(G10=G$4,1),IF(H10=H$4,1),IF(I10=I$4,1),IF(J10=J$4,1),IF(K10=K$4,1),IF(L10=L$4,1),IF(M10=M$4,1),IF(N10=N$4,1),IF(O10=O$4,1),IF(P10=P$4,1),IF(Q10=Q$4,1)) -> 16 | X10: =SUM(IF(B10=B$4,B$3),IF(C10=C$4,C$3),IF(D10=D$4,D$3),IF(E10=E$4,E$3),IF(F10=F$4,F$3),IF(G10=G$4,G$3),IF(H10=H$4,H$3),IF(I10=I$4,I$3),IF(J10=J$4,J$3),IF(K10=K$4,K$3),IF(L10=L$4,L$3),IF(M10=M$4,M$3),IF(N10=N$4,N$3),IF(O10=O$4,O$3),IF(P10=P$4,P$3),IF(Q10=Q$4,Q$3)) -> 116
W11: =SUM(IF(B11=B$4,1),IF(C11=C$4,1),IF(D11=D$4,1),IF(E11=E$4,1),IF(F11=F$4,1),IF(G11=G$4,1),IF(H11=H$4,1),IF(I11=I$4,1),IF(J11=J$4,1),IF(K11=K$4,1),IF(L11=L$4,1),IF(M11=M$4,1),IF(N11=N$4,1),IF(O11=O$4,1),IF(P11=P$4,1),IF(Q11=Q$4,1)) -> 16 | X11: =SUM(IF(B11=B$4,B$3),IF(C11=C$4,C$3),IF(D11=D$4,D$3),IF(E11=E$4,E$3),IF(F11=F$4,F$3),IF(G11=G$4,G$3),IF(H11=H$4,H$3),IF(I11=I$4,I$3),IF(J11=J$4,J$3),IF(K11=K$4,K$3),IF(L11=L$4,L$3),IF(M11=M$4,M$3),IF(N11=N$4,N$3),IF(O11=O$4,O$3),IF(P11=P$4,P$3),IF(Q11=Q$4,Q$3)) -> 116
W12: =SUM(IF(B12=B$4,1),IF(C12=C$4,1),IF(D12=D$4,1),IF(E12=E$4,1),IF(F12=F$4,1),IF(G12=G$4,1),IF(H12=H$4,1),IF(I12=I$4,1),IF(J12=J$4,1),IF(K12=K$4,1),IF(L12=L$4,1),IF(M12=M$4,1),IF(N12=N$4,1),IF(O12=O$4,1),IF(P12=P$4,1),IF(Q12=Q$4,1)) -> 16 | X12: =SUM(IF(B12=B$4,B$3),IF(C12=C$4,C$3),IF(D12=D$4,D$3),IF(E12=E$4,E$3),IF(F12=F$4,F$3),IF(G12=G$4,G$3),IF(H12=H$4,H$3),IF(I12=I$4,I$3),IF(J12=J$4,J$3),IF(K12=K$4,K$3),IF(L12=L$4,L$3),IF(M12=M$4,M$3),IF(N12=N$4,N$3),IF(O12=O$4,O$3),IF(P12=P$4,P$3),IF(Q12=Q$4,Q$3)) -> 116
W13: =SUM(IF(B13=B$4,1),IF(C13=C$4,1),IF(D13=D$4,1),IF(E13=E$4,1),IF(F13=F$4,1),IF(G13=G$4,1),IF(H13=H$4,1),IF(I13=I$4,1),IF(J13=J$4,1),IF(K13=K$4,1),IF(L13=L$4,1),IF(M13=M$4,1),IF(N13=N$4,1),IF(O13=O$4,1),IF(P13=P$4,1),IF(Q13=Q$4,1)) -> 16 | X13: =SUM(IF(B13=B$4,B$3),IF(C13=C$4,C$3),IF(D13=D$4,D$3),IF(E13=E$4,E$3),IF(F13=F$4,F$3),IF(G13=G$4,G$3),IF(H13=H$4,H$3),IF(I13=I$4,I$3),IF(J13=J$4,J$3),IF(K13=K$4,K$3),IF(L13=L$4,L$3),IF(M13=M$4,M$3),IF(N13=N$4,N$3),IF(O13=O$4,O$3),IF(P13=P$4,P$3),IF(Q13=Q$4,Q$3)) -> 116
W14: =SUM(IF(B14=B$4,1),IF(C14=C$4,1),IF(D14=D$4,1),IF(E14=E$4,1),IF(F14=F$4,1),IF(G14=G$4,1),IF(H14=H$4,1),IF(I14=I$4,1),IF(J14=J$4,1),IF(K14=K$4,1),IF(L14=L$4,1),IF(M14=M$4,1),IF(N14=N$4,1),IF(O14=O$4,1),IF(P14=P$4,1),IF(Q14=Q$4,1)) -> 16 | X14: =SUM(IF(B14=B$4,B$3),IF(C14=C$4,C$3),IF(D14=D$4,D$3),IF(E14=E$4,E$3),IF(F14=F$4,F$3),IF(G14=G$4,G$3),IF(H14=H$4,H$3),IF(I14=I$4,I$3),IF(J14=J$4,J$3),IF(K14=K$4,K$3),IF(L14=L$4,L$3),IF(M14=M$4,M$3),IF(N14=N$4,N$3),IF(O14=O$4,O$3),IF(P14=P$4,P$3),IF(Q14=Q$4,Q$3)) -> 116
W15: =SUM(IF(B15=B$4,1),IF(C15=C$4,1),IF(D15=D$4,1),IF(E15=E$4,1),IF(F15=F$4,1),IF(G15=G$4,1),IF(H15=H$4,1),IF(I15=I$4,1),IF(J15=J$4,1),IF(K15=K$4,1),IF(L15=L$4,1),IF(M15=M$4,1),IF(N15=N$4,1),IF(O15=O$4,1),IF(P15=P$4,1),IF(Q15=Q$4,1)) -> 16 | X15: =SUM(IF(B15=B$4,B$3),IF(C15=C$4,C$3),IF(D15=D$4,D$3),IF(E15=E$4,E$3),IF(F15=F$4,F$3),IF(G15=G$4,G$3),IF(H15=H$4,H$3),IF(I15=I$4,I$3),IF(J15=J$4,J$3),IF(K15=K$4,K$3),IF(L15=L$4,L$3),IF(M15=M$4,M$3),IF(N15=N$4,N$3),IF(O15=O$4,O$3),IF(P15=P$4,P$3),IF(Q15=Q$4,Q$3)) -> 116
A16: DIVISION II
W17: =SUM(IF(B17=B$4,1),IF(C17=C$4,1),IF(D17=D$4,1),IF(E17=E$4,1),IF(F17=F$4,1),IF(G17=G$4,1),IF(H17=H$4,1),IF(I17=I$4,1),IF(J17=J$4,1),IF(K17=K$4,1),IF(L17=L$4,1),IF(M17=M$4,1),IF(N17=N$4,1),IF(O17=O$4,1),IF(P17=P$4,1),IF(Q17=Q$4,1)) -> 16 | X17: =SUM(IF(B17=B$4,B$3),IF(C17=C$4,C$3),IF(D17=D$4,D$3),IF(E17=E$4,E$3),IF(F17=F$4,F$3),IF(G17=G$4,G$3),IF(H17=H$4,H$3),IF(I17=I$4,I$3),IF(J17=J$4,J$3),IF(K17=K$4,K$3),IF(L17=L$4,L$3),IF(M17=M$4,M$3),IF(N17=N$4,N$3),IF(O17=O$4,O$3),IF(P17=P$4,P$3),IF(Q17=Q$4,Q$3)) -> 116
W18: =SUM(IF(B18=B$4,1),IF(C18=C$4,1),IF(D18=D$4,1),IF(E18=E$4,1),IF(F18=F$4,1),IF(G18=G$4,1),IF(H18=H$4,1),IF(I18=I$4,1),IF(J18=J$4,1),IF(K18=K$4,1),IF(L18=L$4,1),IF(M18=M$4,1),IF(N18=N$4,1),IF(O18=O$4,1),IF(P18=P$4,1),IF(Q18=Q$4,1)) -> 16 | X18: =SUM(IF(B18=B$4,B$3),IF(C18=C$4,C$3),IF(D18=D$4,D$3),IF(E18=E$4,E$3),IF(F18=F$4,F$3),IF(G18=G$4,G$3),IF(H18=H$4,H$3),IF(I18=I$4,I$3),IF(J18=J$4,J$3),IF(K18=K$4,K$3),IF(L18=L$4,L$3),IF(M18=M$4,M$3),IF(N18=N$4,N$3),IF(O18=O$4,O$3),IF(P18=P$4,P$3),IF(Q18=Q$4,Q$3)) -> 116
W19: =SUM(IF(B19=B$4,1),IF(C19=C$4,1),IF(D19=D$4,1),IF(E19=E$4,1),IF(F19=F$4,1),IF(G19=G$4,1),IF(H19=H$4,1),IF(I19=I$4,1),IF(J19=J$4,1),IF(K19=K$4,1),IF(L19=L$4,1),IF(M19=M$4,1),IF(N19=N$4,1),IF(O19=O$4,1),IF(P19=P$4,1),IF(Q19=Q$4,1)) -> 16 | X19: =SUM(IF(B19=B$4,B$3),IF(C19=C$4,C$3),IF(D19=D$4,D$3),IF(E19=E$4,E$3),IF(F19=F$4,F$3),IF(G19=G$4,G$3),IF(H19=H$4,H$3),IF(I19=I$4,I$3),IF(J19=J$4,J$3),IF(K19=K$4,K$3),IF(L19=L$4,L$3),IF(M19=M$4,M$3),IF(N19=N$4,N$3),IF(O19=O$4,O$3),IF(P19=P$4,P$3),IF(Q19=Q$4,Q$3)) -> 116
W20: =SUM(IF(B20=B$4,1),IF(C20=C$4,1),IF(D20=D$4,1),IF(E20=E$4,1),IF(F20=F$4,1),IF(G20=G$4,1),IF(H20=H$4,1),IF(I20=I$4,1),IF(J20=J$4,1),IF(K20=K$4,1),IF(L20=L$4,1),IF(M20=M$4,1),IF(N20=N$4,1),IF(O20=O$4,1),IF(P20=P$4,1),IF(Q20=Q$4,1)) -> 16 | X20: =SUM(IF(B20=B$4,B$3),IF(C20=C$4,C$3),IF(D20=D$4,D$3),IF(E20=E$4,E$3),IF(F20=F$4,F$3),IF(G20=G$4,G$3),IF(H20=H$4,H$3),IF(I20=I$4,I$3),IF(J20=J$4,J$3),IF(K20=K$4,K$3),IF(L20=L$4,L$3),IF(M20=M$4,M$3),IF(N20=N$4,N$3),IF(O20=O$4,O$3),IF(P20=P$4,P$3),IF(Q20=Q$4,Q$3)) -> 116
W21: =SUM(IF(B21=B$4,1),IF(C21=C$4,1),IF(D21=D$4,1),IF(E21=E$4,1),IF(F21=F$4,1),IF(G21=G$4,1),IF(H21=H$4,1),IF(I21=I$4,1),IF(J21=J$4,1),IF(K21=K$4,1),IF(L21=L$4,1),IF(M21=M$4,1),IF(N21=N$4,1),IF(O21=O$4,1),IF(P21=P$4,1),IF(Q21=Q$4,1)) -> 16 | X21: =SUM(IF(B21=B$4,B$3),IF(C21=C$4,C$3),IF(D21=D$4,D$3),IF(E21=E$4,E$3),IF(F21=F$4,F$3),IF(G21=G$4,G$3),IF(H21=H$4,H$3),IF(I21=I$4,I$3),IF(J21=J$4,J$3),IF(K21=K$4,K$3),IF(L21=L$4,L$3),IF(M21=M$4,M$3),IF(N21=N$4,N$3),IF(O21=O$4,O$3),IF(P21=P$4,P$3),IF(Q21=Q$4,Q$3)) -> 116
W22: =SUM(IF(B22=B$4,1),IF(C22=C$4,1),IF(D22=D$4,1),IF(E22=E$4,1),IF(F22=F$4,1),IF(G22=G$4,1),IF(H22=H$4,1),IF(I22=I$4,1),IF(J22=J$4,1),IF(K22=K$4,1),IF(L22=L$4,1),IF(M22=M$4,1),IF(N22=N$4,1),IF(O22=O$4,1),IF(P22=P$4,1),IF(Q22=Q$4,1)) -> 16 | X22: =SUM(IF(B22=B$4,B$3),IF(C22=C$4,C$3),IF(D22=D$4,D$3),IF(E22=E$4,E$3),IF(F22=F$4,F$3),IF(G22=G$4,G$3),IF(H22=H$4,H$3),IF(I22=I$4,I$3),IF(J22=J$4,J$3),IF(K22=K$4,K$3),IF(L22=L$4,L$3),IF(M22=M$4,M$3),IF(N22=N$4,N$3),IF(O22=O$4,O$3),IF(P22=P$4,P$3),IF(Q22=Q$4,Q$3)) -> 116
W23: =SUM(IF(B23=B$4,1),IF(C23=C$4,1),IF(D23=D$4,1),IF(E23=E$4,1),IF(F23=F$4,1),IF(G23=G$4,1),IF(H23=H$4,1),IF(I23=I$4,1),IF(J23=J$4,1),IF(K23=K$4,1),IF(L23=L$4,1),IF(M23=M$4,1),IF(N23=N$4,1),IF(O23=O$4,1),IF(P23=P$4,1),IF(Q23=Q$4,1)) -> 16 | X23: =SUM(IF(B23=B$4,B$3),IF(C23=C$4,C$3),IF(D23=D$4,D$3),IF(E23=E$4,E$3),IF(F23=F$4,F$3),IF(G23=G$4,G$3),IF(H23=H$4,H$3),IF(I23=I$4,I$3),IF(J23=J$4,J$3),IF(K23=K$4,K$3),IF(L23=L$4,L$3),IF(M23=M$4,M$3),IF(N23=N$4,N$3),IF(O23=O$4,O$3),IF(P23=P$4,P$3),IF(Q23=Q$4,Q$3)) -> 116
W24: =SUM(IF(B24=B$4,1),IF(C24=C$4,1),IF(D24=D$4,1),IF(E24=E$4,1),IF(F24=F$4,1),IF(G24=G$4,1),IF(H24=H$4,1),IF(I24=I$4,1),IF(J24=J$4,1),IF(K24=K$4,1),IF(L24=L$4,1),IF(M24=M$4,1),IF(N24=N$4,1),IF(O24=O$4,1),IF(P24=P$4,1),IF(Q24=Q$4,1)) -> 16 | X24: =SUM(IF(B24=B$4,B$3),IF(C24=C$4,C$3),IF(D24=D$4,D$3),IF(E24=E$4,E$3),IF(F24=F$4,F$3),IF(G24=G$4,G$3),IF(H24=H$4,H$3),IF(I24=I$4,I$3),IF(J24=J$4,J$3),IF(K24=K$4,K$3),IF(L24=L$4,L$3),IF(M24=M$4,M$3),IF(N24=N$4,N$3),IF(O24=O$4,O$3),IF(P24=P$4,P$3),IF(Q24=Q$4,Q$3)) -> 116
W25: =SUM(IF(B25=B$4,1),IF(C25=C$4,1),IF(D25=D$4,1),IF(E25=E$4,1),IF(F25=F$4,1),IF(G25=G$4,1),IF(H25=H$4,1),IF(I25=I$4,1),IF(J25=J$4,1),IF(K25=K$4,1),IF(L25=L$4,1),IF(M25=M$4,1),IF(N25=N$4,1),IF(O25=O$4,1),IF(P25=P$4,1),IF(Q25=Q$4,1)) -> 16 | X25: =SUM(IF(B25=B$4,B$3),IF(C25=C$4,C$3),IF(D25=D$4,D$3),IF(E25=E$4,E$3),IF(F25=F$4,F$3),IF(G25=G$4,G$3),IF(H25=H$4,H$3),IF(I25=I$4,I$3),IF(J25=J$4,J$3),IF(K25=K$4,K$3),IF(L25=L$4,L$3),IF(M25=M$4,M$3),IF(N25=N$4,N$3),IF(O25=O$4,O$3),IF(P25=P$4,P$3),IF(Q25=Q$4,Q$3)) -> 116
W26: =SUM(IF(B26=B$4,1),IF(C26=C$4,1),IF(D26=D$4,1),IF(E26=E$4,1),IF(F26=F$4,1),IF(G26=G$4,1),IF(H26=H$4,1),IF(I26=I$4,1),IF(J26=J$4,1),IF(K26=K$4,1),IF(L26=L$4,1),IF(M26=M$4,1),IF(N26=N$4,1),IF(O26=O$4,1),IF(P26=P$4,1),IF(Q26=Q$4,1)) -> 16 | X26: =SUM(IF(B26=B$4,B$3),IF(C26=C$4,C$3),IF(D26=D$4,D$3),IF(E26=E$4,E$3),IF(F26=F$4,F$3),IF(G26=G$4,G$3),IF(H26=H$4,H$3),IF(I26=I$4,I$3),IF(J26=J$4,J$3),IF(K26=K$4,K$3),IF(L26=L$4,L$3),IF(M26=M$4,M$3),IF(N26=N$4,N$3),IF(O26=O$4,O$3),IF(P26=P$4,P$3),IF(Q26=Q$4,Q$3)) -> 116
A27: DIVISION III
W28: =SUM(IF(B28=B$4,1),IF(C28=C$4,1),IF(D28=D$4,1),IF(E28=E$4,1),IF(F28=F$4,1),IF(G28=G$4,1),IF(H28=H$4,1),IF(I28=I$4,1),IF(J28=J$4,1),IF(K28=K$4,1),IF(L28=L$4,1),IF(M28=M$4,1),IF(N28=N$4,1),IF(O28=O$4,1),IF(P28=P$4,1),IF(Q28=Q$4,1)) -> 16 | X28: =SUM(IF(B28=B$4,B$3),IF(C28=C$4,C$3),IF(D28=D$4,D$3),IF(E28=E$4,E$3),IF(F28=F$4,F$3),IF(G28=G$4,G$3),IF(H28=H$4,H$3),IF(I28=I$4,I$3),IF(J28=J$4,J$3),IF(K28=K$4,K$3),IF(L28=L$4,L$3),IF(M28=M$4,M$3),IF(N28=N$4,N$3),IF(O28=O$4,O$3),IF(P28=P$4,P$3),IF(Q28=Q$4,Q$3)) -> 116
W29: =SUM(IF(B29=B$4,1),IF(C29=C$4,1),IF(D29=D$4,1),IF(E29=E$4,1),IF(F29=F$4,1),IF(G29=G$4,1),IF(H29=H$4,1),IF(I29=I$4,1),IF(J29=J$4,1),IF(K29=K$4,1),IF(L29=L$4,1),IF(M29=M$4,1),IF(N29=N$4,1),IF(O29=O$4,1),IF(P29=P$4,1),IF(Q29=Q$4,1)) -> 16 | X29: =SUM(IF(B29=B$4,B$3),IF(C29=C$4,C$3),IF(D29=D$4,D$3),IF(E29=E$4,E$3),IF(F29=F$4,F$3),IF(G29=G$4,G$3),IF(H29=H$4,H$3),IF(I29=I$4,I$3),IF(J29=J$4,J$3),IF(K29=K$4,K$3),IF(L29=L$4,L$3),IF(M29=M$4,M$3),IF(N29=N$4,N$3),IF(O29=O$4,O$3),IF(P29=P$4,P$3),IF(Q29=Q$4,Q$3)) -> 116
W30: =SUM(IF(B30=B$4,1),IF(C30=C$4,1),IF(D30=D$4,1),IF(E30=E$4,1),IF(F30=F$4,1),IF(G30=G$4,1),IF(H30=H$4,1),IF(I30=I$4,1),IF(J30=J$4,1),IF(K30=K$4,1),IF(L30=L$4,1),IF(M30=M$4,1),IF(N30=N$4,1),IF(O30=O$4,1),IF(P30=P$4,1),IF(Q30=Q$4,1)) -> 16 | X30: =SUM(IF(B30=B$4,B$3),IF(C30=C$4,C$3),IF(D30=D$4,D$3),IF(E30=E$4,E$3),IF(F30=F$4,F$3),IF(G30=G$4,G$3),IF(H30=H$4,H$3),IF(I30=I$4,I$3),IF(J30=J$4,J$3),IF(K30=K$4,K$3),IF(L30=L$4,L$3),IF(M30=M$4,M$3),IF(N30=N$4,N$3),IF(O30=O$4,O$3),IF(P30=P$4,P$3),IF(Q30=Q$4,Q$3)) -> 116
W31: =SUM(IF(B31=B$4,1),IF(C31=C$4,1),IF(D31=D$4,1),IF(E31=E$4,1),IF(F31=F$4,1),IF(G31=G$4,1),IF(H31=H$4,1),IF(I31=I$4,1),IF(J31=J$4,1),IF(K31=K$4,1),IF(L31=L$4,1),IF(M31=M$4,1),IF(N31=N$4,1),IF(O31=O$4,1),IF(P31=P$4,1),IF(Q31=Q$4,1)) -> 16 | X31: =SUM(IF(B31=B$4,B$3),IF(C31=C$4,C$3),IF(D31=D$4,D$3),IF(E31=E$4,E$3),IF(F31=F$4,F$3),IF(G31=G$4,G$3),IF(H31=H$4,H$3),IF(I31=I$4,I$3),IF(J31=J$4,J$3),IF(K31=K$4,K$3),IF(L31=L$4,L$3),IF(M31=M$4,M$3),IF(N31=N$4,N$3),IF(O31=O$4,O$3),IF(P31=P$4,P$3),IF(Q31=Q$4,Q$3)) -> 116
W32: =SUM(IF(B32=B$4,1),IF(C32=C$4,1),IF(D32=D$4,1),IF(E32=E$4,1),IF(F32=F$4,1),IF(G32=G$4,1),IF(H32=H$4,1),IF(I32=I$4,1),IF(J32=J$4,1),IF(K32=K$4,1),IF(L32=L$4,1),IF(M32=M$4,1),IF(N32=N$4,1),IF(O32=O$4,1),IF(P32=P$4,1),IF(Q32=Q$4,1)) -> 16 | X32: =SUM(IF(B32=B$4,B$3),IF(C32=C$4,C$3),IF(D32=D$4,D$3),IF(E32=E$4,E$3),IF(F32=F$4,F$3),IF(G32=G$4,G$3),IF(H32=H$4,H$3),IF(I32=I$4,I$3),IF(J32=J$4,J$3),IF(K32=K$4,K$3),IF(L32=L$4,L$3),IF(M32=M$4,M$3),IF(N32=N$4,N$3),IF(O32=O$4,O$3),IF(P32=P$4,P$3),IF(Q32=Q$4,Q$3)) -> 116
W33: =SUM(IF(B33=B$4,1),IF(C33=C$4,1),IF(D33=D$4,1),IF(E33=E$4,1),IF(F33=F$4,1),IF(G33=G$4,1),IF(H33=H$4,1),IF(I33=I$4,1),IF(J33=J$4,1),IF(K33=K$4,1),IF(L33=L$4,1),IF(M33=M$4,1),IF(N33=N$4,1),IF(O33=O$4,1),IF(P33=P$4,1),IF(Q33=Q$4,1)) -> 16 | X33: =SUM(IF(B33=B$4,B$3),IF(C33=C$4,C$3),IF(D33=D$4,D$3),IF(E33=E$4,E$3),IF(F33=F$4,F$3),IF(G33=G$4,G$3),IF(H33=H$4,H$3),IF(I33=I$4,I$3),IF(J33=J$4,J$3),IF(K33=K$4,K$3),IF(L33=L$4,L$3),IF(M33=M$4,M$3),IF(N33=N$4,N$3),IF(O33=O$4,O$3),IF(P33=P$4,P$3),IF(Q33=Q$4,Q$3)) -> 116
W34: =SUM(IF(B34=B$4,1),IF(C34=C$4,1),IF(D34=D$4,1),IF(E34=E$4,1),IF(F34=F$4,1),IF(G34=G$4,1),IF(H34=H$4,1),IF(I34=I$4,1),IF(J34=J$4,1),IF(K34=K$4,1),IF(L34=L$4,1),IF(M34=M$4,1),IF(N34=N$4,1),IF(O34=O$4,1),IF(P34=P$4,1),IF(Q34=Q$4,1)) -> 16 | X34: =SUM(IF(B34=B$4,B$3),IF(C34=C$4,C$3),IF(D34=D$4,D$3),IF(E34=E$4,E$3),IF(F34=F$4,F$3),IF(G34=G$4,G$3),IF(H34=H$4,H$3),IF(I34=I$4,I$3),IF(J34=J$4,J$3),IF(K34=K$4,K$3),IF(L34=L$4,L$3),IF(M34=M$4,M$3),IF(N34=N$4,N$3),IF(O34=O$4,O$3),IF(P34=P$4,P$3),IF(Q34=Q$4,Q$3)) -> 116
W35: =SUM(IF(B35=B$4,1),IF(C35=C$4,1),IF(D35=D$4,1),IF(E35=E$4,1),IF(F35=F$4,1),IF(G35=G$4,1),IF(H35=H$4,1),IF(I35=I$4,1),IF(J35=J$4,1),IF(K35=K$4,1),IF(L35=L$4,1),IF(M35=M$4,1),IF(N35=N$4,1),IF(O35=O$4,1),IF(P35=P$4,1),IF(Q35=Q$4,1)) -> 16 | X35: =SUM(IF(B35=B$4,B$3),IF(C35=C$4,C$3),IF(D35=D$4,D$3),IF(E35=E$4,E$3),IF(F35=F$4,F$3),IF(G35=G$4,G$3),IF(H35=H$4,H$3),IF(I35=I$4,I$3),IF(J35=J$4,J$3),IF(K35=K$4,K$3),IF(L35=L$4,L$3),IF(M35=M$4,M$3),IF(N35=N$4,N$3),IF(O35=O$4,O$3),IF(P35=P$4,P$3),IF(Q35=Q$4,Q$3)) -> 116
W36: =SUM(IF(B36=B$4,1),IF(C36=C$4,1),IF(D36=D$4,1),IF(E36=E$4,1),IF(F36=F$4,1),IF(G36=G$4,1),IF(H36=H$4,1),IF(I36=I$4,1),IF(J36=J$4,1),IF(K36=K$4,1),IF(L36=L$4,1),IF(M36=M$4,1),IF(N36=N$4,1),IF(O36=O$4,1),IF(P36=P$4,1),IF(Q36=Q$4,1)) -> 16 | X36: =SUM(IF(B36=B$4,B$3),IF(C36=C$4,C$3),IF(D36=D$4,D$3),IF(E36=E$4,E$3),IF(F36=F$4,F$3),IF(G36=G$4,G$3),IF(H36=H$4,H$3),IF(I36=I$4,I$3),IF(J36=J$4,J$3),IF(K36=K$4,K$3),IF(L36=L$4,L$3),IF(M36=M$4,M$3),IF(N36=N$4,N$3),IF(O36=O$4,O$3),IF(P36=P$4,P$3),IF(Q36=Q$4,Q$3)) -> 116
W37: =SUM(IF(B37=B$4,1),IF(C37=C$4,1),IF(D37=D$4,1),IF(E37=E$4,1),IF(F37=F$4,1),IF(G37=G$4,1),IF(H37=H$4,1),IF(I37=I$4,1),IF(J37=J$4,1),IF(K37=K$4,1),IF(L37=L$4,1),IF(M37=M$4,1),IF(N37=N$4,1),IF(O37=O$4,1),IF(P37=P$4,1),IF(Q37=Q$4,1)) -> 16 | X37: =SUM(IF(B37=B$4,B$3),IF(C37=C$4,C$3),IF(D37=D$4,D$3),IF(E37=E$4,E$3),IF(F37=F$4,F$3),IF(G37=G$4,G$3),IF(H37=H$4,H$3),IF(I37=I$4,I$3),IF(J37=J$4,J$3),IF(K37=K$4,K$3),IF(L37=L$4,L$3),IF(M37=M$4,M$3),IF(N37=N$4,N$3),IF(O37=O$4,O$3),IF(P37=P$4,P$3),IF(Q37=Q$4,Q$3)) -> 116
A38: DIVISION IV
W39: =SUM(IF(B39=B$4,1),IF(C39=C$4,1),IF(D39=D$4,1),IF(E39=E$4,1),IF(F39=F$4,1),IF(G39=G$4,1),IF(H39=H$4,1),IF(I39=I$4,1),IF(J39=J$4,1),IF(K39=K$4,1),IF(L39=L$4,1),IF(M39=M$4,1),IF(N39=N$4,1),IF(O39=O$4,1),IF(P39=P$4,1),IF(Q39=Q$4,1)) -> 16 | X39: =SUM(IF(B39=B$4,B$3),IF(C39=C$4,C$3),IF(D39=D$4,D$3),IF(E39=E$4,E$3),IF(F39=F$4,F$3),IF(G39=G$4,G$3),IF(H39=H$4,H$3),IF(I39=I$4,I$3),IF(J39=J$4,J$3),IF(K39=K$4,K$3),IF(L39=L$4,L$3),IF(M39=M$4,M$3),IF(N39=N$4,N$3),IF(O39=O$4,O$3),IF(P39=P$4,P$3),IF(Q39=Q$4,Q$3)) -> 116
W40: =SUM(IF(B40=B$4,1),IF(C40=C$4,1),IF(D40=D$4,1),IF(E40=E$4,1),IF(F40=F$4,1),IF(G40=G$4,1),IF(H40=H$4,1),IF(I40=I$4,1),IF(J40=J$4,1),IF(K40=K$4,1),IF(L40=L$4,1),IF(M40=M$4,1),IF(N40=N$4,1),IF(O40=O$4,1),IF(P40=P$4,1),IF(Q40=Q$4,1)) -> 16 | X40: =SUM(IF(B40=B$4,B$3),IF(C40=C$4,C$3),IF(D40=D$4,D$3),IF(E40=E$4,E$3),IF(F40=F$4,F$3),IF(G40=G$4,G$3),IF(H40=H$4,H$3),IF(I40=I$4,I$3),IF(J40=J$4,J$3),IF(K40=K$4,K$3),IF(L40=L$4,L$3),IF(M40=M$4,M$3),IF(N40=N$4,N$3),IF(O40=O$4,O$3),IF(P40=P$4,P$3),IF(Q40=Q$4,Q$3)) -> 116
W41: =SUM(IF(B41=B$4,1),IF(C41=C$4,1),IF(D41=D$4,1),IF(E41=E$4,1),IF(F41=F$4,1),IF(G41=G$4,1),IF(H41=H$4,1),IF(I41=I$4,1),IF(J41=J$4,1),IF(K41=K$4,1),IF(L41=L$4,1),IF(M41=M$4,1),IF(N41=N$4,1),IF(O41=O$4,1),IF(P41=P$4,1),IF(Q41=Q$4,1)) -> 16 | X41: =SUM(IF(B41=B$4,B$3),IF(C41=C$4,C$3),IF(D41=D$4,D$3),IF(E41=E$4,E$3),IF(F41=F$4,F$3),IF(G41=G$4,G$3),IF(H41=H$4,H$3),IF(I41=I$4,I$3),IF(J41=J$4,J$3),IF(K41=K$4,K$3),IF(L41=L$4,L$3),IF(M41=M$4,M$3),IF(N41=N$4,N$3),IF(O41=O$4,O$3),IF(P41=P$4,P$3),IF(Q41=Q$4,Q$3)) -> 116
W42: =SUM(IF(B42=B$4,1),IF(C42=C$4,1),IF(D42=D$4,1),IF(E42=E$4,1),IF(F42=F$4,1),IF(G42=G$4,1),IF(H42=H$4,1),IF(I42=I$4,1),IF(J42=J$4,1),IF(K42=K$4,1),IF(L42=L$4,1),IF(M42=M$4,1),IF(N42=N$4,1),IF(O42=O$4,1),IF(P42=P$4,1),IF(Q42=Q$4,1)) -> 16 | X42: =SUM(IF(B42=B$4,B$3),IF(C42=C$4,C$3),IF(D42=D$4,D$3),IF(E42=E$4,E$3),IF(F42=F$4,F$3),IF(G42=G$4,G$3),IF(H42=H$4,H$3),IF(I42=I$4,I$3),IF(J42=J$4,J$3),IF(K42=K$4,K$3),IF(L42=L$4,L$3),IF(M42=M$4,M$3),IF(N42=N$4,N$3),IF(O42=O$4,O$3),IF(P42=P$4,P$3),IF(Q42=Q$4,Q$3)) -> 116
W43: =SUM(IF(B43=B$4,1),IF(C43=C$4,1),IF(D43=D$4,1),IF(E43=E$4,1),IF(F43=F$4,1),IF(G43=G$4,1),IF(H43=H$4,1),IF(I43=I$4,1),IF(J43=J$4,1),IF(K43=K$4,1),IF(L43=L$4,1),IF(M43=M$4,1),IF(N43=N$4,1),IF(O43=O$4,1),IF(P43=P$4,1),IF(Q43=Q$4,1)) -> 16 | X43: =SUM(IF(B43=B$4,B$3),IF(C43=C$4,C$3),IF(D43=D$4,D$3),IF(E43=E$4,E$3),IF(F43=F$4,F$3),IF(G43=G$4,G$3),IF(H43=H$4,H$3),IF(I43=I$4,I$3),IF(J43=J$4,J$3),IF(K43=K$4,K$3),IF(L43=L$4,L$3),IF(M43=M$4,M$3),IF(N43=N$4,N$3),IF(O43=O$4,O$3),IF(P43=P$4,P$3),IF(Q43=Q$4,Q$3)) -> 116
W44: =SUM(IF(B44=B$4,1),IF(C44=C$4,1),IF(D44=D$4,1),IF(E44=E$4,1),IF(F44=F$4,1),IF(G44=G$4,1),IF(H44=H$4,1),IF(I44=I$4,1),IF(J44=J$4,1),IF(K44=K$4,1),IF(L44=L$4,1),IF(M44=M$4,1),IF(N44=N$4,1),IF(O44=O$4,1),IF(P44=P$4,1),IF(Q44=Q$4,1)) -> 16 | X44: =SUM(IF(B44=B$4,B$3),IF(C44=C$4,C$3),IF(D44=D$4,D$3),IF(E44=E$4,E$3),IF(F44=F$4,F$3),IF(G44=G$4,G$3),IF(H44=H$4,H$3),IF(I44=I$4,I$3),IF(J44=J$4,J$3),IF(K44=K$4,K$3),IF(L44=L$4,L$3),IF(M44=M$4,M$3),IF(N44=N$4,N$3),IF(O44=O$4,O$3),IF(P44=P$4,P$3),IF(Q44=Q$4,Q$3)) -> 116
W45: =SUM(IF(B45=B$4,1),IF(C45=C$4,1),IF(D45=D$4,1),IF(E45=E$4,1),IF(F45=F$4,1),IF(G45=G$4,1),IF(H45=H$4,1),IF(I45=I$4,1),IF(J45=J$4,1),IF(K45=K$4,1),IF(L45=L$4,1),IF(M45=M$4,1),IF(N45=N$4,1),IF(O45=O$4,1),IF(P45=P$4,1),IF(Q45=Q$4,1)) -> 16 | X45: =SUM(IF(B45=B$4,B$3),IF(C45=C$4,C$3),IF(D45=D$4,D$3),IF(E45=E$4,E$3),IF(F45=F$4,F$3),IF(G45=G$4,G$3),IF(H45=H$4,H$3),IF(I45=I$4,I$3),IF(J45=J$4,J$3),IF(K45=K$4,K$3),IF(L45=L$4,L$3),IF(M45=M$4,M$3),IF(N45=N$4,N$3),IF(O45=O$4,O$3),IF(P45=P$4,P$3),IF(Q45=Q$4,Q$3)) -> 116
W46: =SUM(IF(B46=B$4,1),IF(C46=C$4,1),IF(D46=D$4,1),IF(E46=E$4,1),IF(F46=F$4,1),IF(G46=G$4,1),IF(H46=H$4,1),IF(I46=I$4,1),IF(J46=J$4,1),IF(K46=K$4,1),IF(L46=L$4,1),IF(M46=M$4,1),IF(N46=N$4,1),IF(O46=O$4,1),IF(P46=P$4,1),IF(Q46=Q$4,1)) -> 16 | X46: =SUM(IF(B46=B$4,B$3),IF(C46=C$4,C$3),IF(D46=D$4,D$3),IF(E46=E$4,E$3),IF(F46=F$4,F$3),IF(G46=G$4,G$3),IF(H46=H$4,H$3),IF(I46=I$4,I$3),IF(J46=J$4,J$3),IF(K46=K$4,K$3),IF(L46=L$4,L$3),IF(M46=M$4,M$3),IF(N46=N$4,N$3),IF(O46=O$4,O$3),IF(P46=P$4,P$3),IF(Q46=Q$4,Q$3)) -> 116
W47: =SUM(IF(B47=B$4,1),IF(C47=C$4,1),IF(D47=D$4,1),IF(E47=E$4,1),IF(F47=F$4,1),IF(G47=G$4,1),IF(H47=H$4,1),IF(I47=I$4,1),IF(J47=J$4,1),IF(K47=K$4,1),IF(L47=L$4,1),IF(M47=M$4,1),IF(N47=N$4,1),IF(O47=O$4,1),IF(P47=P$4,1),IF(Q47=Q$4,1)) -> 16 | X47: =SUM(IF(B47=B$4,B$3),IF(C47=C$4,C$3),IF(D47=D$4,D$3),IF(E47=E$4,E$3),IF(F47=F$4,F$3),IF(G47=G$4,G$3),IF(H47=H$4,H$3),IF(I47=I$4,I$3),IF(J47=J$4,J$3),IF(K47=K$4,K$3),IF(L47=L$4,L$3),IF(M47=M$4,M$3),IF(N47=N$4,N$3),IF(O47=O$4,O$3),IF(P47=P$4,P$3),IF(Q47=Q$4,Q$3)) -> 116
W48: =SUM(IF(B48=B$4,1),IF(C48=C$4,1),IF(D48=D$4,1),IF(E48=E$4,1),IF(F48=F$4,1),IF(G48=G$4,1),IF(H48=H$4,1),IF(I48=I$4,1),IF(J48=J$4,1),IF(K48=K$4,1),IF(L48=L$4,1),IF(M48=M$4,1),IF(N48=N$4,1),IF(O48=O$4,1),IF(P48=P$4,1),IF(Q48=Q$4,1)) -> 16 | X48: =SUM(IF(B48=B$4,B$3),IF(C48=C$4,C$3),IF(D48=D$4,D$3),IF(E48=E$4,E$3),IF(F48=F$4,F$3),IF(G48=G$4,G$3),IF(H48=H$4,H$3),IF(I48=I$4,I$3),IF(J48=J$4,J$3),IF(K48=K$4,K$3),IF(L48=L$4,L$3),IF(M48=M$4,M$3),IF(N48=N$4,N$3),IF(O48=O$4,O$3),IF(P48=P$4,P$3),IF(Q48=Q$4,Q$3)) -> 116

Sheet WK2
A1: PARTICIPANTS | B1: WAS | C1: CLE | D1: JAC | E1: NYG | F1: CHI | G1: NE | H1: SF | I1: BUF | J1: SEA | K1: LAR | L1: CAR | M1: DEN | N1: PHI | O1: ATL | P1: TB | Q1: LAC | V1: AWAY | W1: TOTAL | X1: TOTAL
A2: HOME | B2: GB | C2: BAL | D2: CIN | E2: DAL | F2: DET | G2: MIA | H2: NO | I2: NYJ | J2: PIT | K2: TEN | L2: AZ | M2: IND | N2: KC | O2: MIN | P2: HOU | Q2: LV | V2: HOME | W2: WINS | X2: PTS
A3: POINT VALUE | B3: 5 | C3: 10 | D3: 5 | E3: 10 | F3: 10 | G3: 10 | H3: 5 | I3: 10 | J3: 3 | K3: 3 | L3: 5 | M3: 5 | N3: 3 | O3: 5 | P3: 3 | Q3: 10 | V3: POINT VALUE | W3: 16 | X3: =SUM(B3:Q3) -> 102
A4: WINNER | R4: N/A | S4: N/A | T4: N/A | U4: N/A | V4: WINNER
A5: DIVISION I
W6: =SUM(IF(B6=B$4,1),IF(C6=C$4,1),IF(D6=D$4,1),IF(E6=E$4,1),IF(F6=F$4,1),IF(G6=G$4,1),IF(H6=H$4,1),IF(I6=I$4,1),IF(J6=J$4,1),IF(K6=K$4,1),IF(L6=L$4,1),IF(M6=M$4,1),IF(N6=N$4,1),IF(O6=O$4,1),IF(P6=P$4,1),IF(Q6=Q$4,1)) -> 16 | X6: =SUM(IF(B6=B$4,B$3),IF(C6=C$4,C$3),IF(D6=D$4,D$3),IF(E6=E$4,E$3),IF(F6=F$4,F$3),IF(G6=G$4,G$3),IF(H6=H$4,H$3),IF(I6=I$4,I$3),IF(J6=J$4,J$3),IF(K6=K$4,K$3),IF(L6=L$4,L$3),IF(M6=M$4,M$3),IF(N6=N$4,N$3),IF(O6=O$4,O$3),IF(P6=P$4,P$3),IF(Q6=Q$4,Q$3)) -> 102
W7: =SUM(IF(B7=B$4,1),IF(C7=C$4,1),IF(D7=D$4,1),IF(E7=E$4,1),IF(F7=F$4,1),IF(G7=G$4,1),IF(H7=H$4,1),IF(I7=I$4,1),IF(J7=J$4,1),IF(K7=K$4,1),IF(L7=L$4,1),IF(M7=M$4,1),IF(N7=N$4,1),IF(O7=O$4,1),IF(P7=P$4,1),IF(Q7=Q$4,1)) -> 16 | X7: =SUM(IF(B7=B$4,B$3),IF(C7=C$4,C$3),IF(D7=D$4,D$3),IF(E7=E$4,E$3),IF(F7=F$4,F$3),IF(G7=G$4,G$3),IF(H7=H$4,H$3),IF(I7=I$4,I$3),IF(J7=J$4,J$3),IF(K7=K$4,K$3),IF(L7=L$4,L$3),IF(M7=M$4,M$3),IF(N7=N$4,N$3),IF(O7=O$4,O$3),IF(P7=P$4,P$3),IF(Q7=Q$4,Q$3)) -> 102
W8: =SUM(IF(B8=B$4,1),IF(C8=C$4,1),IF(D8=D$4,1),IF(E8=E$4,1),IF(F8=F$4,1),IF(G8=G$4,1),IF(H8=H$4,1),IF(I8=I$4,1),IF(J8=J$4,1),IF(K8=K$4,1),IF(L8=L$4,1),IF(M8=M$4,1),IF(N8=N$4,1),IF(O8=O$4,1),IF(P8=P$4,1),IF(Q8=Q$4,1)) -> 16 | X8: =SUM(IF(B8=B$4,B$3),IF(C8=C$4,C$3),IF(D8=D$4,D$3),IF(E8=E$4,E$3),IF(F8=F$4,F$3),IF(G8=G$4,G$3),IF(H8=H$4,H$3),IF(I8=I$4,I$3),IF(J8=J$4,J$3),IF(K8=K$4,K$3),IF(L8=L$4,L$3),IF(M8=M$4,M$3),IF(N8=N$4,N$3),IF(O8=O$4,O$3),IF(P8=P$4,P$3),IF(Q8=Q$4,Q$3)) -> 102
W9: =SUM(IF(B9=B$4,1),IF(C9=C$4,1),IF(D9=D$4,1),IF(E9=E$4,1),IF(F9=F$4,1),IF(G9=G$4,1),IF(H9=H$4,1),IF(I9=I$4,1),IF(J9=J$4,1),IF(K9=K$4,1),IF(L9=L$4,1),IF(M9=M$4,1),IF(N9=N$4,1),IF(O9=O$4,1),IF(P9=P$4,1),IF(Q9=Q$4,1)) -> 16 | X9: =SUM(IF(B9=B$4,B$3),IF(C9=C$4,C$3),IF(D9=D$4,D$3),IF(E9=E$4,E$3),IF(F9=F$4,F$3),IF(G9=G$4,G$3),IF(H9=H$4,H$3),IF(I9=I$4,I$3),IF(J9=J$4,J$3),IF(K9=K$4,K$3),IF(L9=L$4,L$3),IF(M9=M$4,M$3),IF(N9=N$4,N$3),IF(O9=O$4,O$3),IF(P9=P$4,P$3),IF(Q9=Q$4,Q$3)) -> 102
W10: =SUM(IF(B10=B$4,1),IF(C10=C$4,1),IF(D10=D$4,1),IF(E10=E$4,1),IF(F10=F$4,1),IF(G10=G$4,1),IF(H10=H$4,1),IF(I10=I$4,1),IF(J10=J$4,1),IF(K10=K$4,1),IF(L10=L$4,1),IF(M10=M$4,1),IF(N10=N$4,1),IF(O10=O$4,1),IF(P10=P$4,1),IF(Q10=Q$4,1)) -> 16 | X10: =SUM(IF(B10=B$4,B$3),IF(C10=C$4,C$3),IF(D10=D$4,D$3),IF(E10=E$4,E$3),IF(F10=F$4,F$3),IF(G10=G$4,G$3),IF(H10=H$4,H$3),IF(I10=I$4,I$3),IF(J10=J$4,J$3),IF(K10=K$4,K$3),IF(L10=L$4,L$3),IF(M10=M$4,M$3),IF(N10=N$4,N$3),IF(O10=O$4,O$3),IF(P10=P$4,P$3),IF(Q10=Q$4,Q$3)) -> 102
W11: =SUM(IF(B11=B$4,1),IF(C11=C$4,1),IF(D11=D$4,1),IF(E11=E$4,1),IF(F11=F$4,1),IF(G11=G$4,1),IF(H11=H$4,1),IF(I11=I$4,1),IF(J11=J$4,1),IF(K11=K$4,1),IF(L11=L$4,1),IF(M11=M$4,1),IF(N11=N$4,1),IF(O11=O$4,1),IF(P11=P$4,1),IF(Q11=Q$4,1)) -> 16 | X11: =SUM(IF(B11=B$4,B$3),IF(C11=C$4,C$3),IF(D11=D$4,D$3),IF(E11=E$4,E$3),IF(F11=F$4,F$3),IF(G11=G$4,G$3),IF(H11=H$4,H$3),IF(I11=I$4,I$3),IF(J11=J$4,J$3),IF(K11=K$4,K$3),IF(L11=L$4,L$3),IF(M11=M$4,M$3),IF(N11=N$4,N$3),IF(O11=O$4,O$3),IF(P11=P$4,P$3),IF(Q11=Q$4,Q$3)) -> 102
W12: =SUM(IF(B12=B$4,1),IF(C12=C$4,1),IF(D12=D$4,1),IF(E12=E$4,1),IF(F12=F$4,1),IF(G12=G$4,1),IF(H12=H$4,1),IF(I12=I$4,1),IF(J12=J$4,1),IF(K12=K$4,1),IF(L12=L$4,1),IF(M12=M$4,1),IF(N12=N$4,1),IF(O12=O$4,1),IF(P12=P$4,1),IF(Q12=Q$4,1)) -> 16 | X12: =SUM(IF(B12=B$4,B$3),IF(C12=C$4,C$3),IF(D12=D$4,D$3),IF(E12=E$4,E$3),IF(F12=F$4,F$3),IF(G12=G$4,G$3),IF(H12=H$4,H$3),IF(I12=I$4,I$3),IF(J12=J$4,J$3),IF(K12=K$4,K$3),IF(L12=L$4,L$3),IF(M12=M$4,M$3),IF(N12=N$4,N$3),IF(O12=O$4,O$3),IF(P12=P$4,P$3),IF(Q12=Q$4,Q$3)) -> 102
W13: =SUM(IF(B13=B$4,1),IF(C13=C$4,1),IF(D13=D$4,1),IF(E13=E$4,1),IF(F13=F$4,1),IF(G13=G$4,1),IF(H13=H$4,1),IF(I13=I$4,1),IF(J13=J$4,1),IF(K13=K$4,1),IF(L13=L$4,1),IF(M13=M$4,1),IF(N13=N$4,1),IF(O13=O$4,1),IF(P13=P$4,1),IF(Q13=Q$4,1)) -> 16 | X13: =SUM(IF(B13=B$4,B$3),IF(C13=C$4,C$3),IF(D13=D$4,D$3),IF(E13=E$4,E$3),IF(F13=F$4,F$3),IF(G13=G$4,G$3),IF(H13=H$4,H$3),IF(I13=I$4,I$3),IF(J13=J$4,J$3),IF(K13=K$4,K$3),IF(L13=L$4,L$3),IF(M13=M$4,M$3),IF(N13=N$4,N$3),IF(O13=O$4,O$3),IF(P13=P$4,P$3),IF(Q13=Q$4,Q$3)) -> 102
W14: =SUM(IF(B14=B$4,1),IF(C14=C$4,1),IF(D14=D$4,1),IF(E14=E$4,1),IF(F14=F$4,1),IF(G14=G$4,1),IF(H14=H$4,1),IF(I14=I$4,1),IF(J14=J$4,1),IF(K14=K$4,1),IF(L14=L$4,1),IF(M14=M$4,1),IF(N14=N$4,1),IF(O14=O$4,1),IF(P14=P$4,1),IF(Q14=Q$4,1)) -> 16 | X14: =SUM(IF(B14=B$4,B$3),IF(C14=C$4,C$3),IF(D14=D$4,D$3),IF(E14=E$4,E$3),IF(F14=F$4,F$3),IF(G14=G$4,G$3),IF(H14=H$4,H$3),IF(I14=I$4,I$3),IF(J14=J$4,J$3),IF(K14=K$4,K$3),IF(L14=L$4,L$3),IF(M14=M$4,M$3),IF(N14=N$4,N$3),IF(O14=O$4,O$3),IF(P14=P$4,P$3),IF(Q14=Q$4,Q$3)) -> 102
W15: =SUM(IF(B15=B$4,1),IF(C15=C$4,1),IF(D15=D$4,1),IF(E15=E$4,1),IF(F15=F$4,1),IF(G15=G$4,1),IF(H15=H$4,1),IF(I15=I$4,1),IF(J15=J$4,1),IF(K15=K$4,1),IF(L15=L$4,1),IF(M15=M$4,1),IF(N15=N$4,1),IF(O15=O$4,1),IF(P15=P$4,1),IF(Q15=Q$4,1)) -> 16 | X15: =SUM(IF(B15=B$4,B$3),IF(C15=C$4,C$3),IF(D15=D$4,D$3),IF(E15=E$4,E$3),IF(F15=F$4,F$3),IF(G15=G$4,G$3),IF(H15=H$4,H$3),IF(I15=I$4,I$3),IF(J15=J$4,J$3),IF(K15=K$4,K$3),IF(L15=L$4,L$3),IF(M15=M$4,M$3),IF(N15=N$4,N$3),IF(O15=O$4,O$3),IF(P15=P$4,P$3),IF(Q15=Q$4,Q$3)) -> 102
A16: DIVISION II
W17: =SUM(IF(B17=B$4,1),IF(C17=C$4,1),IF(D17=D$4,1),IF(E17=E$4,1),IF(F17=F$4,1),IF(G17=G$4,1),IF(H17=H$4,1),IF(I17=I$4,1),IF(J17=J$4,1),IF(K17=K$4,1),IF(L17=L$4,1),IF(M17=M$4,1),IF(N17=N$4,1),IF(O17=O$4,1),IF(P17=P$4,1),IF(Q17=Q$4,1)) -> 16 | X17: =SUM(IF(B17=B$4,B$3),IF(C17=C$4,C$3),IF(D17=D$4,D$3),IF(E17=E$4,E$3),IF(F17=F$4,F$3),IF(G17=G$4,G$3),IF(H17=H$4,H$3),IF(I17=I$4,I$3),IF(J17=J$4,J$3),IF(K17=K$4,K$3),IF(L17=L$4,L$3),IF(M17=M$4,M$3),IF(N17=N$4,N$3),IF(O17=O$4,O$3),IF(P17=P$4,P$3),IF(Q17=Q$4,Q$3)) -> 102
W18: =SUM(IF(B18=B$4,1),IF(C18=C$4,1),IF(D18=D$4,1),IF(E18=E$4,1),IF(F18=F$4,1),IF(G18=G$4,1),IF(H18=H$4,1),IF(I18=I$4,1),IF(J18=J$4,1),IF(K18=K$4,1),IF(L18=L$4,1),IF(M18=M$4,1),IF(N18=N$4,1),IF(O18=O$4,1),IF(P18=P$4,1),IF(Q18=Q$4,1)) -> 16 | X18: =SUM(IF(B18=B$4,B$3),IF(C18=C$4,C$3),IF(D18=D$4,D$3),IF(E18=E$4,E$3),IF(F18=F$4,F$3),IF(G18=G$4,G$3),IF(H18=H$4,H$3),IF(I18=I$4,I$3),IF(J18=J$4,J$3),IF(K18=K$4,K$3),IF(L18=L$4,L$3),IF(M18=M$4,M$3),IF(N18=N$4,N$3),IF(O18=O$4,O$3),IF(P18=P$4,P$3),IF(Q18=Q$4,Q$3)) -> 102
W19: =SUM(IF(B19=B$4,1),IF(C19=C$4,1),IF(D19=D$4,1),IF(E19=E$4,1),IF(F19=F$4,1),IF(G19=G$4,1),IF(H19=H$4,1),IF(I19=I$4,1),IF(J19=J$4,1),IF(K19=K$4,1),IF(L19=L$4,1),IF(M19=M$4,1),IF(N19=N$4,1),IF(O19=O$4,1),IF(P19=P$4,1),IF(Q19=Q$4,1)) -> 16 | X19: =SUM(IF(B19=B$4,B$3),IF(C19=C$4,C$3),IF(D19=D$4,D$3),IF(E19=E$4,E$3),IF(F19=F$4,F$3),IF(G19=G$4,G$3),IF(H19=H$4,H$3),IF(I19=I$4,I$3),IF(J19=J$4,J$3),IF(K19=K$4,K$3),IF(L19=L$4,L$3),IF(M19=M$4,M$3),IF(N19=N$4,N$3),IF(O19=O$4,O$3),IF(P19=P$4,P$3),IF(Q19=Q$4,Q$3)) -> 102
W20: =SUM(IF(B20=B$4,1),IF(C20=C$4,1),IF(D20=D$4,1),IF(E20=E$4,1),IF(F20=F$4,1),IF(G20=G$4,1),IF(H20=H$4,1),IF(I20=I$4,1),IF(J20=J$4,1),IF(K20=K$4,1),IF(L20=L$4,1),IF(M20=M$4,1),IF(N20=N$4,1),IF(O20=O$4,1),IF(P20=P$4,1),IF(Q20=Q$4,1)) -> 16 | X20: =SUM(IF(B20=B$4,B$3),IF(C20=C$4,C$3),IF(D20=D$4,D$3),IF(E20=E$4,E$3),IF(F20=F$4,F$3),IF(G20=G$4,G$3),IF(H20=H$4,H$3),IF(I20=I$4,I$3),IF(J20=J$4,J$3),IF(K20=K$4,K$3),IF(L20=L$4,L$3),IF(M20=M$4,M$3),IF(N20=N$4,N$3),IF(O20=O$4,O$3),IF(P20=P$4,P$3),IF(Q20=Q$4,Q$3)) -> 102
W21: =SUM(IF(B21=B$4,1),IF(C21=C$4,1),IF(D21=D$4,1),IF(E21=E$4,1),IF(F21=F$4,1),IF(G21=G$4,1),IF(H21=H$4,1),IF(I21=I$4,1),IF(J21=J$4,1),IF(K21=K$4,1),IF(L21=L$4,1),IF(M21=M$4,1),IF(N21=N$4,1),IF(O21=O$4,1),IF(P21=P$4,1),IF(Q21=Q$4,1)) -> 16 | X21: =SUM(IF(B21=B$4,B$3),IF(C21=C$4,C$3),IF(D21=D$4,D$3),IF(E21=E$4,E$3),IF(F21=F$4,F$3),IF(G21=G$4,G$3),IF(H21=H$4,H$3),IF(I21=I$4,I$3),IF(J21=J$4,J$3),IF(K21=K$4,K$3),IF(L21=L$4,L$3),IF(M21=M$4,M$3),IF(N21=N$4,N$3),IF(O21=O$4,O$3),IF(P21=P$4,P$3),IF(Q21=Q$4,Q$3)) -> 102
W22: =SUM(IF(B22=B$4,1),IF(C22=C$4,1),IF(D22=D$4,1),IF(E22=E$4,1),IF(F22=F$4,1),IF(G22=G$4,1),IF(H22=H$4,1),IF(I22=I$4,1),IF(J22=J$4,1),IF(K22=K$4,1),IF(L22=L$4,1),IF(M22=M$4,1),IF(N22=N$4,1),IF(O22=O$4,1),IF(P22=P$4,1),IF(Q22=Q$4,1)) -> 16 | X22: =SUM(IF(B22=B$4,B$3),IF(C22=C$4,C$3),IF(D22=D$4,D$3),IF(E22=E$4,E$3),IF(F22=F$4,F$3),IF(G22=G$4,G$3),IF(H22=H$4,H$3),IF(I22=I$4,I$3),IF(J22=J$4,J$3),IF(K22=K$4,K$3),IF(L22=L$4,L$3),IF(M22=M$4,M$3),IF(N22=N$4,N$3),IF(O22=O$4,O$3),IF(P22=P$4,P$3),IF(Q22=Q$4,Q$3)) -> 102
W23: =SUM(IF(B23=B$4,1),IF(C23=C$4,1),IF(D23=D$4,1),IF(E23=E$4,1),IF(F23=F$4,1),IF(G23=G$4,1),IF(H23=H$4,1),IF(I23=I$4,1),IF(J23=J$4,1),IF(K23=K$4,1),IF(L23=L$4,1),IF(M23=M$4,1),IF(N23=N$4,1),IF(O23=O$4,1),IF(P23=P$4,1),IF(Q23=Q$4,1)) -> 16 | X23: =SUM(IF(B23=B$4,B$3),IF(C23=C$4,C$3),IF(D23=D$4,D$3),IF(E23=E$4,E$3),IF(F23=F$4,F$3),IF(G23=G$4,G$3),IF(H23=H$4,H$3),IF(I23=I$4,I$3),IF(J23=J$4,J$3),IF(K23=K$4,K$3),IF(L23=L$4,L$3),IF(M23=M$4,M$3),IF(N23=N$4,N$3),IF(O23=O$4,O$3),IF(P23=P$4,P$3),IF(Q23=Q$4,Q$3)) -> 102
W24: =SUM(IF(B24=B$4,1),IF(C24=C$4,1),IF(D24=D$4,1),IF(E24=E$4,1),IF(F24=F$4,1),IF(G24=G$4,1),IF(H24=H$4,1),IF(I24=I$4,1),IF(J24=J$4,1),IF(K24=K$4,1),IF(L24=L$4,1),IF(M24=M$4,1),IF(N24=N$4,1),IF(O24=O$4,1),IF(P24=P$4,1),IF(Q24=Q$4,1)) -> 16 | X24: =SUM(IF(B24=B$4,B$3),IF(C24=C$4,C$3),IF(D24=D$4,D$3),IF(E24=E$4,E$3),IF(F24=F$4,F$3),IF(G24=G$4,G$3),IF(H24=H$4,H$3),IF(I24=I$4,I$3),IF(J24=J$4,J$3),IF(K24=K$4,K$3),IF(L24=L$4,L$3),IF(M24=M$4,M$3),IF(N24=N$4,N$3),IF(O24=O$4,O$3),IF(P24=P$4,P$3),IF(Q24=Q$4,Q$3)) -> 102
W25: =SUM(IF(B25=B$4,1),IF(C25=C$4,1),IF(D25=D$4,1),IF(E25=E$4,1),IF(F25=F$4,1),IF(G25=G$4,1),IF(H25=H$4,1),IF(I25=I$4,1),IF(J25=J$4,1),IF(K25=K$4,1),IF(L25=L$4,1),IF(M25=M$4,1),IF(N25=N$4,1),IF(O25=O$4,1),IF(P25=P$4,1),IF(Q25=Q$4,1)) -> 16 | X25: =SUM(IF(B25=B$4,B$3),IF(C25=C$4,C$3),IF(D25=D$4,D$3),IF(E25=E$4,E$3),IF(F25=F$4,F$3),IF(G25=G$4,G$3),IF(H25=H$4,H$3),IF(I25=I$4,I$3),IF(J25=J$4,J$3),IF(K25=K$4,K$3),IF(L25=L$4,L$3),IF(M25=M$4,M$3),IF(N25=N$4,N$3),IF(O25=O$4,O$3),IF(P25=P$4,P$3),IF(Q25=Q$4,Q$3)) -> 102
W26: =SUM(IF(B26=B$4,1),IF(C26=C$4,1),IF(D26=D$4,1),IF(E26=E$4,1),IF(F26=F$4,1),IF(G26=G$4,1),IF(H26=H$4,1),IF(I26=I$4,1),IF(J26=J$4,1),IF(K26=K$4,1),IF(L26=L$4,1),IF(M26=M$4,1),IF(N26=N$4,1),IF(O26=O$4,1),IF(P26=P$4,1),IF(Q26=Q$4,1)) -> 16 | X26: =SUM(IF(B26=B$4,B$3),IF(C26=C$4,C$3),IF(D26=D$4,D$3),IF(E26=E$4,E$3),IF(F26=F$4,F$3),IF(G26=G$4,G$3),IF(H26=H$4,H$3),IF(I26=I$4,I$3),IF(J26=J$4,J$3),IF(K26=K$4,K$3),IF(L26=L$4,L$3),IF(M26=M$4,M$3),IF(N26=N$4,N$3),IF(O26=O$4,O$3),IF(P26=P$4,P$3),IF(Q26=Q$4,Q$3)) -> 102
A27: DIVISION III
W28: =SUM(IF(B28=B$4,1),IF(C28=C$4,1),IF(D28=D$4,1),IF(E28=E$4,1),IF(F28=F$4,1),IF(G28=G$4,1),IF(H28=H$4,1),IF(I28=I$4,1),IF(J28=J$4,1),IF(K28=K$4,1),IF(L28=L$4,1),IF(M28=M$4,1),IF(N28=N$4,1),IF(O28=O$4,1),IF(P28=P$4,1),IF(Q28=Q$4,1)) -> 16 | X28: =SUM(IF(B28=B$4,B$3),IF(C28=C$4,C$3),IF(D28=D$4,D$3),IF(E28=E$4,E$3),IF(F28=F$4,F$3),IF(G28=G$4,G$3),IF(H28=H$4,H$3),IF(I28=I$4,I$3),IF(J28=J$4,J$3),IF(K28=K$4,K$3),IF(L28=L$4,L$3),IF(M28=M$4,M$3),IF(N28=N$4,N$3),IF(O28=O$4,O$3),IF(P28=P$4,P$3),IF(Q28=Q$4,Q$3)) -> 102
W29: =SUM(IF(B29=B$4,1),IF(C29=C$4,1),IF(D29=D$4,1),IF(E29=E$4,1),IF(F29=F$4,1),IF(G29=G$4,1),IF(H29=H$4,1),IF(I29=I$4,1),IF(J29=J$4,1),IF(K29=K$4,1),IF(L29=L$4,1),IF(M29=M$4,1),IF(N29=N$4,1),IF(O29=O$4,1),IF(P29=P$4,1),IF(Q29=Q$4,1)) -> 16 | X29: =SUM(IF(B29=B$4,B$3),IF(C29=C$4,C$3),IF(D29=D$4,D$3),IF(E29=E$4,E$3),IF(F29=F$4,F$3),IF(G29=G$4,G$3),IF(H29=H$4,H$3),IF(I29=I$4,I$3),IF(J29=J$4,J$3),IF(K29=K$4,K$3),IF(L29=L$4,L$3),IF(M29=M$4,M$3),IF(N29=N$4,N$3),IF(O29=O$4,O$3),IF(P29=P$4,P$3),IF(Q29=Q$4,Q$3)) -> 102
W30: =SUM(IF(B30=B$4,1),IF(C30=C$4,1),IF(D30=D$4,1),IF(E30=E$4,1),IF(F30=F$4,1),IF(G30=G$4,1),IF(H30=H$4,1),IF(I30=I$4,1),IF(J30=J$4,1),IF(K30=K$4,1),IF(L30=L$4,1),IF(M30=M$4,1),IF(N30=N$4,1),IF(O30=O$4,1),IF(P30=P$4,1),IF(Q30=Q$4,1)) -> 16 | X30: =SUM(IF(B30=B$4,B$3),IF(C30=C$4,C$3),IF(D30=D$4,D$3),IF(E30=E$4,E$3),IF(F30=F$4,F$3),IF(G30=G$4,G$3),IF(H30=H$4,H$3),IF(I30=I$4,I$3),IF(J30=J$4,J$3),IF(K30=K$4,K$3),IF(L30=L$4,L$3),IF(M30=M$4,M$3),IF(N30=N$4,N$3),IF(O30=O$4,O$3),IF(P30=P$4,P$3),IF(Q30=Q$4,Q$3)) -> 102
W31: =SUM(IF(B31=B$4,1),IF(C31=C$4,1),IF(D31=D$4,1),IF(E31=E$4,1),IF(F31=F$4,1),IF(G31=G$4,1),IF(H31=H$4,1),IF(I31=I$4,1),IF(J31=J$4,1),IF(K31=K$4,1),IF(L31=L$4,1),IF(M31=M$4,1),IF(N31=N$4,1),IF(O31=O$4,1),IF(P31=P$4,1),IF(Q31=Q$4,1)) -> 16 | X31: =SUM(IF(B31=B$4,B$3),IF(C31=C$4,C$3),IF(D31=D$4,D$3),IF(E31=E$4,E$3),IF(F31=F$4,F$3),IF(G31=G$4,G$3),IF(H31=H$4,H$3),IF(I31=I$4,I$3),IF(J31=J$4,J$3),IF(K31=K$4,K$3),IF(L31=L$4,L$3),IF(M31=M$4,M$3),IF(N31=N$4,N$3),IF(O31=O$4,O$3),IF(P31=P$4,P$3),IF(Q31=Q$4,Q$3)) -> 102
W32: =SUM(IF(B32=B$4,1),IF(C32=C$4,1),IF(D32=D$4,1),IF(E32=E$4,1),IF(F32=F$4,1),IF(G32=G$4,1),IF(H32=H$4,1),IF(I32=I$4,1),IF(J32=J$4,1),IF(K32=K$4,1),IF(L32=L$4,1),IF(M32=M$4,1),IF(N32=N$4,1),IF(O32=O$4,1),IF(P32=P$4,1),IF(Q32=Q$4,1)) -> 16 | X32: =SUM(IF(B32=B$4,B$3),IF(C32=C$4,C$3),IF(D32=D$4,D$3),IF(E32=E$4,E$3),IF(F32=F$4,F$3),IF(G32=G$4,G$3),IF(H32=H$4,H$3),IF(I32=I$4,I$3),IF(J32=J$4,J$3),IF(K32=K$4,K$3),IF(L32=L$4,L$3),IF(M32=M$4,M$3),IF(N32=N$4,N$3),IF(O32=O$4,O$3),IF(P32=P$4,P$3),IF(Q32=Q$4,Q$3)) -> 102
W33: =SUM(IF(B33=B$4,1),IF(C33=C$4,1),IF(D33=D$4,1),IF(E33=E$4,1),IF(F33=F$4,1),IF(G33=G$4,1),IF(H33=H$4,1),IF(I33=I$4,1),IF(J33=J$4,1),IF(K33=K$4,1),IF(L33=L$4,1),IF(M33=M$4,1),IF(N33=N$4,1),IF(O33=O$4,1),IF(P33=P$4,1),IF(Q33=Q$4,1)) -> 16 | X33: =SUM(IF(B33=B$4,B$3),IF(C33=C$4,C$3),IF(D33=D$4,D$3),IF(E33=E$4,E$3),IF(F33=F$4,F$3),IF(G33=G$4,G$3),IF(H33=H$4,H$3),IF(I33=I$4,I$3),IF(J33=J$4,J$3),IF(K33=K$4,K$3),IF(L33=L$4,L$3),IF(M33=M$4,M$3),IF(N33=N$4,N$3),IF(O33=O$4,O$3),IF(P33=P$4,P$3),IF(Q33=Q$4,Q$3)) -> 102
W34: =SUM(IF(B34=B$4,1),IF(C34=C$4,1),IF(D34=D$4,1),IF(E34=E$4,1),IF(F34=F$4,1),IF(G34=G$4,1),IF(H34=H$4,1),IF(I34=I$4,1),IF(J34=J$4,1),IF(K34=K$4,1),IF(L34=L$4,1),IF(M34=M$4,1),IF(N34=N$4,1),IF(O34=O$4,1),IF(P34=P$4,1),IF(Q34=Q$4,1)) -> 16 | X34: =SUM(IF(B34=B$4,B$3),IF(C34=C$4,C$3),IF(D34=D$4,D$3),IF(E34=E$4,E$3),IF(F34=F$4,F$3),IF(G34=G$4,G$3),IF(H34=H$4,H$3),IF(I34=I$4,I$3),IF(J34=J$4,J$3),IF(K34=K$4,K$3),IF(L34=L$4,L$3),IF(M34=M$4,M$3),IF(N34=N$4,N$3),IF(O34=O$4,O$3),IF(P34=P$4,P$3),IF(Q34=Q$4,Q$3)) -> 102
W35: =SUM(IF(B35=B$4,1),IF(C35=C$4,1),IF(D35=D$4,1),IF(E35=E$4,1),IF(F35=F$4,1),IF(G35=G$4,1),IF(H35=H$4,1),IF(I35=I$4,1),IF(J35=J$4,1),IF(K35=K$4,1),IF(L35=L$4,1),IF(M35=M$4,1),IF(N35=N$4,1),IF(O35=O$4,1),IF(P35=P$4,1),IF(Q35=Q$4,1)) -> 16 | X35: =SUM(IF(B35=B$4,B$3),IF(C35=C$4,C$3),IF(D35=D$4,D$3),IF(E35=E$4,E$3),IF(F35=F$4,F$3),IF(G35=G$4,G$3),IF(H35=H$4,H$3),IF(I35=I$4,I$3),IF(J35=J$4,J$3),IF(K35=K$4,K$3),IF(L35=L$4,L$3),IF(M35=M$4,M$3),IF(N35=N$4,N$3),IF(O35=O$4,O$3),IF(P35=P$4,P$3),IF(Q35=Q$4,Q$3)) -> 102
W36: =SUM(IF(B36=B$4,1),IF(C36=C$4,1),IF(D36=D$4,1),IF(E36=E$4,1),IF(F36=F$4,1),IF(G36=G$4,1),IF(H36=H$4,1),IF(I36=I$4,1),IF(J36=J$4,1),IF(K36=K$4,1),IF(L36=L$4,1),IF(M36=M$4,1),IF(N36=N$4,1),IF(O36=O$4,1),IF(P36=P$4,1),IF(Q36=Q$4,1)) -> 16 | X36: =SUM(IF(B36=B$4,B$3),IF(C36=C$4,C$3),IF(D36=D$4,D$3),IF(E36=E$4,E$3),IF(F36=F$4,F$3),IF(G36=G$4,G$3),IF(H36=H$4,H$3),IF(I36=I$4,I$3),IF(J36=J$4,J$3),IF(K36=K$4,K$3),IF(L36=L$4,L$3),IF(M36=M$4,M$3),IF(N36=N$4,N$3),IF(O36=O$4,O$3),IF(P36=P$4,P$3),IF(Q36=Q$4,Q$3)) -> 102
W37: =SUM(IF(B37=B$4,1),IF(C37=C$4,1),IF(D37=D$4,1),IF(E37=E$4,1),IF(F37=F$4,1),IF(G37=G$4,1),IF(H37=H$4,1),IF(I37=I$4,1),IF(J37=J$4,1),IF(K37=K$4,1),IF(L37=L$4,1),IF(M37=M$4,1),IF(N37=N$4,1),IF(O37=O$4,1),IF(P37=P$4,1),IF(Q37=Q$4,1)) -> 16 | X37: =SUM(IF(B37=B$4,B$3),IF(C37=C$4,C$3),IF(D37=D$4,D$3),IF(E37=E$4,E$3),IF(F37=F$4,F$3),IF(G37=G$4,G$3),IF(H37=H$4,H$3),IF(I37=I$4,I$3),IF(J37=J$4,J$3),IF(K37=K$4,K$3),IF(L37=L$4,L$3),IF(M37=M$4,M$3),IF(N37=N$4,N$3),IF(O37=O$4,O$3),IF(P37=P$4,P$3),IF(Q37=Q$4,Q$3)) -> 102
A38: DIVISION IV
W39: =SUM(IF(B39=B$4,1),IF(C39=C$4,1),IF(D39=D$4,1),IF(E39=E$4,1),IF(F39=F$4,1),IF(G39=G$4,1),IF(H39=H$4,1),IF(I39=I$4,1),IF(J39=J$4,1),IF(K39=K$4,1),IF(L39=L$4,1),IF(M39=M$4,1),IF(N39=N$4,1),IF(O39=O$4,1),IF(P39=P$4,1),IF(Q39=Q$4,1)) -> 16 | X39: =SUM(IF(B39=B$4,B$3),IF(C39=C$4,C$3),IF(D39=D$4,D$3),IF(E39=E$4,E$3),IF(F39=F$4,F$3),IF(G39=G$4,G$3),IF(H39=H$4,H$3),IF(I39=I$4,I$3),IF(J39=J$4,J$3),IF(K39=K$4,K$3),IF(L39=L$4,L$3),IF(M39=M$4,M$3),IF(N39=N$4,N$3),IF(O39=O$4,O$3),IF(P39=P$4,P$3),IF(Q39=Q$4,Q$3)) -> 102
W40: =SUM(IF(B40=B$4,1),IF(C40=C$4,1),IF(D40=D$4,1),IF(E40=E$4,1),IF(F40=F$4,1),IF(G40=G$4,1),IF(H40=H$4,1),IF(I40=I$4,1),IF(J40=J$4,1),IF(K40=K$4,1),IF(L40=L$4,1),IF(M40=M$4,1),IF(N40=N$4,1),IF(O40=O$4,1),IF(P40=P$4,1),IF(Q40=Q$4,1)) -> 16 | X40: =SUM(IF(B40=B$4,B$3),IF(C40=C$4,C$3),IF(D40=D$4,D$3),IF(E40=E$4,E$3),IF(F40=F$4,F$3),IF(G40=G$4,G$3),IF(H40=H$4,H$3),IF(I40=I$4,I$3),IF(J40=J$4,J$3),IF(K40=K$4,K$3),IF(L40=L$4,L$3),IF(M40=M$4,M$3),IF(N40=N$4,N$3),IF(O40=O$4,O$3),IF(P40=P$4,P$3),IF(Q40=Q$4,Q$3)) -> 102
W41: =SUM(IF(B41=B$4,1),IF(C41=C$4,1),IF(D41=D$4,1),IF(E41=E$4,1),IF(F41=F$4,1),IF(G41=G$4,1),IF(H41=H$4,1),IF(I41=I$4,1),IF(J41=J$4,1),IF(K41=K$4,1),IF(L41=L$4,1),IF(M41=M$4,1),IF(N41=N$4,1),IF(O41=O$4,1),IF(P41=P$4,1),IF(Q41=Q$4,1)) -> 16 | X41: =SUM(IF(B41=B$4,B$3),IF(C41=C$4,C$3),IF(D41=D$4,D$3),IF(E41=E$4,E$3),IF(F41=F$4,F$3),IF(G41=G$4,G$3),IF(H41=H$4,H$3),IF(I41=I$4,I$3),IF(J41=J$4,J$3),IF(K41=K$4,K$3),IF(L41=L$4,L$3),IF(M41=M$4,M$3),IF(N41=N$4,N$3),IF(O41=O$4,O$3),IF(P41=P$4,P$3),IF(Q41=Q$4,Q$3)) -> 102
W42: =SUM(IF(B42=B$4,1),IF(C42=C$4,1),IF(D42=D$4,1),IF(E42=E$4,1),IF(F42=F$4,1),IF(G42=G$4,1),IF(H42=H$4,1),IF(I42=I$4,1),IF(J42=J$4,1),IF(K42=K$4,1),IF(L42=L$4,1),IF(M42=M$4,1),IF(N42=N$4,1),IF(O42=O$4,1),IF(P42=P$4,1),IF(Q42=Q$4,1)) -> 16 | X42: =SUM(IF(B42=B$4,B$3),IF(C42=C$4,C$3),IF(D42=D$4,D$3),IF(E42=E$4,E$3),IF(F42=F$4,F$3),IF(G42=G$4,G$3),IF(H42=H$4,H$3),IF(I42=I$4,I$3),IF(J42=J$4,J$3),IF(K42=K$4,K$3),IF(L42=L$4,L$3),IF(M42=M$4,M$3),IF(N42=N$4,N$3),IF(O42=O$4,O$3),IF(P42=P$4,P$3),IF(Q42=Q$4,Q$3)) -> 102
W43: =SUM(IF(B43=B$4,1),IF(C43=C$4,1),IF(D43=D$4,1),IF(E43=E$4,1),IF(F43=F$4,1),IF(G43=G$4,1),IF(H43=H$4,1),IF(I43=I$4,1),IF(J43=J$4,1),IF(K43=K$4,1),IF(L43=L$4,1),IF(M43=M$4,1),IF(N43=N$4,1),IF(O43=O$4,1),IF(P43=P$4,1),IF(Q43=Q$4,1)) -> 16 | X43: =SUM(IF(B43=B$4,B$3),IF(C43=C$4,C$3),IF(D43=D$4,D$3),IF(E43=E$4,E$3),IF(F43=F$4,F$3),IF(G43=G$4,G$3),IF(H43=H$4,H$3),IF(I43=I$4,I$3),IF(J43=J$4,J$3),IF(K43=K$4,K$3),IF(L43=L$4,L$3),IF(M43=M$4,M$3),IF(N43=N$4,N$3),IF(O43=O$4,O$3),IF(P43=P$4,P$3),IF(Q43=Q$4,Q$3)) -> 102
W44: =SUM(IF(B44=B$4,1),IF(C44=C$4,1),IF(D44=D$4,1),IF(E44=E$4,1),IF(F44=F$4,1),IF(G44=G$4,1),IF(H44=H$4,1),IF(I44=I$4,1),IF(J44=J$4,1),IF(K44=K$4,1),IF(L44=L$4,1),IF(M44=M$4,1),IF(N44=N$4,1),IF(O44=O$4,1),IF(P44=P$4,1),IF(Q44=Q$4,1)) -> 16 | X44: =SUM(IF(B44=B$4,B$3),IF(C44=C$4,C$3),IF(D44=D$4,D$3),IF(E44=E$4,E$3),IF(F44=F$4,F$3),IF(G44=G$4,G$3),IF(H44=H$4,H$3),IF(I44=I$4,I$3),IF(J44=J$4,J$3),IF(K44=K$4,K$3),IF(L44=L$4,L$3),IF(M44=M$4,M$3),IF(N44=N$4,N$3),IF(O44=O$4,O$3),IF(P44=P$4,P$3),IF(Q44=Q$4,Q$3)) -> 102
W45: =SUM(IF(B45=B$4,1),IF(C45=C$4,1),IF(D45=D$4,1),IF(E45=E$4,1),IF(F45=F$4,1),IF(G45=G$4,1),IF(H45=H$4,1),IF(I45=I$4,1),IF(J45=J$4,1),IF(K45=K$4,1),IF(L45=L$4,1),IF(M45=M$4,1),IF(N45=N$4,1),IF(O45=O$4,1),IF(P45=P$4,1),IF(Q45=Q$4,1)) -> 16 | X45: =SUM(IF(B45=B$4,B$3),IF(C45=C$4,C$3),IF(D45=D$4,D$3),IF(E45=E$4,E$3),IF(F45=F$4,F$3),IF(G45=G$4,G$3),IF(H45=H$4,H$3),IF(I45=I$4,I$3),IF(J45=J$4,J$3),IF(K45=K$4,K$3),IF(L45=L$4,L$3),IF(M45=M$4,M$3),IF(N45=N$4,N$3),IF(O45=O$4,O$3),IF(P45=P$4,P$3),IF(Q45=Q$4,Q$3)) -> 102
W46: =SUM(IF(B46=B$4,1),IF(C46=C$4,1),IF(D46=D$4,1),IF(E46=E$4,1),IF(F46=F$4,1),IF(G46=G$4,1),IF(H46=H$4,1),IF(I46=I$4,1),IF(J46=J$4,1),IF(K46=K$4,1),IF(L46=L$4,1),IF(M46=M$4,1),IF(N46=N$4,1),IF(O46=O$4,1),IF(P46=P$4,1),IF(Q46=Q$4,1)) -> 16 | X46: =SUM(IF(B46=B$4,B$3),IF(C46=C$4,C$3),IF(D46=D$4,D$3),IF(E46=E$4,E$3),IF(F46=F$4,F$3),IF(G46=G$4,G$3),IF(H46=H$4,H$3),IF(I46=I$4,I$3),IF(J46=J$4,J$3),IF(K46=K$4,K$3),IF(L46=L$4,L$3),IF(M46=M$4,M$3),IF(N46=N$4,N$3),IF(O46=O$4,O$3),IF(P46=P$4,P$3),IF(Q46=Q$4,Q$3)) -> 102
W47: =SUM(IF(B47=B$4,1),IF(C47=C$4,1),IF(D47=D$4,1),IF(E47=E$4,1),IF(F47=F$4,1),IF(G47=G$4,1),IF(H47=H$4,1),IF(I47=I$4,1),IF(J47=J$4,1),IF(K47=K$4,1),IF(L47=L$4,1),IF(M47=M$4,1),IF(N47=N$4,1),IF(O47=O$4,1),IF(P47=P$4,1),IF(Q47=Q$4,1)) -> 16 | X47: =SUM(IF(B47=B$4,B$3),IF(C47=C$4,C$3),IF(D47=D$4,D$3),IF(E47=E$4,E$3),IF(F47=F$4,F$3),IF(G47=G$4,G$3),IF(H47=H$4,H$3),IF(I47=I$4,I$3),IF(J47=J$4,J$3),IF(K47=K$4,K$3),IF(L47=L$4,L$3),IF(M47=M$4,M$3),IF(N47=N$4,N$3),IF(O47=O$4,O$3),IF(P47=P$4,P$3),IF(Q47=Q$4,Q$3)) -> 102
W48: =SUM(IF(B48=B$4,1),IF(C48=C$4,1),IF(D48=D$4,1),IF(E48=E$4,1),IF(F48=F$4,1),IF(G48=G$4,1),IF(H48=H$4,1),IF(I48=I$4,1),IF(J48=J$4,1),IF(K48=K$4,1),IF(L48=L$4,1),IF(M48=M$4,1),IF(N48=N$4,1),IF(O48=O$4,1),IF(P48=P$4,1),IF(Q48=Q$4,1)) -> 16 | X48: =SUM(IF(B48=B$4,B$3),IF(C48=C$4,C$3),IF(D48=D$4,D$3),IF(E48=E$4,E$3),IF(F48=F$4,F$3),IF(G48=G$4,G$3),IF(H48=H$4,H$3),IF(I48=I$4,I$3),IF(J48=J$4,J$3),IF(K48=K$4,K$3),IF(L48=L$4,L$3),IF(M48=M$4,M$3),IF(N48=N$4,N$3),IF(O48=O$4,O$3),IF(P48=P$4,P$3),IF(Q48=Q$4,Q$3)) -> 102

Sheet WK3
A1: PARTICIPANTS | B1: MIA | C1: ATL | D1: GB | E1: HOU | F1: CIN | G1: PIT | H1: LAR | I1: NYJ | J1: IND | K1: LV | L1: DEN | M1: NO | N1: DAL | O1: AZ | P1: KC | Q1: DET | V1: AWAY | W1: TOTAL | X1: TOTAL
A2: HOME | B2: BUF | C2: CAR | D2: CLE | E2: JAC | F2: MIN | G2: NE | H2: PHI | I2: TB | J2: TEN | K2: WAS | L2: LAC | M2: SEA | N2: CHI | O2: SF | P2: NYG | Q2: BAL | V2: HOME | W2: WINS | X2: PTS
A3: POINT VALUE | B3: 10 | C3: 10 | D3: 3 | E3: 10 | F3: 3 | G3: 5 | H3: 5 | I3: 3 | J3: 10 | K3: 3 | L3: 10 | M3: 5 | N3: 5 | O3: 10 | P3: 3 | Q3: 3 | V3: POINT VALUE | W3: 16 | X3: =SUM(B3:Q3) -> 98
A4: WINNER | R4: N/A | S4: N/A | T4: N/A | U4: N/A | V4: WINNER
A5: DIVISION I
W6: =SUM(IF(B6=B$4,1),IF(C6=C$4,1),IF(D6=D$4,1),IF(E6=E$4,1),IF(F6=F$4,1),IF(G6=G$4,1),IF(H6=H$4,1),IF(I6=I$4,1),IF(J6=J$4,1),IF(K6=K$4,1),IF(L6=L$4,1),IF(M6=M$4,1),IF(N6=N$4,1),IF(O6=O$4,1),IF(P6=P$4,1),IF(Q6=Q$4,1)) -> 16 | X6: =SUM(IF(B6=B$4,B$3),IF(C6=C$4,C$3),IF(D6=D$4,D$3),IF(E6=E$4,E$3),IF(F6=F$4,F$3),IF(G6=G$4,G$3),IF(H6=H$4,H$3),IF(I6=I$4,I$3),IF(J6=J$4,J$3),IF(K6=K$4,K$3),IF(L6=L$4,L$3),IF(M6=M$4,M$3),IF(N6=N$4,N$3),IF(O6=O$4,O$3),IF(P6=P$4,P$3),IF(Q6=Q$4,Q$3)) -> 98
W7: =SUM(IF(B7=B$4,1),IF(C7=C$4,1),IF(D7=D$4,1),IF(E7=E$4,1),IF(F7=F$4,1),IF(G7=G$4,1),IF(H7=H$4,1),IF(I7=I$4,1),IF(J7=J$4,1),IF(K7=K$4,1),IF(L7=L$4,1),IF(M7=M$4,1),IF(N7=N$4,1),IF(O7=O$4,1),IF(P7=P$4,1),IF(Q7=Q$4,1)) -> 16 | X7: =SUM(IF(B7=B$4,B$3),IF(C7=C$4,C$3),IF(D7=D$4,D$3),IF(E7=E$4,E$3),IF(F7=F$4,F$3),IF(G7=G$4,G$3),IF(H7=H$4,H$3),IF(I7=I$4,I$3),IF(J7=J$4,J$3),IF(K7=K$4,K$3),IF(L7=L$4,L$3),IF(M7=M$4,M$3),IF(N7=N$4,N$3),IF(O7=O$4,O$3),IF(P7=P$4,P$3),IF(Q7=Q$4,Q$3)) -> 98
W8: =SUM(IF(B8=B$4,1),IF(C8=C$4,1),IF(D8=D$4,1),IF(E8=E$4,1),IF(F8=F$4,1),IF(G8=G$4,1),IF(H8=H$4,1),IF(I8=I$4,1),IF(J8=J$4,1),IF(K8=K$4,1),IF(L8=L$4,1),IF(M8=M$4,1),IF(N8=N$4,1),IF(O8=O$4,1),IF(P8=P$4,1),IF(Q8=Q$4,1)) -> 16 | X8: =SUM(IF(B8=B$4,B$3),IF(C8=C$4,C$3),IF(D8=D$4,D$3),IF(E8=E$4,E$3),IF(F8=F$4,F$3),IF(G8=G$4,G$3),IF(H8=H$4,H$3),IF(I8=I$4,I$3),IF(J8=J$4,J$3),IF(K8=K$4,K$3),IF(L8=L$4,L$3),IF(M8=M$4,M$3),IF(N8=N$4,N$3),IF(O8=O$4,O$3),IF(P8=P$4,P$3),IF(Q8=Q$4,Q$3)) -> 98
W9: =SUM(IF(B9=B$4,1),IF(C9=C$4,1),IF(D9=D$4,1),IF(E9=E$4,1),IF(F9=F$4,1),IF(G9=G$4,1),IF(H9=H$4,1),IF(I9=I$4,1),IF(J9=J$4,1),IF(K9=K$4,1),IF(L9=L$4,1),IF(M9=M$4,1),IF(N9=N$4,1),IF(O9=O$4,1),IF(P9=P$4,1),IF(Q9=Q$4,1)) -> 16 | X9: =SUM(IF(B9=B$4,B$3),IF(C9=C$4,C$3),IF(D9=D$4,D$3),IF(E9=E$4,E$3),IF(F9=F$4,F$3),IF(G9=G$4,G$3),IF(H9=H$4,H$3),IF(I9=I$4,I$3),IF(J9=J$4,J$3),IF(K9=K$4,K$3),IF(L9=L$4,L$3),IF(M9=M$4,M$3),IF(N9=N$4,N$3),IF(O9=O$4,O$3),IF(P9=P$4,P$3),IF(Q9=Q$4,Q$3)) -> 98
W10: =SUM(IF(B10=B$4,1),IF(C10=C$4,1),IF(D10=D$4,1),IF(E10=E$4,1),IF(F10=F$4,1),IF(G10=G$4,1),IF(H10=H$4,1),IF(I10=I$4,1),IF(J10=J$4,1),IF(K10=K$4,1),IF(L10=L$4,1),IF(M10=M$4,1),IF(N10=N$4,1),IF(O10=O$4,1),IF(P10=P$4,1),IF(Q10=Q$4,1)) -> 16 | X10: =SUM(IF(B10=B$4,B$3),IF(C10=C$4,C$3),IF(D10=D$4,D$3),IF(E10=E$4,E$3),IF(F10=F$4,F$3),IF(G10=G$4,G$3),IF(H10=H$4,H$3),IF(I10=I$4,I$3),IF(J10=J$4,J$3),IF(K10=K$4,K$3),IF(L10=L$4,L$3),IF(M10=M$4,M$3),IF(N10=N$4,N$3),IF(O10=O$4,O$3),IF(P10=P$4,P$3),IF(Q10=Q$4,Q$3)) -> 98
W11: =SUM(IF(B11=B$4,1),IF(C11=C$4,1),IF(D11=D$4,1),IF(E11=E$4,1),IF(F11=F$4,1),IF(G11=G$4,1),IF(H11=H$4,1),IF(I11=I$4,1),IF(J11=J$4,1),IF(K11=K$4,1),IF(L11=L$4,1),IF(M11=M$4,1),IF(N11=N$4,1),IF(O11=O$4,1),IF(P11=P$4,1),IF(Q11=Q$4,1)) -> 16 | X11: =SUM(IF(B11=B$4,B$3),IF(C11=C$4,C$3),IF(D11=D$4,D$3),IF(E11=E$4,E$3),IF(F11=F$4,F$3),IF(G11=G$4,G$3),IF(H11=H$4,H$3),IF(I11=I$4,I$3),IF(J11=J$4,J$3),IF(K11=K$4,K$3),IF(L11=L$4,L$3),IF(M11=M$4,M$3),IF(N11=N$4,N$3),IF(O11=O$4,O$3),IF(P11=P$4,P$3),IF(Q11=Q$4,Q$3)) -> 98
W12: =SUM(IF(B12=B$4,1),IF(C12=C$4,1),IF(D12=D$4,1),IF(E12=E$4,1),IF(F12=F$4,1),IF(G12=G$4,1),IF(H12=H$4,1),IF(I12=I$4,1),IF(J12=J$4,1),IF(K12=K$4,1),IF(L12=L$4,1),IF(M12=M$4,1),IF(N12=N$4,1),IF(O12=O$4,1),IF(P12=P$4,1),IF(Q12=Q$4,1)) -> 16 | X12: =SUM(IF(B12=B$4,B$3),IF(C12=C$4,C$3),IF(D12=D$4,D$3),IF(E12=E$4,E$3),IF(F12=F$4,F$3),IF(G12=G$4,G$3),IF(H12=H$4,H$3),IF(I12=I$4,I$3),IF(J12=J$4,J$3),IF(K12=K$4,K$3),IF(L12=L$4,L$3),IF(M12=M$4,M$3),IF(N12=N$4,N$3),IF(O12=O$4,O$3),IF(P12=P$4,P$3),IF(Q12=Q$4,Q$3)) -> 98
W13: =SUM(IF(B13=B$4,1),IF(C13=C$4,1),IF(D13=D$4,1),IF(E13=E$4,1),IF(F13=F$4,1),IF(G13=G$4,1),IF(H13=H$4,1),IF(I13=I$4,1),IF(J13=J$4,1),IF(K13=K$4,1),IF(L13=L$4,1),IF(M13=M$4,1),IF(N13=N$4,1),IF(O13=O$4,1),IF(P13=P$4,1),IF(Q13=Q$4,1)) -> 16 | X13: =SUM(IF(B13=B$4,B$3),IF(C13=C$4,C$3),IF(D13=D$4,D$3),IF(E13=E$4,E$3),IF(F13=F$4,F$3),IF(G13=G$4,G$3),IF(H13=H$4,H$3),IF(I13=I$4,I$3),IF(J13=J$4,J$3),IF(K13=K$4,K$3),IF(L13=L$4,L$3),IF(M13=M$4,M$3),IF(N13=N$4,N$3),IF(O13=O$4,O$3),IF(P13=P$4,P$3),IF(Q13=Q$4,Q$3)) -> 98
W14: =SUM(IF(B14=B$4,1),IF(C14=C$4,1),IF(D14=D$4,1),IF(E14=E$4,1),IF(F14=F$4,1),IF(G14=G$4,1),IF(H14=H$4,1),IF(I14=I$4,1),IF(J14=J$4,1),IF(K14=K$4,1),IF(L14=L$4,1),IF(M14=M$4,1),IF(N14=N$4,1),IF(O14=O$4,1),IF(P14=P$4,1),IF(Q14=Q$4,1)) -> 16 | X14: =SUM(IF(B14=B$4,B$3),IF(C14=C$4,C$3),IF(D14=D$4,D$3),IF(E14=E$4,E$3),IF(F14=F$4,F$3),IF(G14=G$4,G$3),IF(H14=H$4,H$3),IF(I14=I$4,I$3),IF(J14=J$4,J$3),IF(K14=K$4,K$3),IF(L14=L$4,L$3),IF(M14=M$4,M$3),IF(N14=N$4,N$3),IF(O14=O$4,O$3),IF(P14=P$4,P$3),IF(Q14=Q$4,Q$3)) -> 98
W15: =SUM(IF(B15=B$4,1),IF(C15=C$4,1),IF(D15=D$4,1),IF(E15=E$4,1),IF(F15=F$4,1),IF(G15=G$4,1),IF(H15=H$4,1),IF(I15=I$4,1),IF(J15=J$4,1),IF(K15=K$4,1),IF(L15=L$4,1),IF(M15=M$4,1),IF(N15=N$4,1),IF(O15=O$4,1),IF(P15=P$4,1),IF(Q15=Q$4,1)) -> 16 | X15: =SUM(IF(B15=B$4,B$3),IF(C15=C$4,C$3),IF(D15=D$4,D$3),IF(E15=E$4,E$3),IF(F15=F$4,F$3),IF(G15=G$4,G$3),IF(H15=H$4,H$3),IF(I15=I$4,I$3),IF(J15=J$4,J$3),IF(K15=K$4,K$3),IF(L15=L$4,L$3),IF(M15=M$4,M$3),IF(N15=N$4,N$3),IF(O15=O$4,O$3),IF(P15=P$4,P$3),IF(Q15=Q$4,Q$3)) -> 98
A16: DIVISION II
W17: =SUM(IF(B17=B$4,1),IF(C17=C$4,1),IF(D17=D$4,1),IF(E17=E$4,1),IF(F17=F$4,1),IF(G17=G$4,1),IF(H17=H$4,1),IF(I17=I$4,1),IF(J17=J$4,1),IF(K17=K$4,1),IF(L17=L$4,1),IF(M17=M$4,1),IF(N17=N$4,1),IF(O17=O$4,1),IF(P17=P$4,1),IF(Q17=Q$4,1)) -> 16 | X17: =SUM(IF(B17=B$4,B$3),IF(C17=C$4,C$3),IF(D17=D$4,D$3),IF(E17=E$4,E$3),IF(F17=F$4,F$3),IF(G17=G$4,G$3),IF(H17=H$4,H$3),IF(I17=I$4,I$3),IF(J17=J$4,J$3),IF(K17=K$4,K$3),IF(L17=L$4,L$3),IF(M17=M$4,M$3),IF(N17=N$4,N$3),IF(O17=O$4,O$3),IF(P17=P$4,P$3),IF(Q17=Q$4,Q$3)) -> 98
W18: =SUM(IF(B18=B$4,1),IF(C18=C$4,1),IF(D18=D$4,1),IF(E18=E$4,1),IF(F18=F$4,1),IF(G18=G$4,1),IF(H18=H$4,1),IF(I18=I$4,1),IF(J18=J$4,1),IF(K18=K$4,1),IF(L18=L$4,1),IF(M18=M$4,1),IF(N18=N$4,1),IF(O18=O$4,1),IF(P18=P$4,1),IF(Q18=Q$4,1)) -> 16 | X18: =SUM(IF(B18=B$4,B$3),IF(C18=C$4,C$3),IF(D18=D$4,D$3),IF(E18=E$4,E$3),IF(F18=F$4,F$3),IF(G18=G$4,G$3),IF(H18=H$4,H$3),IF(I18=I$4,I$3),IF(J18=J$4,J$3),IF(K18=K$4,K$3),IF(L18=L$4,L$3),IF(M18=M$4,M$3),IF(N18=N$4,N$3),IF(O18=O$4,O$3),IF(P18=P$4,P$3),IF(Q18=Q$4,Q$3)) -> 98
W19: =SUM(IF(B19=B$4,1),IF(C19=C$4,1),IF(D19=D$4,1),IF(E19=E$4,1),IF(F19=F$4,1),IF(G19=G$4,1),IF(H19=H$4,1),IF(I19=I$4,1),IF(J19=J$4,1),IF(K19=K$4,1),IF(L19=L$4,1),IF(M19=M$4,1),IF(N19=N$4,1),IF(O19=O$4,1),IF(P19=P$4,1),IF(Q19=Q$4,1)) -> 16 | X19: =SUM(IF(B19=B$4,B$3),IF(C19=C$4,C$3),IF(D19=D$4,D$3),IF(E19=E$4,E$3),IF(F19=F$4,F$3),IF(G19=G$4,G$3),IF(H19=H$4,H$3),IF(I19=I$4,I$3),IF(J19=J$4,J$3),IF(K19=K$4,K$3),IF(L19=L$4,L$3),IF(M19=M$4,M$3),IF(N19=N$4,N$3),IF(O19=O$4,O$3),IF(P19=P$4,P$3),IF(Q19=Q$4,Q$3)) -> 98
W20: =SUM(IF(B20=B$4,1),IF(C20=C$4,1),IF(D20=D$4,1),IF(E20=E$4,1),IF(F20=F$4,1),IF(G20=G$4,1),IF(H20=H$4,1),IF(I20=I$4,1),IF(J20=J$4,1),IF(K20=K$4,1),IF(L20=L$4,1),IF(M20=M$4,1),IF(N20=N$4,1),IF(O20=O$4,1),IF(P20=P$4,1),IF(Q20=Q$4,1)) -> 16 | X20: =SUM(IF(B20=B$4,B$3),IF(C20=C$4,C$3),IF(D20=D$4,D$3),IF(E20=E$4,E$3),IF(F20=F$4,F$3),IF(G20=G$4,G$3),IF(H20=H$4,H$3),IF(I20=I$4,I$3),IF(J20=J$4,J$3),IF(K20=K$4,K$3),IF(L20=L$4,L$3),IF(M20=M$4,M$3),IF(N20=N$4,N$3),IF(O20=O$4,O$3),IF(P20=P$4,P$3),IF(Q20=Q$4,Q$3)) -> 98
W21: =SUM(IF(B21=B$4,1),IF(C21=C$4,1),IF(D21=D$4,1),IF(E21=E$4,1),IF(F21=F$4,1),IF(G21=G$4,1),IF(H21=H$4,1),IF(I21=I$4,1),IF(J21=J$4,1),IF(K21=K$4,1),IF(L21=L$4,1),IF(M21=M$4,1),IF(N21=N$4,1),IF(O21=O$4,1),IF(P21=P$4,1),IF(Q21=Q$4,1)) -> 16 | X21: =SUM(IF(B21=B$4,B$3),IF(C21=C$4,C$3),IF(D21=D$4,D$3),IF(E21=E$4,E$3),IF(F21=F$4,F$3),IF(G21=G$4,G$3),IF(H21=H$4,H$3),IF(I21=I$4,I$3),IF(J21=J$4,J$3),IF(K21=K$4,K$3),IF(L21=L$4,L$3),IF(M21=M$4,M$3),IF(N21=N$4,N$3),IF(O21=O$4,O$3),IF(P21=P$4,P$3),IF(Q21=Q$4,Q$3)) -> 98
W22: =SUM(IF(B22=B$4,1),IF(C22=C$4,1),IF(D22=D$4,1),IF(E22=E$4,1),IF(F22=F$4,1),IF(G22=G$4,1),IF(H22=H$4,1),IF(I22=I$4,1),IF(J22=J$4,1),IF(K22=K$4,1),IF(L22=L$4,1),IF(M22=M$4,1),IF(N22=N$4,1),IF(O22=O$4,1),IF(P22=P$4,1),IF(Q22=Q$4,1)) -> 16 | X22: =SUM(IF(B22=B$4,B$3),IF(C22=C$4,C$3),IF(D22=D$4,D$3),IF(E22=E$4,E$3),IF(F22=F$4,F$3),IF(G22=G$4,G$3),IF(H22=H$4,H$3),IF(I22=I$4,I$3),IF(J22=J$4,J$3),IF(K22=K$4,K$3),IF(L22=L$4,L$3),IF(M22=M$4,M$3),IF(N22=N$4,N$3),IF(O22=O$4,O$3),IF(P22=P$4,P$3),IF(Q22=Q$4,Q$3)) -> 98
W23: =SUM(IF(B23=B$4,1),IF(C23=C$4,1),IF(D23=D$4,1),IF(E23=E$4,1),IF(F23=F$4,1),IF(G23=G$4,1),IF(H23=H$4,1),IF(I23=I$4,1),IF(J23=J$4,1),IF(K23=K$4,1),IF(L23=L$4,1),IF(M23=M$4,1),IF(N23=N$4,1),IF(O23=O$4,1),IF(P23=P$4,1),IF(Q23=Q$4,1)) -> 16 | X23: =SUM(IF(B23=B$4,B$3),IF(C23=C$4,C$3),IF(D23=D$4,D$3),IF(E23=E$4,E$3),IF(F23=F$4,F$3),IF(G23=G$4,G$3),IF(H23=H$4,H$3),IF(I23=I$4,I$3),IF(J23=J$4,J$3),IF(K23=K$4,K$3),IF(L23=L$4,L$3),IF(M23=M$4,M$3),IF(N23=N$4,N$3),IF(O23=O$4,O$3),IF(P23=P$4,P$3),IF(Q23=Q$4,Q$3)) -> 98
W24: =SUM(IF(B24=B$4,1),IF(C24=C$4,1),IF(D24=D$4,1),IF(E24=E$4,1),IF(F24=F$4,1),IF(G24=G$4,1),IF(H24=H$4,1),IF(I24=I$4,1),IF(J24=J$4,1),IF(K24=K$4,1),IF(L24=L$4,1),IF(M24=M$4,1),IF(N24=N$4,1),IF(O24=O$4,1),IF(P24=P$4,1),IF(Q24=Q$4,1)) -> 16 | X24: =SUM(IF(B24=B$4,B$3),IF(C24=C$4,C$3),IF(D24=D$4,D$3),IF(E24=E$4,E$3),IF(F24=F$4,F$3),IF(G24=G$4,G$3),IF(H24=H$4,H$3),IF(I24=I$4,I$3),IF(J24=J$4,J$3),IF(K24=K$4,K$3),IF(L24=L$4,L$3),IF(M24=M$4,M$3),IF(N24=N$4,N$3),IF(O24=O$4,O$3),IF(P24=P$4,P$3),IF(Q24=Q$4,Q$3)) -> 98
W25: =SUM(IF(B25=B$4,1),IF(C25=C$4,1),IF(D25=D$4,1),IF(E25=E$4,1),IF(F25=F$4,1),IF(G25=G$4,1),IF(H25=H$4,1),IF(I25=I$4,1),IF(J25=J$4,1),IF(K25=K$4,1),IF(L25=L$4,1),IF(M25=M$4,1),IF(N25=N$4,1),IF(O25=O$4,1),IF(P25=P$4,1),IF(Q25=Q$4,1)) -> 16 | X25: =SUM(IF(B25=B$4,B$3),IF(C25=C$4,C$3),IF(D25=D$4,D$3),IF(E25=E$4,E$3),IF(F25=F$4,F$3),IF(G25=G$4,G$3),IF(H25=H$4,H$3),IF(I25=I$4,I$3),IF(J25=J$4,J$3),IF(K25=K$4,K$3),IF(L25=L$4,L$3),IF(M25=M$4,M$3),IF(N25=N$4,N$3),IF(O25=O$4,O$3),IF(P25=P$4,P$3),IF(Q25=Q$4,Q$3)) -> 98
W26: =SUM(IF(B26=B$4,1),IF(C26=C$4,1),IF(D26=D$4,1),IF(E26=E$4,1),IF(F26=F$4,1),IF(G26=G$4,1),IF(H26=H$4,1),IF(I26=I$4,1),IF(J26=J$4,1),IF(K26=K$4,1),IF(L26=L$4,1),IF(M26=M$4,1),IF(N26=N$4,1),IF(O26=O$4,1),IF(P26=P$4,1),IF(Q26=Q$4,1)) -> 16 | X26: =SUM(IF(B26=B$4,B$3),IF(C26=C$4,C$3),IF(D26=D$4,D$3),IF(E26=E$4,E$3),IF(F26=F$4,F$3),IF(G26=G$4,G$3),IF(H26=H$4,H$3),IF(I26=I$4,I$3),IF(J26=J$4,J$3),IF(K26=K$4,K$3),IF(L26=L$4,L$3),IF(M26=M$4,M$3),IF(N26=N$4,N$3),IF(O26=O$4,O$3),IF(P26=P$4,P$3),IF(Q26=Q$4,Q$3)) -> 98
A28: DIVISION III
W29: =SUM(IF(B29=B$4,1),IF(C29=C$4,1),IF(D29=D$4,1),IF(E29=E$4,1),IF(F29=F$4,1),IF(G29=G$4,1),IF(H29=H$4,1),IF(I29=I$4,1),IF(J29=J$4,1),IF(K29=K$4,1),IF(L29=L$4,1),IF(M29=M$4,1),IF(N29=N$4,1),IF(O29=O$4,1),IF(P29=P$4,1),IF(Q29=Q$4,1)) -> 16 | X29: =SUM(IF(B29=B$4,B$3),IF(C29=C$4,C$3),IF(D29=D$4,D$3),IF(E29=E$4,E$3),IF(F29=F$4,F$3),IF(G29=G$4,G$3),IF(H29=H$4,H$3),IF(I29=I$4,I$3),IF(J29=J$4,J$3),IF(K29=K$4,K$3),IF(L29=L$4,L$3),IF(M29=M$4,M$3),IF(N29=N$4,N$3),IF(O29=O$4,O$3),IF(P29=P$4,P$3),IF(Q29=Q$4,Q$3)) -> 98
W30: =SUM(IF(B30=B$4,1),IF(C30=C$4,1),IF(D30=D$4,1),IF(E30=E$4,1),IF(F30=F$4,1),IF(G30=G$4,1),IF(H30=H$4,1),IF(I30=I$4,1),IF(J30=J$4,1),IF(K30=K$4,1),IF(L30=L$4,1),IF(M30=M$4,1),IF(N30=N$4,1),IF(O30=O$4,1),IF(P30=P$4,1),IF(Q30=Q$4,1)) -> 16 | X30: =SUM(IF(B30=B$4,B$3),IF(C30=C$4,C$3),IF(D30=D$4,D$3),IF(E30=E$4,E$3),IF(F30=F$4,F$3),IF(G30=G$4,G$3),IF(H30=H$4,H$3),IF(I30=I$4,I$3),IF(J30=J$4,J$3),IF(K30=K$4,K$3),IF(L30=L$4,L$3),IF(M30=M$4,M$3),IF(N30=N$4,N$3),IF(O30=O$4,O$3),IF(P30=P$4,P$3),IF(Q30=Q$4,Q$3)) -> 98
W31: =SUM(IF(B31=B$4,1),IF(C31=C$4,1),IF(D31=D$4,1),IF(E31=E$4,1),IF(F31=F$4,1),IF(G31=G$4,1),IF(H31=H$4,1),IF(I31=I$4,1),IF(J31=J$4,1),IF(K31=K$4,1),IF(L31=L$4,1),IF(M31=M$4,1),IF(N31=N$4,1),IF(O31=O$4,1),IF(P31=P$4,1),IF(Q31=Q$4,1)) -> 16 | X31: =SUM(IF(B31=B$4,B$3),IF(C31=C$4,C$3),IF(D31=D$4,D$3),IF(E31=E$4,E$3),IF(F31=F$4,F$3),IF(G31=G$4,G$3),IF(H31=H$4,H$3),IF(I31=I$4,I$3),IF(J31=J$4,J$3),IF(K31=K$4,K$3),IF(L31=L$4,L$3),IF(M31=M$4,M$3),IF(N31=N$4,N$3),IF(O31=O$4,O$3),IF(P31=P$4,P$3),IF(Q31=Q$4,Q$3)) -> 98
W32: =SUM(IF(B32=B$4,1),IF(C32=C$4,1),IF(D32=D$4,1),IF(E32=E$4,1),IF(F32=F$4,1),IF(G32=G$4,1),IF(H32=H$4,1),IF(I32=I$4,1),IF(J32=J$4,1),IF(K32=K$4,1),IF(L32=L$4,1),IF(M32=M$4,1),IF(N32=N$4,1),IF(O32=O$4,1),IF(P32=P$4,1),IF(Q32=Q$4,1)) -> 16 | X32: =SUM(IF(B32=B$4,B$3),IF(C32=C$4,C$3),IF(D32=D$4,D$3),IF(E32=E$4,E$3),IF(F32=F$4,F$3),IF(G32=G$4,G$3),IF(H32=H$4,H$3),IF(I32=I$4,I$3),IF(J32=J$4,J$3),IF(K32=K$4,K$3),IF(L32=L$4,L$3),IF(M32=M$4,M$3),IF(N32=N$4,N$3),IF(O32=O$4,O$3),IF(P32=P$4,P$3),IF(Q32=Q$4,Q$3)) -> 98
W33: =SUM(IF(B33=B$4,1),IF(C33=C$4,1),IF(D33=D$4,1),IF(E33=E$4,1),IF(F33=F$4,1),IF(G33=G$4,1),IF(H33=H$4,1),IF(I33=I$4,1),IF(J33=J$4,1),IF(K33=K$4,1),IF(L33=L$4,1),IF(M33=M$4,1),IF(N33=N$4,1),IF(O33=O$4,1),IF(P33=P$4,1),IF(Q33=Q$4,1)) -> 16 | X33: =SUM(IF(B33=B$4,B$3),IF(C33=C$4,C$3),IF(D33=D$4,D$3),IF(E33=E$4,E$3),IF(F33=F$4,F$3),IF(G33=G$4,G$3),IF(H33=H$4,H$3),IF(I33=I$4,I$3),IF(J33=J$4,J$3),IF(K33=K$4,K$3),IF(L33=L$4,L$3),IF(M33=M$4,M$3),IF(N33=N$4,N$3),IF(O33=O$4,O$3),IF(P33=P$4,P$3),IF(Q33=Q$4,Q$3)) -> 98
W34: =SUM(IF(B34=B$4,1),IF(C34=C$4,1),IF(D34=D$4,1),IF(E34=E$4,1),IF(F34=F$4,1),IF(G34=G$4,1),IF(H34=H$4,1),IF(I34=I$4,1),IF(J34=J$4,1),IF(K34=K$4,1),IF(L34=L$4,1),IF(M34=M$4,1),IF(N34=N$4,1),IF(O34=O$4,1),IF(P34=P$4,1),IF(Q34=Q$4,1)) -> 16 | X34: =SUM(IF(B34=B$4,B$3),IF(C34=C$4,C$3),IF(D34=D$4,D$3),IF(E34=E$4,E$3),IF(F34=F$4,F$3),IF(G34=G$4,G$3),IF(H34=H$4,H$3),IF(I34=I$4,I$3),IF(J34=J$4,J$3),IF(K34=K$4,K$3),IF(L34=L$4,L$3),IF(M34=M$4,M$3),IF(N34=N$4,N$3),IF(O34=O$4,O$3),IF(P34=P$4,P$3),IF(Q34=Q$4,Q$3)) -> 98
W35: =SUM(IF(B35=B$4,1),IF(C35=C$4,1),IF(D35=D$4,1),IF(E35=E$4,1),IF(F35=F$4,1),IF(G35=G$4,1),IF(H35=H$4,1),IF(I35=I$4,1),IF(J35=J$4,1),IF(K35=K$4,1),IF(L35=L$4,1),IF(M35=M$4,1),IF(N35=N$4,1),IF(O35=O$4,1),IF(P35=P$4,1),IF(Q35=Q$4,1)) -> 16 | X35: =SUM(IF(B35=B$4,B$3),IF(C35=C$4,C$3),IF(D35=D$4,D$3),IF(E35=E$4,E$3),IF(F35=F$4,F$3),IF(G35=G$4,G$3),IF(H35=H$4,H$3),IF(I35=I$4,I$3),IF(J35=J$4,J$3),IF(K35=K$4,K$3),IF(L35=L$4,L$3),IF(M35=M$4,M$3),IF(N35=N$4,N$3),IF(O35=O$4,O$3),IF(P35=P$4,P$3),IF(Q35=Q$4,Q$3)) -> 98
W36: =SUM(IF(B36=B$4,1),IF(C36=C$4,1),IF(D36=D$4,1),IF(E36=E$4,1),IF(F36=F$4,1),IF(G36=G$4,1),IF(H36=H$4,1),IF(I36=I$4,1),IF(J36=J$4,1),IF(K36=K$4,1),IF(L36=L$4,1),IF(M36=M$4,1),IF(N36=N$4,1),IF(O36=O$4,1),IF(P36=P$4,1),IF(Q36=Q$4,1)) -> 16 | X36: =SUM(IF(B36=B$4,B$3),IF(C36=C$4,C$3),IF(D36=D$4,D$3),IF(E36=E$4,E$3),IF(F36=F$4,F$3),IF(G36=G$4,G$3),IF(H36=H$4,H$3),IF(I36=I$4,I$3),IF(J36=J$4,J$3),IF(K36=K$4,K$3),IF(L36=L$4,L$3),IF(M36=M$4,M$3),IF(N36=N$4,N$3),IF(O36=O$4,O$3),IF(P36=P$4,P$3),IF(Q36=Q$4,Q$3)) -> 98
W37: =SUM(IF(B37=B$4,1),IF(C37=C$4,1),IF(D37=D$4,1),IF(E37=E$4,1),IF(F37=F$4,1),IF(G37=G$4,1),IF(H37=H$4,1),IF(I37=I$4,1),IF(J37=J$4,1),IF(K37=K$4,1),IF(L37=L$4,1),IF(M37=M$4,1),IF(N37=N$4,1),IF(O37=O$4,1),IF(P37=P$4,1),IF(Q37=Q$4,1)) -> 16 | X37: =SUM(IF(B37=B$4,B$3),IF(C37=C$4,C$3),IF(D37=D$4,D$3),IF(E37=E$4,E$3),IF(F37=F$4,F$3),IF(G37=G$4,G$3),IF(H37=H$4,H$3),IF(I37=I$4,I$3),IF(J37=J$4,J$3),IF(K37=K$4,K$3),IF(L37=L$4,L$3),IF(M37=M$4,M$3),IF(N37=N$4,N$3),IF(O37=O$4,O$3),IF(P37=P$4,P$3),IF(Q37=Q$4,Q$3)) -> 98
W38: =SUM(IF(B38=B$4,1),IF(C38=C$4,1),IF(D38=D$4,1),IF(E38=E$4,1),IF(F38=F$4,1),IF(G38=G$4,1),IF(H38=H$4,1),IF(I38=I$4,1),IF(J38=J$4,1),IF(K38=K$4,1),IF(L38=L$4,1),IF(M38=M$4,1),IF(N38=N$4,1),IF(O38=O$4,1),IF(P38=P$4,1),IF(Q38=Q$4,1)) -> 16 | X38: =SUM(IF(B38=B$4,B$3),IF(C38=C$4,C$3),IF(D38=D$4,D$3),IF(E38=E$4,E$3),IF(F38=F$4,F$3),IF(G38=G$4,G$3),IF(H38=H$4,H$3),IF(I38=I$4,I$3),IF(J38=J$4,J$3),IF(K38=K$4,K$3),IF(L38=L$4,L$3),IF(M38=M$4,M$3),IF(N38=N$4,N$3),IF(O38=O$4,O$3),IF(P38=P$4,P$3),IF(Q38=Q$4,Q$3)) -> 98
A39: DIVISION IV
W40: =SUM(IF(B40=B$4,1),IF(C40=C$4,1),IF(D40=D$4,1),IF(E40=E$4,1),IF(F40=F$4,1),IF(G40=G$4,1),IF(H40=H$4,1),IF(I40=I$4,1),IF(J40=J$4,1),IF(K40=K$4,1),IF(L40=L$4,1),IF(M40=M$4,1),IF(N40=N$4,1),IF(O40=O$4,1),IF(P40=P$4,1),IF(Q40=Q$4,1)) -> 16 | X40: =SUM(IF(B40=B$4,B$3),IF(C40=C$4,C$3),IF(D40=D$4,D$3),IF(E40=E$4,E$3),IF(F40=F$4,F$3),IF(G40=G$4,G$3),IF(H40=H$4,H$3),IF(I40=I$4,I$3),IF(J40=J$4,J$3),IF(K40=K$4,K$3),IF(L40=L$4,L$3),IF(M40=M$4,M$3),IF(N40=N$4,N$3),IF(O40=O$4,O$3),IF(P40=P$4,P$3),IF(Q40=Q$4,Q$3)) -> 98
W41: =SUM(IF(B41=B$4,1),IF(C41=C$4,1),IF(D41=D$4,1),IF(E41=E$4,1),IF(F41=F$4,1),IF(G41=G$4,1),IF(H41=H$4,1),IF(I41=I$4,1),IF(J41=J$4,1),IF(K41=K$4,1),IF(L41=L$4,1),IF(M41=M$4,1),IF(N41=N$4,1),IF(O41=O$4,1),IF(P41=P$4,1),IF(Q41=Q$4,1)) -> 16 | X41: =SUM(IF(B41=B$4,B$3),IF(C41=C$4,C$3),IF(D41=D$4,D$3),IF(E41=E$4,E$3),IF(F41=F$4,F$3),IF(G41=G$4,G$3),IF(H41=H$4,H$3),IF(I41=I$4,I$3),IF(J41=J$4,J$3),IF(K41=K$4,K$3),IF(L41=L$4,L$3),IF(M41=M$4,M$3),IF(N41=N$4,N$3),IF(O41=O$4,O$3),IF(P41=P$4,P$3),IF(Q41=Q$4,Q$3)) -> 98
W42: =SUM(IF(B42=B$4,1),IF(C42=C$4,1),IF(D42=D$4,1),IF(E42=E$4,1),IF(F42=F$4,1),IF(G42=G$4,1),IF(H42=H$4,1),IF(I42=I$4,1),IF(J42=J$4,1),IF(K42=K$4,1),IF(L42=L$4,1),IF(M42=M$4,1),IF(N42=N$4,1),IF(O42=O$4,1),IF(P42=P$4,1),IF(Q42=Q$4,1)) -> 16 | X42: =SUM(IF(B42=B$4,B$3),IF(C42=C$4,C$3),IF(D42=D$4,D$3),IF(E42=E$4,E$3),IF(F42=F$4,F$3),IF(G42=G$4,G$3),IF(H42=H$4,H$3),IF(I42=I$4,I$3),IF(J42=J$4,J$3),IF(K42=K$4,K$3),IF(L42=L$4,L$3),IF(M42=M$4,M$3),IF(N42=N$4,N$3),IF(O42=O$4,O$3),IF(P42=P$4,P$3),IF(Q42=Q$4,Q$3)) -> 98
W43: =SUM(IF(B43=B$4,1),IF(C43=C$4,1),IF(D43=D$4,1),IF(E43=E$4,1),IF(F43=F$4,1),IF(G43=G$4,1),IF(H43=H$4,1),IF(I43=I$4,1),IF(J43=J$4,1),IF(K43=K$4,1),IF(L43=L$4,1),IF(M43=M$4,1),IF(N43=N$4,1),IF(O43=O$4,1),IF(P43=P$4,1),IF(Q43=Q$4,1)) -> 16 | X43: =SUM(IF(B43=B$4,B$3),IF(C43=C$4,C$3),IF(D43=D$4,D$3),IF(E43=E$4,E$3),IF(F43=F$4,F$3),IF(G43=G$4,G$3),IF(H43=H$4,H$3),IF(I43=I$4,I$3),IF(J43=J$4,J$3),IF(K43=K$4,K$3),IF(L43=L$4,L$3),IF(M43=M$4,M$3),IF(N43=N$4,N$3),IF(O43=O$4,O$3),IF(P43=P$4,P$3),IF(Q43=Q$4,Q$3)) -> 98
W44: =SUM(IF(B44=B$4,1),IF(C44=C$4,1),IF(D44=D$4,1),IF(E44=E$4,1),IF(F44=F$4,1),IF(G44=G$4,1),IF(H44=H$4,1),IF(I44=I$4,1),IF(J44=J$4,1),IF(K44=K$4,1),IF(L44=L$4,1),IF(M44=M$4,1),IF(N44=N$4,1),IF(O44=O$4,1),IF(P44=P$4,1),IF(Q44=Q$4,1)) -> 16 | X44: =SUM(IF(B44=B$4,B$3),IF(C44=C$4,C$3),IF(D44=D$4,D$3),IF(E44=E$4,E$3),IF(F44=F$4,F$3),IF(G44=G$4,G$3),IF(H44=H$4,H$3),IF(I44=I$4,I$3),IF(J44=J$4,J$3),IF(K44=K$4,K$3),IF(L44=L$4,L$3),IF(M44=M$4,M$3),IF(N44=N$4,N$3),IF(O44=O$4,O$3),IF(P44=P$4,P$3),IF(Q44=Q$4,Q$3)) -> 98
W45: =SUM(IF(B45=B$4,1),IF(C45=C$4,1),IF(D45=D$4,1),IF(E45=E$4,1),IF(F45=F$4,1),IF(G45=G$4,1),IF(H45=H$4,1),IF(I45=I$4,1),IF(J45=J$4,1),IF(K45=K$4,1),IF(L45=L$4,1),IF(M45=M$4,1),IF(N45=N$4,1),IF(O45=O$4,1),IF(P45=P$4,1),IF(Q45=Q$4,1)) -> 16 | X45: =SUM(IF(B45=B$4,B$3),IF(C45=C$4,C$3),IF(D45=D$4,D$3),IF(E45=E$4,E$3),IF(F45=F$4,F$3),IF(G45=G$4,G$3),IF(H45=H$4,H$3),IF(I45=I$4,I$3),IF(J45=J$4,J$3),IF(K45=K$4,K$3),IF(L45=L$4,L$3),IF(M45=M$4,M$3),IF(N45=N$4,N$3),IF(O45=O$4,O$3),IF(P45=P$4,P$3),IF(Q45=Q$4,Q$3)) -> 98
W46: =SUM(IF(B46=B$4,1),IF(C46=C$4,1),IF(D46=D$4,1),IF(E46=E$4,1),IF(F46=F$4,1),IF(G46=G$4,1),IF(H46=H$4,1),IF(I46=I$4,1),IF(J46=J$4,1),IF(K46=K$4,1),IF(L46=L$4,1),IF(M46=M$4,1),IF(N46=N$4,1),IF(O46=O$4,1),IF(P46=P$4,1),IF(Q46=Q$4,1)) -> 16 | X46: =SUM(IF(B46=B$4,B$3),IF(C46=C$4,C$3),IF(D46=D$4,D$3),IF(E46=E$4,E$3),IF(F46=F$4,F$3),IF(G46=G$4,G$3),IF(H46=H$4,H$3),IF(I46=I$4,I$3),IF(J46=J$4,J$3),IF(K46=K$4,K$3),IF(L46=L$4,L$3),IF(M46=M$4,M$3),IF(N46=N$4,N$3),IF(O46=O$4,O$3),IF(P46=P$4,P$3),IF(Q46=Q$4,Q$3)) -> 98
W47: =SUM(IF(B47=B$4,1),IF(C47=C$4,1),IF(D47=D$4,1),IF(E47=E$4,1),IF(F47=F$4,1),IF(G47=G$4,1),IF(H47=H$4,1),IF(I47=I$4,1),IF(J47=J$4,1),IF(K47=K$4,1),IF(L47=L$4,1),IF(M47=M$4,1),IF(N47=N$4,1),IF(O47=O$4,1),IF(P47=P$4,1),IF(Q47=Q$4,1)) -> 16 | X47: =SUM(IF(B47=B$4,B$3),IF(C47=C$4,C$3),IF(D47=D$4,D$3),IF(E47=E$4,E$3),IF(F47=F$4,F$3),IF(G47=G$4,G$3),IF(H47=H$4,H$3),IF(I47=I$4,I$3),IF(J47=J$4,J$3),IF(K47=K$4,K$3),IF(L47=L$4,L$3),IF(M47=M$4,M$3),IF(N47=N$4,N$3),IF(O47=O$4,O$3),IF(P47=P$4,P$3),IF(Q47=Q$4,Q$3)) -> 98
W48: =SUM(IF(B48=B$4,1),IF(C48=C$4,1),IF(D48=D$4,1),IF(E48=E$4,1),IF(F48=F$4,1),IF(G48=G$4,1),IF(H48=H$4,1),IF(I48=I$4,1),IF(J48=J$4,1),IF(K48=K$4,1),IF(L48=L$4,1),IF(M48=M$4,1),IF(N48=N$4,1),IF(O48=O$4,1),IF(P48=P$4,1),IF(Q48=Q$4,1)) -> 16 | X48: =SUM(IF(B48=B$4,B$3),IF(C48=C$4,C$3),IF(D48=D$4,D$3),IF(E48=E$4,E$3),IF(F48=F$4,F$3),IF(G48=G$4,G$3),IF(H48=H$4,H$3),IF(I48=I$4,I$3),IF(J48=J$4,J$3),IF(K48=K$4,K$3),IF(L48=L$4,L$3),IF(M48=M$4,M$3),IF(N48=N$4,N$3),IF(O48=O$4,O$3),IF(P48=P$4,P$3),IF(Q48=Q$4,Q$3)) -> 98

Sheet WK4
A1: PARTICIPANTS | B1: SEA | C1: MIN | D1: WAS | E1: NO | F1: CLE | G1: TEN | H1: CAR | I1: LAC | J1: PHI | K1: IND | L1: JAC | M1: BAL | N1: CHI | O1: GB | P1: NYJ | Q1: CIN | V1: AWAY | W1: TOTAL | X1: TOTAL
A2: HOME | B2: AZ | C2: PIT | D2: ATL | E2: BUF | F2: DET | G2: HOU | H2: NE | I2: NYG | J2: TB | K2: LAR | L2: SF | M2: KC | N2: LV | O2: DAL | P2: MIA | Q2: DEN | V2: HOME | W2: WINS | X2: PTS
A3: POINT VALUE | B3: 10 | C3: 3 | D3: 5 | E3: 3 | F3: 3 | G3: 10 | H3: 3 | I3: 3 | J3: 5 | K3: 3 | L3: 3 | M3: 5 | N3: 3 | O3: 5 | P3: 10 | Q3: 5 | V3: POINT VALUE | W3: 16 | X3: =SUM(B3:Q3) -> 79
A4: WINNER | R4: N/A | S4: N/A | T4: N/A | U4: N/A | V4: WINNER
A5: DIVISION I
W6: =SUM(IF(B6=B$4,1),IF(C6=C$4,1),IF(D6=D$4,1),IF(E6=E$4,1),IF(F6=F$4,1),IF(G6=G$4,1),IF(H6=H$4,1),IF(I6=I$4,1),IF(J6=J$4,1),IF(K6=K$4,1),IF(L6=L$4,1),IF(M6=M$4,1),IF(N6=N$4,1),IF(O6=O$4,1),IF(P6=P$4,1),IF(Q6=Q$4,1)) -> 16 | X6: =SUM(IF(B6=B$4,B$3),IF(C6=C$4,C$3),IF(D6=D$4,D$3),IF(E6=E$4,E$3),IF(F6=F$4,F$3),IF(G6=G$4,G$3),IF(H6=H$4,H$3),IF(I6=I$4,I$3),IF(J6=J$4,J$3),IF(K6=K$4,K$3),IF(L6=L$4,L$3),IF(M6=M$4,M$3),IF(N6=N$4,N$3),IF(O6=O$4,O$3),IF(P6=P$4,P$3),IF(Q6=Q$4,Q$3)) -> 79
W7: =SUM(IF(B7=B$4,1),IF(C7=C$4,1),IF(D7=D$4,1),IF(E7=E$4,1),IF(F7=F$4,1),IF(G7=G$4,1),IF(H7=H$4,1),IF(I7=I$4,1),IF(J7=J$4,1),IF(K7=K$4,1),IF(L7=L$4,1),IF(M7=M$4,1),IF(N7=N$4,1),IF(O7=O$4,1),IF(P7=P$4,1),IF(Q7=Q$4,1)) -> 16 | X7: =SUM(IF(B7=B$4,B$3),IF(C7=C$4,C$3),IF(D7=D$4,D$3),IF(E7=E$4,E$3),IF(F7=F$4,F$3),IF(G7=G$4,G$3),IF(H7=H$4,H$3),IF(I7=I$4,I$3),IF(J7=J$4,J$3),IF(K7=K$4,K$3),IF(L7=L$4,L$3),IF(M7=M$4,M$3),IF(N7=N$4,N$3),IF(O7=O$4,O$3),IF(P7=P$4,P$3),IF(Q7=Q$4,Q$3)) -> 79
W8: =SUM(IF(B8=B$4,1),IF(C8=C$4,1),IF(D8=D$4,1),IF(E8=E$4,1),IF(F8=F$4,1),IF(G8=G$4,1),IF(H8=H$4,1),IF(I8=I$4,1),IF(J8=J$4,1),IF(K8=K$4,1),IF(L8=L$4,1),IF(M8=M$4,1),IF(N8=N$4,1),IF(O8=O$4,1),IF(P8=P$4,1),IF(Q8=Q$4,1)) -> 16 | X8: =SUM(IF(B8=B$4,B$3),IF(C8=C$4,C$3),IF(D8=D$4,D$3),IF(E8=E$4,E$3),IF(F8=F$4,F$3),IF(G8=G$4,G$3),IF(H8=H$4,H$3),IF(I8=I$4,I$3),IF(J8=J$4,J$3),IF(K8=K$4,K$3),IF(L8=L$4,L$3),IF(M8=M$4,M$3),IF(N8=N$4,N$3),IF(O8=O$4,O$3),IF(P8=P$4,P$3),IF(Q8=Q$4,Q$3)) -> 79
W9: =SUM(IF(B9=B$4,1),IF(C9=C$4,1),IF(D9=D$4,1),IF(E9=E$4,1),IF(F9=F$4,1),IF(G9=G$4,1),IF(H9=H$4,1),IF(I9=I$4,1),IF(J9=J$4,1),IF(K9=K$4,1),IF(L9=L$4,1),IF(M9=M$4,1),IF(N9=N$4,1),IF(O9=O$4,1),IF(P9=P$4,1),IF(Q9=Q$4,1)) -> 16 | X9: =SUM(IF(B9=B$4,B$3),IF(C9=C$4,C$3),IF(D9=D$4,D$3),IF(E9=E$4,E$3),IF(F9=F$4,F$3),IF(G9=G$4,G$3),IF(H9=H$4,H$3),IF(I9=I$4,I$3),IF(J9=J$4,J$3),IF(K9=K$4,K$3),IF(L9=L$4,L$3),IF(M9=M$4,M$3),IF(N9=N$4,N$3),IF(O9=O$4,O$3),IF(P9=P$4,P$3),IF(Q9=Q$4,Q$3)) -> 79
W10: =SUM(IF(B10=B$4,1),IF(C10=C$4,1),IF(D10=D$4,1),IF(E10=E$4,1),IF(F10=F$4,1),IF(G10=G$4,1),IF(H10=H$4,1),IF(I10=I$4,1),IF(J10=J$4,1),IF(K10=K$4,1),IF(L10=L$4,1),IF(M10=M$4,1),IF(N10=N$4,1),IF(O10=O$4,1),IF(P10=P$4,1),IF(Q10=Q$4,1)) -> 16 | X10: =SUM(IF(B10=B$4,B$3),IF(C10=C$4,C$3),IF(D10=D$4,D$3),IF(E10=E$4,E$3),IF(F10=F$4,F$3),IF(G10=G$4,G$3),IF(H10=H$4,H$3),IF(I10=I$4,I$3),IF(J10=J$4,J$3),IF(K10=K$4,K$3),IF(L10=L$4,L$3),IF(M10=M$4,M$3),IF(N10=N$4,N$3),IF(O10=O$4,O$3),IF(P10=P$4,P$3),IF(Q10=Q$4,Q$3)) -> 79
W11: =SUM(IF(B11=B$4,1),IF(C11=C$4,1),IF(D11=D$4,1),IF(E11=E$4,1),IF(F11=F$4,1),IF(G11=G$4,1),IF(H11=H$4,1),IF(I11=I$4,1),IF(J11=J$4,1),IF(K11=K$4,1),IF(L11=L$4,1),IF(M11=M$4,1),IF(N11=N$4,1),IF(O11=O$4,1),IF(P11=P$4,1),IF(Q11=Q$4,1)) -> 16 | X11: =SUM(IF(B11=B$4,B$3),IF(C11=C$4,C$3),IF(D11=D$4,D$3),IF(E11=E$4,E$3),IF(F11=F$4,F$3),IF(G11=G$4,G$3),IF(H11=H$4,H$3),IF(I11=I$4,I$3),IF(J11=J$4,J$3),IF(K11=K$4,K$3),IF(L11=L$4,L$3),IF(M11=M$4,M$3),IF(N11=N$4,N$3),IF(O11=O$4,O$3),IF(P11=P$4,P$3),IF(Q11=Q$4,Q$3)) -> 79
W12: =SUM(IF(B12=B$4,1),IF(C12=C$4,1),IF(D12=D$4,1),IF(E12=E$4,1),IF(F12=F$4,1),IF(G12=G$4,1),IF(H12=H$4,1),IF(I12=I$4,1),IF(J12=J$4,1),IF(K12=K$4,1),IF(L12=L$4,1),IF(M12=M$4,1),IF(N12=N$4,1),IF(O12=O$4,1),IF(P12=P$4,1),IF(Q12=Q$4,1)) -> 16 | X12: =SUM(IF(B12=B$4,B$3),IF(C12=C$4,C$3),IF(D12=D$4,D$3),IF(E12=E$4,E$3),IF(F12=F$4,F$3),IF(G12=G$4,G$3),IF(H12=H$4,H$3),IF(I12=I$4,I$3),IF(J12=J$4,J$3),IF(K12=K$4,K$3),IF(L12=L$4,L$3),IF(M12=M$4,M$3),IF(N12=N$4,N$3),IF(O12=O$4,O$3),IF(P12=P$4,P$3),IF(Q12=Q$4,Q$3)) -> 79
W13: =SUM(IF(B13=B$4,1),IF(C13=C$4,1),IF(D13=D$4,1),IF(E13=E$4,1),IF(F13=F$4,1),IF(G13=G$4,1),IF(H13=H$4,1),IF(I13=I$4,1),IF(J13=J$4,1),IF(K13=K$4,1),IF(L13=L$4,1),IF(M13=M$4,1),IF(N13=N$4,1),IF(O13=O$4,1),IF(P13=P$4,1),IF(Q13=Q$4,1)) -> 16 | X13: =SUM(IF(B13=B$4,B$3),IF(C13=C$4,C$3),IF(D13=D$4,D$3),IF(E13=E$4,E$3),IF(F13=F$4,F$3),IF(G13=G$4,G$3),IF(H13=H$4,H$3),IF(I13=I$4,I$3),IF(J13=J$4,J$3),IF(K13=K$4,K$3),IF(L13=L$4,L$3),IF(M13=M$4,M$3),IF(N13=N$4,N$3),IF(O13=O$4,O$3),IF(P13=P$4,P$3),IF(Q13=Q$4,Q$3)) -> 79
W14: =SUM(IF(B14=B$4,1),IF(C14=C$4,1),IF(D14=D$4,1),IF(E14=E$4,1),IF(F14=F$4,1),IF(G14=G$4,1),IF(H14=H$4,1),IF(I14=I$4,1),IF(J14=J$4,1),IF(K14=K$4,1),IF(L14=L$4,1),IF(M14=M$4,1),IF(N14=N$4,1),IF(O14=O$4,1),IF(P14=P$4,1),IF(Q14=Q$4,1)) -> 16 | X14: =SUM(IF(B14=B$4,B$3),IF(C14=C$4,C$3),IF(D14=D$4,D$3),IF(E14=E$4,E$3),IF(F14=F$4,F$3),IF(G14=G$4,G$3),IF(H14=H$4,H$3),IF(I14=I$4,I$3),IF(J14=J$4,J$3),IF(K14=K$4,K$3),IF(L14=L$4,L$3),IF(M14=M$4,M$3),IF(N14=N$4,N$3),IF(O14=O$4,O$3),IF(P14=P$4,P$3),IF(Q14=Q$4,Q$3)) -> 79
W15: =SUM(IF(B15=B$4,1),IF(C15=C$4,1),IF(D15=D$4,1),IF(E15=E$4,1),IF(F15=F$4,1),IF(G15=G$4,1),IF(H15=H$4,1),IF(I15=I$4,1),IF(J15=J$4,1),IF(K15=K$4,1),IF(L15=L$4,1),IF(M15=M$4,1),IF(N15=N$4,1),IF(O15=O$4,1),IF(P15=P$4,1),IF(Q15=Q$4,1)) -> 16 | X15: =SUM(IF(B15=B$4,B$3),IF(C15=C$4,C$3),IF(D15=D$4,D$3),IF(E15=E$4,E$3),IF(F15=F$4,F$3),IF(G15=G$4,G$3),IF(H15=H$4,H$3),IF(I15=I$4,I$3),IF(J15=J$4,J$3),IF(K15=K$4,K$3),IF(L15=L$4,L$3),IF(M15=M$4,M$3),IF(N15=N$4,N$3),IF(O15=O$4,O$3),IF(P15=P$4,P$3),IF(Q15=Q$4,Q$3)) -> 79
A16: DIVISION II
W17: =SUM(IF(B17=B$4,1),IF(C17=C$4,1),IF(D17=D$4,1),IF(E17=E$4,1),IF(F17=F$4,1),IF(G17=G$4,1),IF(H17=H$4,1),IF(I17=I$4,1),IF(J17=J$4,1),IF(K17=K$4,1),IF(L17=L$4,1),IF(M17=M$4,1),IF(N17=N$4,1),IF(O17=O$4,1),IF(P17=P$4,1),IF(Q17=Q$4,1)) -> 16 | X17: =SUM(IF(B17=B$4,B$3),IF(C17=C$4,C$3),IF(D17=D$4,D$3),IF(E17=E$4,E$3),IF(F17=F$4,F$3),IF(G17=G$4,G$3),IF(H17=H$4,H$3),IF(I17=I$4,I$3),IF(J17=J$4,J$3),IF(K17=K$4,K$3),IF(L17=L$4,L$3),IF(M17=M$4,M$3),IF(N17=N$4,N$3),IF(O17=O$4,O$3),IF(P17=P$4,P$3),IF(Q17=Q$4,Q$3)) -> 79
W18: =SUM(IF(B18=B$4,1),IF(C18=C$4,1),IF(D18=D$4,1),IF(E18=E$4,1),IF(F18=F$4,1),IF(G18=G$4,1),IF(H18=H$4,1),IF(I18=I$4,1),IF(J18=J$4,1),IF(K18=K$4,1),IF(L18=L$4,1),IF(M18=M$4,1),IF(N18=N$4,1),IF(O18=O$4,1),IF(P18=P$4,1),IF(Q18=Q$4,1)) -> 16 | X18: =SUM(IF(B18=B$4,B$3),IF(C18=C$4,C$3),IF(D18=D$4,D$3),IF(E18=E$4,E$3),IF(F18=F$4,F$3),IF(G18=G$4,G$3),IF(H18=H$4,H$3),IF(I18=I$4,I$3),IF(J18=J$4,J$3),IF(K18=K$4,K$3),IF(L18=L$4,L$3),IF(M18=M$4,M$3),IF(N18=N$4,N$3),IF(O18=O$4,O$3),IF(P18=P$4,P$3),IF(Q18=Q$4,Q$3)) -> 79
W19: =SUM(IF(B19=B$4,1),IF(C19=C$4,1),IF(D19=D$4,1),IF(E19=E$4,1),IF(F19=F$4,1),IF(G19=G$4,1),IF(H19=H$4,1),IF(I19=I$4,1),IF(J19=J$4,1),IF(K19=K$4,1),IF(L19=L$4,1),IF(M19=M$4,1),IF(N19=N$4,1),IF(O19=O$4,1),IF(P19=P$4,1),IF(Q19=Q$4,1)) -> 16 | X19: =SUM(IF(B19=B$4,B$3),IF(C19=C$4,C$3),IF(D19=D$4,D$3),IF(E19=E$4,E$3),IF(F19=F$4,F$3),IF(G19=G$4,G$3),IF(H19=H$4,H$3),IF(I19=I$4,I$3),IF(J19=J$4,J$3),IF(K19=K$4,K$3),IF(L19=L$4,L$3),IF(M19=M$4,M$3),IF(N19=N$4,N$3),IF(O19=O$4,O$3),IF(P19=P$4,P$3),IF(Q19=Q$4,Q$3)) -> 79
W20: =SUM(IF(B20=B$4,1),IF(C20=C$4,1),IF(D20=D$4,1),IF(E20=E$4,1),IF(F20=F$4,1),IF(G20=G$4,1),IF(H20=H$4,1),IF(I20=I$4,1),IF(J20=J$4,1),IF(K20=K$4,1),IF(L20=L$4,1),IF(M20=M$4,1),IF(N20=N$4,1),IF(O20=O$4,1),IF(P20=P$4,1),IF(Q20=Q$4,1)) -> 16 | X20: =SUM(IF(B20=B$4,B$3),IF(C20=C$4,C$3),IF(D20=D$4,D$3),IF(E20=E$4,E$3),IF(F20=F$4,F$3),IF(G20=G$4,G$3),IF(H20=H$4,H$3),IF(I20=I$4,I$3),IF(J20=J$4,J$3),IF(K20=K$4,K$3),IF(L20=L$4,L$3),IF(M20=M$4,M$3),IF(N20=N$4,N$3),IF(O20=O$4,O$3),IF(P20=P$4,P$3),IF(Q20=Q$4,Q$3)) -> 79
W21: =SUM(IF(B21=B$4,1),IF(C21=C$4,1),IF(D21=D$4,1),IF(E21=E$4,1),IF(F21=F$4,1),IF(G21=G$4,1),IF(H21=H$4,1),IF(I21=I$4,1),IF(J21=J$4,1),IF(K21=K$4,1),IF(L21=L$4,1),IF(M21=M$4,1),IF(N21=N$4,1),IF(O21=O$4,1),IF(P21=P$4,1),IF(Q21=Q$4,1)) -> 16 | X21: =SUM(IF(B21=B$4,B$3),IF(C21=C$4,C$3),IF(D21=D$4,D$3),IF(E21=E$4,E$3),IF(F21=F$4,F$3),IF(G21=G$4,G$3),IF(H21=H$4,H$3),IF(I21=I$4,I$3),IF(J21=J$4,J$3),IF(K21=K$4,K$3),IF(L21=L$4,L$3),IF(M21=M$4,M$3),IF(N21=N$4,N$3),IF(O21=O$4,O$3),IF(P21=P$4,P$3),IF(Q21=Q$4,Q$3)) -> 79
W22: =SUM(IF(B22=B$4,1),IF(C22=C$4,1),IF(D22=D$4,1),IF(E22=E$4,1),IF(F22=F$4,1),IF(G22=G$4,1),IF(H22=H$4,1),IF(I22=I$4,1),IF(J22=J$4,1),IF(K22=K$4,1),IF(L22=L$4,1),IF(M22=M$4,1),IF(N22=N$4,1),IF(O22=O$4,1),IF(P22=P$4,1),IF(Q22=Q$4,1)) -> 16 | X22: =SUM(IF(B22=B$4,B$3),IF(C22=C$4,C$3),IF(D22=D$4,D$3),IF(E22=E$4,E$3),IF(F22=F$4,F$3),IF(G22=G$4,G$3),IF(H22=H$4,H$3),IF(I22=I$4,I$3),IF(J22=J$4,J$3),IF(K22=K$4,K$3),IF(L22=L$4,L$3),IF(M22=M$4,M$3),IF(N22=N$4,N$3),IF(O22=O$4,O$3),IF(P22=P$4,P$3),IF(Q22=Q$4,Q$3)) -> 79
W23: =SUM(IF(B23=B$4,1),IF(C23=C$4,1),IF(D23=D$4,1),IF(E23=E$4,1),IF(F23=F$4,1),IF(G23=G$4,1),IF(H23=H$4,1),IF(I23=I$4,1),IF(J23=J$4,1),IF(K23=K$4,1),IF(L23=L$4,1),IF(M23=M$4,1),IF(N23=N$4,1),IF(O23=O$4,1),IF(P23=P$4,1),IF(Q23=Q$4,1)) -> 16 | X23: =SUM(IF(B23=B$4,B$3),IF(C23=C$4,C$3),IF(D23=D$4,D$3),IF(E23=E$4,E$3),IF(F23=F$4,F$3),IF(G23=G$4,G$3),IF(H23=H$4,H$3),IF(I23=I$4,I$3),IF(J23=J$4,J$3),IF(K23=K$4,K$3),IF(L23=L$4,L$3),IF(M23=M$4,M$3),IF(N23=N$4,N$3),IF(O23=O$4,O$3),IF(P23=P$4,P$3),IF(Q23=Q$4,Q$3)) -> 79
W24: =SUM(IF(B24=B$4,1),IF(C24=C$4,1),IF(D24=D$4,1),IF(E24=E$4,1),IF(F24=F$4,1),IF(G24=G$4,1),IF(H24=H$4,1),IF(I24=I$4,1),IF(J24=J$4,1),IF(K24=K$4,1),IF(L24=L$4,1),IF(M24=M$4,1),IF(N24=N$4,1),IF(O24=O$4,1),IF(P24=P$4,1),IF(Q24=Q$4,1)) -> 16 | X24: =SUM(IF(B24=B$4,B$3),IF(C24=C$4,C$3),IF(D24=D$4,D$3),IF(E24=E$4,E$3),IF(F24=F$4,F$3),IF(G24=G$4,G$3),IF(H24=H$4,H$3),IF(I24=I$4,I$3),IF(J24=J$4,J$3),IF(K24=K$4,K$3),IF(L24=L$4,L$3),IF(M24=M$4,M$3),IF(N24=N$4,N$3),IF(O24=O$4,O$3),IF(P24=P$4,P$3),IF(Q24=Q$4,Q$3)) -> 79
W25: =SUM(IF(B25=B$4,1),IF(C25=C$4,1),IF(D25=D$4,1),IF(E25=E$4,1),IF(F25=F$4,1),IF(G25=G$4,1),IF(H25=H$4,1),IF(I25=I$4,1),IF(J25=J$4,1),IF(K25=K$4,1),IF(L25=L$4,1),IF(M25=M$4,1),IF(N25=N$4,1),IF(O25=O$4,1),IF(P25=P$4,1),IF(Q25=Q$4,1)) -> 16 | X25: =SUM(IF(B25=B$4,B$3),IF(C25=C$4,C$3),IF(D25=D$4,D$3),IF(E25=E$4,E$3),IF(F25=F$4,F$3),IF(G25=G$4,G$3),IF(H25=H$4,H$3),IF(I25=I$4,I$3),IF(J25=J$4,J$3),IF(K25=K$4,K$3),IF(L25=L$4,L$3),IF(M25=M$4,M$3),IF(N25=N$4,N$3),IF(O25=O$4,O$3),IF(P25=P$4,P$3),IF(Q25=Q$4,Q$3)) -> 79
W26: =SUM(IF(B26=B$4,1),IF(C26=C$4,1),IF(D26=D$4,1),IF(E26=E$4,1),IF(F26=F$4,1),IF(G26=G$4,1),IF(H26=H$4,1),IF(I26=I$4,1),IF(J26=J$4,1),IF(K26=K$4,1),IF(L26=L$4,1),IF(M26=M$4,1),IF(N26=N$4,1),IF(O26=O$4,1),IF(P26=P$4,1),IF(Q26=Q$4,1)) -> 16 | X26: =SUM(IF(B26=B$4,B$3),IF(C26=C$4,C$3),IF(D26=D$4,D$3),IF(E26=E$4,E$3),IF(F26=F$4,F$3),IF(G26=G$4,G$3),IF(H26=H$4,H$3),IF(I26=I$4,I$3),IF(J26=J$4,J$3),IF(K26=K$4,K$3),IF(L26=L$4,L$3),IF(M26=M$4,M$3),IF(N26=N$4,N$3),IF(O26=O$4,O$3),IF(P26=P$4,P$3),IF(Q26=Q$4,Q$3)) -> 79
A27: DIVISION III
W28: =SUM(IF(B28=B$4,1),IF(C28=C$4,1),IF(D28=D$4,1),IF(E28=E$4,1),IF(F28=F$4,1),IF(G28=G$4,1),IF(H28=H$4,1),IF(I28=I$4,1),IF(J28=J$4,1),IF(K28=K$4,1),IF(L28=L$4,1),IF(M28=M$4,1),IF(N28=N$4,1),IF(O28=O$4,1),IF(P28=P$4,1),IF(Q28=Q$4,1)) -> 16 | X28: =SUM(IF(B28=B$4,B$3),IF(C28=C$4,C$3),IF(D28=D$4,D$3),IF(E28=E$4,E$3),IF(F28=F$4,F$3),IF(G28=G$4,G$3),IF(H28=H$4,H$3),IF(I28=I$4,I$3),IF(J28=J$4,J$3),IF(K28=K$4,K$3),IF(L28=L$4,L$3),IF(M28=M$4,M$3),IF(N28=N$4,N$3),IF(O28=O$4,O$3),IF(P28=P$4,P$3),IF(Q28=Q$4,Q$3)) -> 79
W29: =SUM(IF(B29=B$4,1),IF(C29=C$4,1),IF(D29=D$4,1),IF(E29=E$4,1),IF(F29=F$4,1),IF(G29=G$4,1),IF(H29=H$4,1),IF(I29=I$4,1),IF(J29=J$4,1),IF(K29=K$4,1),IF(L29=L$4,1),IF(M29=M$4,1),IF(N29=N$4,1),IF(O29=O$4,1),IF(P29=P$4,1),IF(Q29=Q$4,1)) -> 16 | X29: =SUM(IF(B29=B$4,B$3),IF(C29=C$4,C$3),IF(D29=D$4,D$3),IF(E29=E$4,E$3),IF(F29=F$4,F$3),IF(G29=G$4,G$3),IF(H29=H$4,H$3),IF(I29=I$4,I$3),IF(J29=J$4,J$3),IF(K29=K$4,K$3),IF(L29=L$4,L$3),IF(M29=M$4,M$3),IF(N29=N$4,N$3),IF(O29=O$4,O$3),IF(P29=P$4,P$3),IF(Q29=Q$4,Q$3)) -> 79
W30: =SUM(IF(B30=B$4,1),IF(C30=C$4,1),IF(D30=D$4,1),IF(E30=E$4,1),IF(F30=F$4,1),IF(G30=G$4,1),IF(H30=H$4,1),IF(I30=I$4,1),IF(J30=J$4,1),IF(K30=K$4,1),IF(L30=L$4,1),IF(M30=M$4,1),IF(N30=N$4,1),IF(O30=O$4,1),IF(P30=P$4,1),IF(Q30=Q$4,1)) -> 16 | X30: =SUM(IF(B30=B$4,B$3),IF(C30=C$4,C$3),IF(D30=D$4,D$3),IF(E30=E$4,E$3),IF(F30=F$4,F$3),IF(G30=G$4,G$3),IF(H30=H$4,H$3),IF(I30=I$4,I$3),IF(J30=J$4,J$3),IF(K30=K$4,K$3),IF(L30=L$4,L$3),IF(M30=M$4,M$3),IF(N30=N$4,N$3),IF(O30=O$4,O$3),IF(P30=P$4,P$3),IF(Q30=Q$4,Q$3)) -> 79
W31: =SUM(IF(B31=B$4,1),IF(C31=C$4,1),IF(D31=D$4,1),IF(E31=E$4,1),IF(F31=F$4,1),IF(G31=G$4,1),IF(H31=H$4,1),IF(I31=I$4,1),IF(J31=J$4,1),IF(K31=K$4,1),IF(L31=L$4,1),IF(M31=M$4,1),IF(N31=N$4,1),IF(O31=O$4,1),IF(P31=P$4,1),IF(Q31=Q$4,1)) -> 16 | X31: =SUM(IF(B31=B$4,B$3),IF(C31=C$4,C$3),IF(D31=D$4,D$3),IF(E31=E$4,E$3),IF(F31=F$4,F$3),IF(G31=G$4,G$3),IF(H31=H$4,H$3),IF(I31=I$4,I$3),IF(J31=J$4,J$3),IF(K31=K$4,K$3),IF(L31=L$4,L$3),IF(M31=M$4,M$3),IF(N31=N$4,N$3),IF(O31=O$4,O$3),IF(P31=P$4,P$3),IF(Q31=Q$4,Q$3)) -> 79
W32: =SUM(IF(B32=B$4,1),IF(C32=C$4,1),IF(D32=D$4,1),IF(E32=E$4,1),IF(F32=F$4,1),IF(G32=G$4,1),IF(H32=H$4,1),IF(I32=I$4,1),IF(J32=J$4,1),IF(K32=K$4,1),IF(L32=L$4,1),IF(M32=M$4,1),IF(N32=N$4,1),IF(O32=O$4,1),IF(P32=P$4,1),IF(Q32=Q$4,1)) -> 16 | X32: =SUM(IF(B32=B$4,B$3),IF(C32=C$4,C$3),IF(D32=D$4,D$3),IF(E32=E$4,E$3),IF(F32=F$4,F$3),IF(G32=G$4,G$3),IF(H32=H$4,H$3),IF(I32=I$4,I$3),IF(J32=J$4,J$3),IF(K32=K$4,K$3),IF(L32=L$4,L$3),IF(M32=M$4,M$3),IF(N32=N$4,N$3),IF(O32=O$4,O$3),IF(P32=P$4,P$3),IF(Q32=Q$4,Q$3)) -> 79
W33: =SUM(IF(B33=B$4,1),IF(C33=C$4,1),IF(D33=D$4,1),IF(E33=E$4,1),IF(F33=F$4,1),IF(G33=G$4,1),IF(H33=H$4,1),IF(I33=I$4,1),IF(J33=J$4,1),IF(K33=K$4,1),IF(L33=L$4,1),IF(M33=M$4,1),IF(N33=N$4,1),IF(O33=O$4,1),IF(P33=P$4,1),IF(Q33=Q$4,1)) -> 16 | X33: =SUM(IF(B33=B$4,B$3),IF(C33=C$4,C$3),IF(D33=D$4,D$3),IF(E33=E$4,E$3),IF(F33=F$4,F$3),IF(G33=G$4,G$3),IF(H33=H$4,H$3),IF(I33=I$4,I$3),IF(J33=J$4,J$3),IF(K33=K$4,K$3),IF(L33=L$4,L$3),IF(M33=M$4,M$3),IF(N33=N$4,N$3),IF(O33=O$4,O$3),IF(P33=P$4,P$3),IF(Q33=Q$4,Q$3)) -> 79
W34: =SUM(IF(B34=B$4,1),IF(C34=C$4,1),IF(D34=D$4,1),IF(E34=E$4,1),IF(F34=F$4,1),IF(G34=G$4,1),IF(H34=H$4,1),IF(I34=I$4,1),IF(J34=J$4,1),IF(K34=K$4,1),IF(L34=L$4,1),IF(M34=M$4,1),IF(N34=N$4,1),IF(O34=O$4,1),IF(P34=P$4,1),IF(Q34=Q$4,1)) -> 16 | X34: =SUM(IF(B34=B$4,B$3),IF(C34=C$4,C$3),IF(D34=D$4,D$3),IF(E34=E$4,E$3),IF(F34=F$4,F$3),IF(G34=G$4,G$3),IF(H34=H$4,H$3),IF(I34=I$4,I$3),IF(J34=J$4,J$3),IF(K34=K$4,K$3),IF(L34=L$4,L$3),IF(M34=M$4,M$3),IF(N34=N$4,N$3),IF(O34=O$4,O$3),IF(P34=P$4,P$3),IF(Q34=Q$4,Q$3)) -> 79
W35: =SUM(IF(B35=B$4,1),IF(C35=C$4,1),IF(D35=D$4,1),IF(E35=E$4,1),IF(F35=F$4,1),IF(G35=G$4,1),IF(H35=H$4,1),IF(I35=I$4,1),IF(J35=J$4,1),IF(K35=K$4,1),IF(L35=L$4,1),IF(M35=M$4,1),IF(N35=N$4,1),IF(O35=O$4,1),IF(P35=P$4,1),IF(Q35=Q$4,1)) -> 16 | X35: =SUM(IF(B35=B$4,B$3),IF(C35=C$4,C$3),IF(D35=D$4,D$3),IF(E35=E$4,E$3),IF(F35=F$4,F$3),IF(G35=G$4,G$3),IF(H35=H$4,H$3),IF(I35=I$4,I$3),IF(J35=J$4,J$3),IF(K35=K$4,K$3),IF(L35=L$4,L$3),IF(M35=M$4,M$3),IF(N35=N$4,N$3),IF(O35=O$4,O$3),IF(P35=P$4,P$3),IF(Q35=Q$4,Q$3)) -> 79
W36: =SUM(IF(B36=B$4,1),IF(C36=C$4,1),IF(D36=D$4,1),IF(E36=E$4,1),IF(F36=F$4,1),IF(G36=G$4,1),IF(H36=H$4,1),IF(I36=I$4,1),IF(J36=J$4,1),IF(K36=K$4,1),IF(L36=L$4,1),IF(M36=M$4,1),IF(N36=N$4,1),IF(O36=O$4,1),IF(P36=P$4,1),IF(Q36=Q$4,1)) -> 16 | X36: =SUM(IF(B36=B$4,B$3),IF(C36=C$4,C$3),IF(D36=D$4,D$3),IF(E36=E$4,E$3),IF(F36=F$4,F$3),IF(G36=G$4,G$3),IF(H36=H$4,H$3),IF(I36=I$4,I$3),IF(J36=J$4,J$3),IF(K36=K$4,K$3),IF(L36=L$4,L$3),IF(M36=M$4,M$3),IF(N36=N$4,N$3),IF(O36=O$4,O$3),IF(P36=P$4,P$3),IF(Q36=Q$4,Q$3)) -> 79
W37: =SUM(IF(B37=B$4,1),IF(C37=C$4,1),IF(D37=D$4,1),IF(E37=E$4,1),IF(F37=F$4,1),IF(G37=G$4,1),IF(H37=H$4,1),IF(I37=I$4,1),IF(J37=J$4,1),IF(K37=K$4,1),IF(L37=L$4,1),IF(M37=M$4,1),IF(N37=N$4,1),IF(O37=O$4,1),IF(P37=P$4,1),IF(Q37=Q$4,1)) -> 16 | X37: =SUM(IF(B37=B$4,B$3),IF(C37=C$4,C$3),IF(D37=D$4,D$3),IF(E37=E$4,E$3),IF(F37=F$4,F$3),IF(G37=G$4,G$3),IF(H37=H$4,H$3),IF(I37=I$4,I$3),IF(J37=J$4,J$3),IF(K37=K$4,K$3),IF(L37=L$4,L$3),IF(M37=M$4,M$3),IF(N37=N$4,N$3),IF(O37=O$4,O$3),IF(P37=P$4,P$3),IF(Q37=Q$4,Q$3)) -> 79
A38: DIVISION IV
W39: =SUM(IF(B39=B$4,1),IF(C39=C$4,1),IF(D39=D$4,1),IF(E39=E$4,1),IF(F39=F$4,1),IF(G39=G$4,1),IF(H39=H$4,1),IF(I39=I$4,1),IF(J39=J$4,1),IF(K39=K$4,1),IF(L39=L$4,1),IF(M39=M$4,1),IF(N39=N$4,1),IF(O39=O$4,1),IF(P39=P$4,1),IF(Q39=Q$4,1)) -> 16 | X39: =SUM(IF(B39=B$4,B$3),IF(C39=C$4,C$3),IF(D39=D$4,D$3),IF(E39=E$4,E$3),IF(F39=F$4,F$3),IF(G39=G$4,G$3),IF(H39=H$4,H$3),IF(I39=I$4,I$3),IF(J39=J$4,J$3),IF(K39=K$4,K$3),IF(L39=L$4,L$3),IF(M39=M$4,M$3),IF(N39=N$4,N$3),IF(O39=O$4,O$3),IF(P39=P$4,P$3),IF(Q39=Q$4,Q$3)) -> 79
W40: =SUM(IF(B40=B$4,1),IF(C40=C$4,1),IF(D40=D$4,1),IF(E40=E$4,1),IF(F40=F$4,1),IF(G40=G$4,1),IF(H40=H$4,1),IF(I40=I$4,1),IF(J40=J$4,1),IF(K40=K$4,1),IF(L40=L$4,1),IF(M40=M$4,1),IF(N40=N$4,1),IF(O40=O$4,1),IF(P40=P$4,1),IF(Q40=Q$4,1)) -> 16 | X40: =SUM(IF(B40=B$4,B$3),IF(C40=C$4,C$3),IF(D40=D$4,D$3),IF(E40=E$4,E$3),IF(F40=F$4,F$3),IF(G40=G$4,G$3),IF(H40=H$4,H$3),IF(I40=I$4,I$3),IF(J40=J$4,J$3),IF(K40=K$4,K$3),IF(L40=L$4,L$3),IF(M40=M$4,M$3),IF(N40=N$4,N$3),IF(O40=O$4,O$3),IF(P40=P$4,P$3),IF(Q40=Q$4,Q$3)) -> 79
W41: =SUM(IF(B41=B$4,1),IF(C41=C$4,1),IF(D41=D$4,1),IF(E41=E$4,1),IF(F41=F$4,1),IF(G41=G$4,1),IF(H41=H$4,1),IF(I41=I$4,1),IF(J41=J$4,1),IF(K41=K$4,1),IF(L41=L$4,1),IF(M41=M$4,1),IF(N41=N$4,1),IF(O41=O$4,1),IF(P41=P$4,1),IF(Q41=Q$4,1)) -> 16 | X41: =SUM(IF(B41=B$4,B$3),IF(C41=C$4,C$3),IF(D41=D$4,D$3),IF(E41=E$4,E$3),IF(F41=F$4,F$3),IF(G41=G$4,G$3),IF(H41=H$4,H$3),IF(I41=I$4,I$3),IF(J41=J$4,J$3),IF(K41=K$4,K$3),IF(L41=L$4,L$3),IF(M41=M$4,M$3),IF(N41=N$4,N$3),IF(O41=O$4,O$3),IF(P41=P$4,P$3),IF(Q41=Q$4,Q$3)) -> 79
W42: =SUM(IF(B42=B$4,1),IF(C42=C$4,1),IF(D42=D$4,1),IF(E42=E$4,1),IF(F42=F$4,1),IF(G42=G$4,1),IF(H42=H$4,1),IF(I42=I$4,1),IF(J42=J$4,1),IF(K42=K$4,1),IF(L42=L$4,1),IF(M42=M$4,1),IF(N42=N$4,1),IF(O42=O$4,1),IF(P42=P$4,1),IF(Q42=Q$4,1)) -> 16 | X42: =SUM(IF(B42=B$4,B$3),IF(C42=C$4,C$3),IF(D42=D$4,D$3),IF(E42=E$4,E$3),IF(F42=F$4,F$3),IF(G42=G$4,G$3),IF(H42=H$4,H$3),IF(I42=I$4,I$3),IF(J42=J$4,J$3),IF(K42=K$4,K$3),IF(L42=L$4,L$3),IF(M42=M$4,M$3),IF(N42=N$4,N$3),IF(O42=O$4,O$3),IF(P42=P$4,P$3),IF(Q42=Q$4,Q$3)) -> 79
W43: =SUM(IF(B43=B$4,1),IF(C43=C$4,1),IF(D43=D$4,1),IF(E43=E$4,1),IF(F43=F$4,1),IF(G43=G$4,1),IF(H43=H$4,1),IF(I43=I$4,1),IF(J43=J$4,1),IF(K43=K$4,1),IF(L43=L$4,1),IF(M43=M$4,1),IF(N43=N$4,1),IF(O43=O$4,1),IF(P43=P$4,1),IF(Q43=Q$4,1)) -> 16 | X43: =SUM(IF(B43=B$4,B$3),IF(C43=C$4,C$3),IF(D43=D$4,D$3),IF(E43=E$4,E$3),IF(F43=F$4,F$3),IF(G43=G$4,G$3),IF(H43=H$4,H$3),IF(I43=I$4,I$3),IF(J43=J$4,J$3),IF(K43=K$4,K$3),IF(L43=L$4,L$3),IF(M43=M$4,M$3),IF(N43=N$4,N$3),IF(O43=O$4,O$3),IF(P43=P$4,P$3),IF(Q43=Q$4,Q$3)) -> 79
W44: =SUM(IF(B44=B$4,1),IF(C44=C$4,1),IF(D44=D$4,1),IF(E44=E$4,1),IF(F44=F$4,1),IF(G44=G$4,1),IF(H44=H$4,1),IF(I44=I$4,1),IF(J44=J$4,1),IF(K44=K$4,1),IF(L44=L$4,1),IF(M44=M$4,1),IF(N44=N$4,1),IF(O44=O$4,1),IF(P44=P$4,1),IF(Q44=Q$4,1)) -> 16 | X44: =SUM(IF(B44=B$4,B$3),IF(C44=C$4,C$3),IF(D44=D$4,D$3),IF(E44=E$4,E$3),IF(F44=F$4,F$3),IF(G44=G$4,G$3),IF(H44=H$4,H$3),IF(I44=I$4,I$3),IF(J44=J$4,J$3),IF(K44=K$4,K$3),IF(L44=L$4,L$3),IF(M44=M$4,M$3),IF(N44=N$4,N$3),IF(O44=O$4,O$3),IF(P44=P$4,P$3),IF(Q44=Q$4,Q$3)) -> 79
W45: =SUM(IF(B45=B$4,1),IF(C45=C$4,1),IF(D45=D$4,1),IF(E45=E$4,1),IF(F45=F$4,1),IF(G45=G$4,1),IF(H45=H$4,1),IF(I45=I$4,1),IF(J45=J$4,1),IF(K45=K$4,1),IF(L45=L$4,1),IF(M45=M$4,1),IF(N45=N$4,1),IF(O45=O$4,1),IF(P45=P$4,1),IF(Q45=Q$4,1)) -> 16 | X45: =SUM(IF(B45=B$4,B$3),IF(C45=C$4,C$3),IF(D45=D$4,D$3),IF(E45=E$4,E$3),IF(F45=F$4,F$3),IF(G45=G$4,G$3),IF(H45=H$4,H$3),IF(I45=I$4,I$3),IF(J45=J$4,J$3),IF(K45=K$4,K$3),IF(L45=L$4,L$3),IF(M45=M$4,M$3),IF(N45=N$4,N$3),IF(O45=O$4,O$3),IF(P45=P$4,P$3),IF(Q45=Q$4,Q$3)) -> 79
W46: =SUM(IF(B46=B$4,1),IF(C46=C$4,1),IF(D46=D$4,1),IF(E46=E$4,1),IF(F46=F$4,1),IF(G46=G$4,1),IF(H46=H$4,1),IF(I46=I$4,1),IF(J46=J$4,1),IF(K46=K$4,1),IF(L46=L$4,1),IF(M46=M$4,1),IF(N46=N$4,1),IF(O46=O$4,1),IF(P46=P$4,1),IF(Q46=Q$4,1)) -> 16 | X46: =SUM(IF(B46=B$4,B$3),IF(C46=C$4,C$3),IF(D46=D$4,D$3),IF(E46=E$4,E$3),IF(F46=F$4,F$3),IF(G46=G$4,G$3),IF(H46=H$4,H$3),IF(I46=I$4,I$3),IF(J46=J$4,J$3),IF(K46=K$4,K$3),IF(L46=L$4,L$3),IF(M46=M$4,M$3),IF(N46=N$4,N$3),IF(O46=O$4,O$3),IF(P46=P$4,P$3),IF(Q46=Q$4,Q$3)) -> 79
W47: =SUM(IF(B47=B$4,1),IF(C47=C$4,1),IF(D47=D$4,1),IF(E47=E$4,1),IF(F47=F$4,1),IF(G47=G$4,1),IF(H47=H$4,1),IF(I47=I$4,1),IF(J47=J$4,1),IF(K47=K$4,1),IF(L47=L$4,1),IF(M47=M$4,1),IF(N47=N$4,1),IF(O47=O$4,1),IF(P47=P$4,1),IF(Q47=Q$4,1)) -> 16 | X47: =SUM(IF(B47=B$4,B$3),IF(C47=C$4,C$3),IF(D47=D$4,D$3),IF(E47=E$4,E$3),IF(F47=F$4,F$3),IF(G47=G$4,G$3),IF(H47=H$4,H$3),IF(I47=I$4,I$3),IF(J47=J$4,J$3),IF(K47=K$4,K$3),IF(L47=L$4,L$3),IF(M47=M$4,M$3),IF(N47=N$4,N$3),IF(O47=O$4,O$3),IF(P47=P$4,P$3),IF(Q47=Q$4,Q$3)) -> 79

Sheet WK5
A1: PARTICIPANTS | B1: SF | C1: MIN | D1: HOU | E1: MIA | F1: LV | G1: NYG | H1: DAL | I1: DEN | J1: TEN | K1: TB | L1: DET | M1: WAS | N1: NE | O1: KC | V1: AWAY | W1: TOTAL | X1: TOTAL
A2: HOME | B2: LAR | C2: CLE | D2: BAL | E2: CAR | F2: IND | G2: NO | H2: NYJ | I2: PHI | J2: AZ | K2: SEA | L2: CIN | M2: LAC | N2: BUF | O2: JAC | V2: HOME | W2: WINS | X2: PTS
A3: POINT VALUE | B3: 10 | C3: 3 | D3: 5 | E3: 3 | F3: 5 | G3: 5 | H3: 3 | I3: 3 | J3: 3 | K3: 5 | L3: 3 | M3: 3 | N3: 10 | O3: 5 | V3: POINT VALUE | W3: 16 | X3: =SUM(B3:Q3) -> 66
A4: WINNER | P4: N/A | Q4: N/A | R4: N/A | S4: N/A | T4: N/A | U4: N/A | V4: WINNER
A5: DIVISION I
W6: =SUM(IF(B6=B$4,1),IF(C6=C$4,1),IF(D6=D$4,1),IF(E6=E$4,1),IF(F6=F$4,1),IF(G6=G$4,1),IF(H6=H$4,1),IF(I6=I$4,1),IF(J6=J$4,1),IF(K6=K$4,1),IF(L6=L$4,1),IF(M6=M$4,1),IF(N6=N$4,1),IF(O6=O$4,1),IF(P6=P$4,1),IF(Q6=Q$4,1)) -> 14 | X6: =SUM(IF(B6=B$4,B$3),IF(C6=C$4,C$3),IF(D6=D$4,D$3),IF(E6=E$4,E$3),IF(F6=F$4,F$3),IF(G6=G$4,G$3),IF(H6=H$4,H$3),IF(I6=I$4,I$3),IF(J6=J$4,J$3),IF(K6=K$4,K$3),IF(L6=L$4,L$3),IF(M6=M$4,M$3),IF(N6=N$4,N$3),IF(O6=O$4,O$3),IF(P6=P$4,P$3),IF(Q6=Q$4,Q$3)) -> 66
W7: =SUM(IF(B7=B$4,1),IF(C7=C$4,1),IF(D7=D$4,1),IF(E7=E$4,1),IF(F7=F$4,1),IF(G7=G$4,1),IF(H7=H$4,1),IF(I7=I$4,1),IF(J7=J$4,1),IF(K7=K$4,1),IF(L7=L$4,1),IF(M7=M$4,1),IF(N7=N$4,1),IF(O7=O$4,1),IF(P7=P$4,1),IF(Q7=Q$4,1)) -> 14 | X7: =SUM(IF(B7=B$4,B$3),IF(C7=C$4,C$3),IF(D7=D$4,D$3),IF(E7=E$4,E$3),IF(F7=F$4,F$3),IF(G7=G$4,G$3),IF(H7=H$4,H$3),IF(I7=I$4,I$3),IF(J7=J$4,J$3),IF(K7=K$4,K$3),IF(L7=L$4,L$3),IF(M7=M$4,M$3),IF(N7=N$4,N$3),IF(O7=O$4,O$3),IF(P7=P$4,P$3),IF(Q7=Q$4,Q$3)) -> 66
W8: =SUM(IF(B8=B$4,1),IF(C8=C$4,1),IF(D8=D$4,1),IF(E8=E$4,1),IF(F8=F$4,1),IF(G8=G$4,1),IF(H8=H$4,1),IF(I8=I$4,1),IF(J8=J$4,1),IF(K8=K$4,1),IF(L8=L$4,1),IF(M8=M$4,1),IF(N8=N$4,1),IF(O8=O$4,1),IF(P8=P$4,1),IF(Q8=Q$4,1)) -> 14 | X8: =SUM(IF(B8=B$4,B$3),IF(C8=C$4,C$3),IF(D8=D$4,D$3),IF(E8=E$4,E$3),IF(F8=F$4,F$3),IF(G8=G$4,G$3),IF(H8=H$4,H$3),IF(I8=I$4,I$3),IF(J8=J$4,J$3),IF(K8=K$4,K$3),IF(L8=L$4,L$3),IF(M8=M$4,M$3),IF(N8=N$4,N$3),IF(O8=O$4,O$3),IF(P8=P$4,P$3),IF(Q8=Q$4,Q$3)) -> 66
W9: =SUM(IF(B9=B$4,1),IF(C9=C$4,1),IF(D9=D$4,1),IF(E9=E$4,1),IF(F9=F$4,1),IF(G9=G$4,1),IF(H9=H$4,1),IF(I9=I$4,1),IF(J9=J$4,1),IF(K9=K$4,1),IF(L9=L$4,1),IF(M9=M$4,1),IF(N9=N$4,1),IF(O9=O$4,1),IF(P9=P$4,1),IF(Q9=Q$4,1)) -> 14 | X9: =SUM(IF(B9=B$4,B$3),IF(C9=C$4,C$3),IF(D9=D$4,D$3),IF(E9=E$4,E$3),IF(F9=F$4,F$3),IF(G9=G$4,G$3),IF(H9=H$4,H$3),IF(I9=I$4,I$3),IF(J9=J$4,J$3),IF(K9=K$4,K$3),IF(L9=L$4,L$3),IF(M9=M$4,M$3),IF(N9=N$4,N$3),IF(O9=O$4,O$3),IF(P9=P$4,P$3),IF(Q9=Q$4,Q$3)) -> 66
W10: =SUM(IF(B10=B$4,1),IF(C10=C$4,1),IF(D10=D$4,1),IF(E10=E$4,1),IF(F10=F$4,1),IF(G10=G$4,1),IF(H10=H$4,1),IF(I10=I$4,1),IF(J10=J$4,1),IF(K10=K$4,1),IF(L10=L$4,1),IF(M10=M$4,1),IF(N10=N$4,1),IF(O10=O$4,1),IF(P10=P$4,1),IF(Q10=Q$4,1)) -> 14 | X10: =SUM(IF(B10=B$4,B$3),IF(C10=C$4,C$3),IF(D10=D$4,D$3),IF(E10=E$4,E$3),IF(F10=F$4,F$3),IF(G10=G$4,G$3),IF(H10=H$4,H$3),IF(I10=I$4,I$3),IF(J10=J$4,J$3),IF(K10=K$4,K$3),IF(L10=L$4,L$3),IF(M10=M$4,M$3),IF(N10=N$4,N$3),IF(O10=O$4,O$3),IF(P10=P$4,P$3),IF(Q10=Q$4,Q$3)) -> 66
W11: =SUM(IF(B11=B$4,1),IF(C11=C$4,1),IF(D11=D$4,1),IF(E11=E$4,1),IF(F11=F$4,1),IF(G11=G$4,1),IF(H11=H$4,1),IF(I11=I$4,1),IF(J11=J$4,1),IF(K11=K$4,1),IF(L11=L$4,1),IF(M11=M$4,1),IF(N11=N$4,1),IF(O11=O$4,1),IF(P11=P$4,1),IF(Q11=Q$4,1)) -> 14 | X11: =SUM(IF(B11=B$4,B$3),IF(C11=C$4,C$3),IF(D11=D$4,D$3),IF(E11=E$4,E$3),IF(F11=F$4,F$3),IF(G11=G$4,G$3),IF(H11=H$4,H$3),IF(I11=I$4,I$3),IF(J11=J$4,J$3),IF(K11=K$4,K$3),IF(L11=L$4,L$3),IF(M11=M$4,M$3),IF(N11=N$4,N$3),IF(O11=O$4,O$3),IF(P11=P$4,P$3),IF(Q11=Q$4,Q$3)) -> 66
W12: =SUM(IF(B12=B$4,1),IF(C12=C$4,1),IF(D12=D$4,1),IF(E12=E$4,1),IF(F12=F$4,1),IF(G12=G$4,1),IF(H12=H$4,1),IF(I12=I$4,1),IF(J12=J$4,1),IF(K12=K$4,1),IF(L12=L$4,1),IF(M12=M$4,1),IF(N12=N$4,1),IF(O12=O$4,1),IF(P12=P$4,1),IF(Q12=Q$4,1)) -> 14 | X12: =SUM(IF(B12=B$4,B$3),IF(C12=C$4,C$3),IF(D12=D$4,D$3),IF(E12=E$4,E$3),IF(F12=F$4,F$3),IF(G12=G$4,G$3),IF(H12=H$4,H$3),IF(I12=I$4,I$3),IF(J12=J$4,J$3),IF(K12=K$4,K$3),IF(L12=L$4,L$3),IF(M12=M$4,M$3),IF(N12=N$4,N$3),IF(O12=O$4,O$3),IF(P12=P$4,P$3),IF(Q12=Q$4,Q$3)) -> 66
W13: =SUM(IF(B13=B$4,1),IF(C13=C$4,1),IF(D13=D$4,1),IF(E13=E$4,1),IF(F13=F$4,1),IF(G13=G$4,1),IF(H13=H$4,1),IF(I13=I$4,1),IF(J13=J$4,1),IF(K13=K$4,1),IF(L13=L$4,1),IF(M13=M$4,1),IF(N13=N$4,1),IF(O13=O$4,1),IF(P13=P$4,1),IF(Q13=Q$4,1)) -> 14 | X13: =SUM(IF(B13=B$4,B$3),IF(C13=C$4,C$3),IF(D13=D$4,D$3),IF(E13=E$4,E$3),IF(F13=F$4,F$3),IF(G13=G$4,G$3),IF(H13=H$4,H$3),IF(I13=I$4,I$3),IF(J13=J$4,J$3),IF(K13=K$4,K$3),IF(L13=L$4,L$3),IF(M13=M$4,M$3),IF(N13=N$4,N$3),IF(O13=O$4,O$3),IF(P13=P$4,P$3),IF(Q13=Q$4,Q$3)) -> 66
W14: =SUM(IF(B14=B$4,1),IF(C14=C$4,1),IF(D14=D$4,1),IF(E14=E$4,1),IF(F14=F$4,1),IF(G14=G$4,1),IF(H14=H$4,1),IF(I14=I$4,1),IF(J14=J$4,1),IF(K14=K$4,1),IF(L14=L$4,1),IF(M14=M$4,1),IF(N14=N$4,1),IF(O14=O$4,1),IF(P14=P$4,1),IF(Q14=Q$4,1)) -> 14 | X14: =SUM(IF(B14=B$4,B$3),IF(C14=C$4,C$3),IF(D14=D$4,D$3),IF(E14=E$4,E$3),IF(F14=F$4,F$3),IF(G14=G$4,G$3),IF(H14=H$4,H$3),IF(I14=I$4,I$3),IF(J14=J$4,J$3),IF(K14=K$4,K$3),IF(L14=L$4,L$3),IF(M14=M$4,M$3),IF(N14=N$4,N$3),IF(O14=O$4,O$3),IF(P14=P$4,P$3),IF(Q14=Q$4,Q$3)) -> 66
W15: =SUM(IF(B15=B$4,1),IF(C15=C$4,1),IF(D15=D$4,1),IF(E15=E$4,1),IF(F15=F$4,1),IF(G15=G$4,1),IF(H15=H$4,1),IF(I15=I$4,1),IF(J15=J$4,1),IF(K15=K$4,1),IF(L15=L$4,1),IF(M15=M$4,1),IF(N15=N$4,1),IF(O15=O$4,1),IF(P15=P$4,1),IF(Q15=Q$4,1)) -> 14 | X15: =SUM(IF(B15=B$4,B$3),IF(C15=C$4,C$3),IF(D15=D$4,D$3),IF(E15=E$4,E$3),IF(F15=F$4,F$3),IF(G15=G$4,G$3),IF(H15=H$4,H$3),IF(I15=I$4,I$3),IF(J15=J$4,J$3),IF(K15=K$4,K$3),IF(L15=L$4,L$3),IF(M15=M$4,M$3),IF(N15=N$4,N$3),IF(O15=O$4,O$3),IF(P15=P$4,P$3),IF(Q15=Q$4,Q$3)) -> 66
A16: DIVISION II
W17: =SUM(IF(B17=B$4,1),IF(C17=C$4,1),IF(D17=D$4,1),IF(E17=E$4,1),IF(F17=F$4,1),IF(G17=G$4,1),IF(H17=H$4,1),IF(I17=I$4,1),IF(J17=J$4,1),IF(K17=K$4,1),IF(L17=L$4,1),IF(M17=M$4,1),IF(N17=N$4,1),IF(O17=O$4,1),IF(P17=P$4,1),IF(Q17=Q$4,1)) -> 14 | X17: =SUM(IF(B17=B$4,B$3),IF(C17=C$4,C$3),IF(D17=D$4,D$3),IF(E17=E$4,E$3),IF(F17=F$4,F$3),IF(G17=G$4,G$3),IF(H17=H$4,H$3),IF(I17=I$4,I$3),IF(J17=J$4,J$3),IF(K17=K$4,K$3),IF(L17=L$4,L$3),IF(M17=M$4,M$3),IF(N17=N$4,N$3),IF(O17=O$4,O$3),IF(P17=P$4,P$3),IF(Q17=Q$4,Q$3)) -> 66
W18: =SUM(IF(B18=B$4,1),IF(C18=C$4,1),IF(D18=D$4,1),IF(E18=E$4,1),IF(F18=F$4,1),IF(G18=G$4,1),IF(H18=H$4,1),IF(I18=I$4,1),IF(J18=J$4,1),IF(K18=K$4,1),IF(L18=L$4,1),IF(M18=M$4,1),IF(N18=N$4,1),IF(O18=O$4,1),IF(P18=P$4,1),IF(Q18=Q$4,1)) -> 14 | X18: =SUM(IF(B18=B$4,B$3),IF(C18=C$4,C$3),IF(D18=D$4,D$3),IF(E18=E$4,E$3),IF(F18=F$4,F$3),IF(G18=G$4,G$3),IF(H18=H$4,H$3),IF(I18=I$4,I$3),IF(J18=J$4,J$3),IF(K18=K$4,K$3),IF(L18=L$4,L$3),IF(M18=M$4,M$3),IF(N18=N$4,N$3),IF(O18=O$4,O$3),IF(P18=P$4,P$3),IF(Q18=Q$4,Q$3)) -> 66
W19: =SUM(IF(B19=B$4,1),IF(C19=C$4,1),IF(D19=D$4,1),IF(E19=E$4,1),IF(F19=F$4,1),IF(G19=G$4,1),IF(H19=H$4,1),IF(I19=I$4,1),IF(J19=J$4,1),IF(K19=K$4,1),IF(L19=L$4,1),IF(M19=M$4,1),IF(N19=N$4,1),IF(O19=O$4,1),IF(P19=P$4,1),IF(Q19=Q$4,1)) -> 14 | X19: =SUM(IF(B19=B$4,B$3),IF(C19=C$4,C$3),IF(D19=D$4,D$3),IF(E19=E$4,E$3),IF(F19=F$4,F$3),IF(G19=G$4,G$3),IF(H19=H$4,H$3),IF(I19=I$4,I$3),IF(J19=J$4,J$3),IF(K19=K$4,K$3),IF(L19=L$4,L$3),IF(M19=M$4,M$3),IF(N19=N$4,N$3),IF(O19=O$4,O$3),IF(P19=P$4,P$3),IF(Q19=Q$4,Q$3)) -> 66
W20: =SUM(IF(B20=B$4,1),IF(C20=C$4,1),IF(D20=D$4,1),IF(E20=E$4,1),IF(F20=F$4,1),IF(G20=G$4,1),IF(H20=H$4,1),IF(I20=I$4,1),IF(J20=J$4,1),IF(K20=K$4,1),IF(L20=L$4,1),IF(M20=M$4,1),IF(N20=N$4,1),IF(O20=O$4,1),IF(P20=P$4,1),IF(Q20=Q$4,1)) -> 14 | X20: =SUM(IF(B20=B$4,B$3),IF(C20=C$4,C$3),IF(D20=D$4,D$3),IF(E20=E$4,E$3),IF(F20=F$4,F$3),IF(G20=G$4,G$3),IF(H20=H$4,H$3),IF(I20=I$4,I$3),IF(J20=J$4,J$3),IF(K20=K$4,K$3),IF(L20=L$4,L$3),IF(M20=M$4,M$3),IF(N20=N$4,N$3),IF(O20=O$4,O$3),IF(P20=P$4,P$3),IF(Q20=Q$4,Q$3)) -> 66
W21: =SUM(IF(B21=B$4,1),IF(C21=C$4,1),IF(D21=D$4,1),IF(E21=E$4,1),IF(F21=F$4,1),IF(G21=G$4,1),IF(H21=H$4,1),IF(I21=I$4,1),IF(J21=J$4,1),IF(K21=K$4,1),IF(L21=L$4,1),IF(M21=M$4,1),IF(N21=N$4,1),IF(O21=O$4,1),IF(P21=P$4,1),IF(Q21=Q$4,1)) -> 14 | X21: =SUM(IF(B21=B$4,B$3),IF(C21=C$4,C$3),IF(D21=D$4,D$3),IF(E21=E$4,E$3),IF(F21=F$4,F$3),IF(G21=G$4,G$3),IF(H21=H$4,H$3),IF(I21=I$4,I$3),IF(J21=J$4,J$3),IF(K21=K$4,K$3),IF(L21=L$4,L$3),IF(M21=M$4,M$3),IF(N21=N$4,N$3),IF(O21=O$4,O$3),IF(P21=P$4,P$3),IF(Q21=Q$4,Q$3)) -> 66
W22: =SUM(IF(B22=B$4,1),IF(C22=C$4,1),IF(D22=D$4,1),IF(E22=E$4,1),IF(F22=F$4,1),IF(G22=G$4,1),IF(H22=H$4,1),IF(I22=I$4,1),IF(J22=J$4,1),IF(K22=K$4,1),IF(L22=L$4,1),IF(M22=M$4,1),IF(N22=N$4,1),IF(O22=O$4,1),IF(P22=P$4,1),IF(Q22=Q$4,1)) -> 14 | X22: =SUM(IF(B22=B$4,B$3),IF(C22=C$4,C$3),IF(D22=D$4,D$3),IF(E22=E$4,E$3),IF(F22=F$4,F$3),IF(G22=G$4,G$3),IF(H22=H$4,H$3),IF(I22=I$4,I$3),IF(J22=J$4,J$3),IF(K22=K$4,K$3),IF(L22=L$4,L$3),IF(M22=M$4,M$3),IF(N22=N$4,N$3),IF(O22=O$4,O$3),IF(P22=P$4,P$3),IF(Q22=Q$4,Q$3)) -> 66
W23: =SUM(IF(B23=B$4,1),IF(C23=C$4,1),IF(D23=D$4,1),IF(E23=E$4,1),IF(F23=F$4,1),IF(G23=G$4,1),IF(H23=H$4,1),IF(I23=I$4,1),IF(J23=J$4,1),IF(K23=K$4,1),IF(L23=L$4,1),IF(M23=M$4,1),IF(N23=N$4,1),IF(O23=O$4,1),IF(P23=P$4,1),IF(Q23=Q$4,1)) -> 14 | X23: =SUM(IF(B23=B$4,B$3),IF(C23=C$4,C$3),IF(D23=D$4,D$3),IF(E23=E$4,E$3),IF(F23=F$4,F$3),IF(G23=G$4,G$3),IF(H23=H$4,H$3),IF(I23=I$4,I$3),IF(J23=J$4,J$3),IF(K23=K$4,K$3),IF(L23=L$4,L$3),IF(M23=M$4,M$3),IF(N23=N$4,N$3),IF(O23=O$4,O$3),IF(P23=P$4,P$3),IF(Q23=Q$4,Q$3)) -> 66
W24: =SUM(IF(B24=B$4,1),IF(C24=C$4,1),IF(D24=D$4,1),IF(E24=E$4,1),IF(F24=F$4,1),IF(G24=G$4,1),IF(H24=H$4,1),IF(I24=I$4,1),IF(J24=J$4,1),IF(K24=K$4,1),IF(L24=L$4,1),IF(M24=M$4,1),IF(N24=N$4,1),IF(O24=O$4,1),IF(P24=P$4,1),IF(Q24=Q$4,1)) -> 14 | X24: =SUM(IF(B24=B$4,B$3),IF(C24=C$4,C$3),IF(D24=D$4,D$3),IF(E24=E$4,E$3),IF(F24=F$4,F$3),IF(G24=G$4,G$3),IF(H24=H$4,H$3),IF(I24=I$4,I$3),IF(J24=J$4,J$3),IF(K24=K$4,K$3),IF(L24=L$4,L$3),IF(M24=M$4,M$3),IF(N24=N$4,N$3),IF(O24=O$4,O$3),IF(P24=P$4,P$3),IF(Q24=Q$4,Q$3)) -> 66
W25: =SUM(IF(B25=B$4,1),IF(C25=C$4,1),IF(D25=D$4,1),IF(E25=E$4,1),IF(F25=F$4,1),IF(G25=G$4,1),IF(H25=H$4,1),IF(I25=I$4,1),IF(J25=J$4,1),IF(K25=K$4,1),IF(L25=L$4,1),IF(M25=M$4,1),IF(N25=N$4,1),IF(O25=O$4,1),IF(P25=P$4,1),IF(Q25=Q$4,1)) -> 14 | X25: =SUM(IF(B25=B$4,B$3),IF(C25=C$4,C$3),IF(D25=D$4,D$3),IF(E25=E$4,E$3),IF(F25=F$4,F$3),IF(G25=G$4,G$3),IF(H25=H$4,H$3),IF(I25=I$4,I$3),IF(J25=J$4,J$3),IF(K25=K$4,K$3),IF(L25=L$4,L$3),IF(M25=M$4,M$3),IF(N25=N$4,N$3),IF(O25=O$4,O$3),IF(P25=P$4,P$3),IF(Q25=Q$4,Q$3)) -> 66
W26: =SUM(IF(B26=B$4,1),IF(C26=C$4,1),IF(D26=D$4,1),IF(E26=E$4,1),IF(F26=F$4,1),IF(G26=G$4,1),IF(H26=H$4,1),IF(I26=I$4,1),IF(J26=J$4,1),IF(K26=K$4,1),IF(L26=L$4,1),IF(M26=M$4,1),IF(N26=N$4,1),IF(O26=O$4,1),IF(P26=P$4,1),IF(Q26=Q$4,1)) -> 14 | X26: =SUM(IF(B26=B$4,B$3),IF(C26=C$4,C$3),IF(D26=D$4,D$3),IF(E26=E$4,E$3),IF(F26=F$4,F$3),IF(G26=G$4,G$3),IF(H26=H$4,H$3),IF(I26=I$4,I$3),IF(J26=J$4,J$3),IF(K26=K$4,K$3),IF(L26=L$4,L$3),IF(M26=M$4,M$3),IF(N26=N$4,N$3),IF(O26=O$4,O$3),IF(P26=P$4,P$3),IF(Q26=Q$4,Q$3)) -> 66
A27: DIVISION III
W28: =SUM(IF(B28=B$4,1),IF(C28=C$4,1),IF(D28=D$4,1),IF(E28=E$4,1),IF(F28=F$4,1),IF(G28=G$4,1),IF(H28=H$4,1),IF(I28=I$4,1),IF(J28=J$4,1),IF(K28=K$4,1),IF(L28=L$4,1),IF(M28=M$4,1),IF(N28=N$4,1),IF(O28=O$4,1),IF(P28=P$4,1),IF(Q28=Q$4,1)) -> 14 | X28: =SUM(IF(B28=B$4,B$3),IF(C28=C$4,C$3),IF(D28=D$4,D$3),IF(E28=E$4,E$3),IF(F28=F$4,F$3),IF(G28=G$4,G$3),IF(H28=H$4,H$3),IF(I28=I$4,I$3),IF(J28=J$4,J$3),IF(K28=K$4,K$3),IF(L28=L$4,L$3),IF(M28=M$4,M$3),IF(N28=N$4,N$3),IF(O28=O$4,O$3),IF(P28=P$4,P$3),IF(Q28=Q$4,Q$3)) -> 66
W29: =SUM(IF(B29=B$4,1),IF(C29=C$4,1),IF(D29=D$4,1),IF(E29=E$4,1),IF(F29=F$4,1),IF(G29=G$4,1),IF(H29=H$4,1),IF(I29=I$4,1),IF(J29=J$4,1),IF(K29=K$4,1),IF(L29=L$4,1),IF(M29=M$4,1),IF(N29=N$4,1),IF(O29=O$4,1),IF(P29=P$4,1),IF(Q29=Q$4,1)) -> 14 | X29: =SUM(IF(B29=B$4,B$3),IF(C29=C$4,C$3),IF(D29=D$4,D$3),IF(E29=E$4,E$3),IF(F29=F$4,F$3),IF(G29=G$4,G$3),IF(H29=H$4,H$3),IF(I29=I$4,I$3),IF(J29=J$4,J$3),IF(K29=K$4,K$3),IF(L29=L$4,L$3),IF(M29=M$4,M$3),IF(N29=N$4,N$3),IF(O29=O$4,O$3),IF(P29=P$4,P$3),IF(Q29=Q$4,Q$3)) -> 66
W30: =SUM(IF(B30=B$4,1),IF(C30=C$4,1),IF(D30=D$4,1),IF(E30=E$4,1),IF(F30=F$4,1),IF(G30=G$4,1),IF(H30=H$4,1),IF(I30=I$4,1),IF(J30=J$4,1),IF(K30=K$4,1),IF(L30=L$4,1),IF(M30=M$4,1),IF(N30=N$4,1),IF(O30=O$4,1),IF(P30=P$4,1),IF(Q30=Q$4,1)) -> 14 | X30: =SUM(IF(B30=B$4,B$3),IF(C30=C$4,C$3),IF(D30=D$4,D$3),IF(E30=E$4,E$3),IF(F30=F$4,F$3),IF(G30=G$4,G$3),IF(H30=H$4,H$3),IF(I30=I$4,I$3),IF(J30=J$4,J$3),IF(K30=K$4,K$3),IF(L30=L$4,L$3),IF(M30=M$4,M$3),IF(N30=N$4,N$3),IF(O30=O$4,O$3),IF(P30=P$4,P$3),IF(Q30=Q$4,Q$3)) -> 66
W31: =SUM(IF(B31=B$4,1),IF(C31=C$4,1),IF(D31=D$4,1),IF(E31=E$4,1),IF(F31=F$4,1),IF(G31=G$4,1),IF(H31=H$4,1),IF(I31=I$4,1),IF(J31=J$4,1),IF(K31=K$4,1),IF(L31=L$4,1),IF(M31=M$4,1),IF(N31=N$4,1),IF(O31=O$4,1),IF(P31=P$4,1),IF(Q31=Q$4,1)) -> 14 | X31: =SUM(IF(B31=B$4,B$3),IF(C31=C$4,C$3),IF(D31=D$4,D$3),IF(E31=E$4,E$3),IF(F31=F$4,F$3),IF(G31=G$4,G$3),IF(H31=H$4,H$3),IF(I31=I$4,I$3),IF(J31=J$4,J$3),IF(K31=K$4,K$3),IF(L31=L$4,L$3),IF(M31=M$4,M$3),IF(N31=N$4,N$3),IF(O31=O$4,O$3),IF(P31=P$4,P$3),IF(Q31=Q$4,Q$3)) -> 66
W32: =SUM(IF(B32=B$4,1),IF(C32=C$4,1),IF(D32=D$4,1),IF(E32=E$4,1),IF(F32=F$4,1),IF(G32=G$4,1),IF(H32=H$4,1),IF(I32=I$4,1),IF(J32=J$4,1),IF(K32=K$4,1),IF(L32=L$4,1),IF(M32=M$4,1),IF(N32=N$4,1),IF(O32=O$4,1),IF(P32=P$4,1),IF(Q32=Q$4,1)) -> 14 | X32: =SUM(IF(B32=B$4,B$3),IF(C32=C$4,C$3),IF(D32=D$4,D$3),IF(E32=E$4,E$3),IF(F32=F$4,F$3),IF(G32=G$4,G$3),IF(H32=H$4,H$3),IF(I32=I$4,I$3),IF(J32=J$4,J$3),IF(K32=K$4,K$3),IF(L32=L$4,L$3),IF(M32=M$4,M$3),IF(N32=N$4,N$3),IF(O32=O$4,O$3),IF(P32=P$4,P$3),IF(Q32=Q$4,Q$3)) -> 66
W33: =SUM(IF(B33=B$4,1),IF(C33=C$4,1),IF(D33=D$4,1),IF(E33=E$4,1),IF(F33=F$4,1),IF(G33=G$4,1),IF(H33=H$4,1),IF(I33=I$4,1),IF(J33=J$4,1),IF(K33=K$4,1),IF(L33=L$4,1),IF(M33=M$4,1),IF(N33=N$4,1),IF(O33=O$4,1),IF(P33=P$4,1),IF(Q33=Q$4,1)) -> 14 | X33: =SUM(IF(B33=B$4,B$3),IF(C33=C$4,C$3),IF(D33=D$4,D$3),IF(E33=E$4,E$3),IF(F33=F$4,F$3),IF(G33=G$4,G$3),IF(H33=H$4,H$3),IF(I33=I$4,I$3),IF(J33=J$4,J$3),IF(K33=K$4,K$3),IF(L33=L$4,L$3),IF(M33=M$4,M$3),IF(N33=N$4,N$3),IF(O33=O$4,O$3),IF(P33=P$4,P$3),IF(Q33=Q$4,Q$3)) -> 66
W34: =SUM(IF(B34=B$4,1),IF(C34=C$4,1),IF(D34=D$4,1),IF(E34=E$4,1),IF(F34=F$4,1),IF(G34=G$4,1),IF(H34=H$4,1),IF(I34=I$4,1),IF(J34=J$4,1),IF(K34=K$4,1),IF(L34=L$4,1),IF(M34=M$4,1),IF(N34=N$4,1),IF(O34=O$4,1),IF(P34=P$4,1),IF(Q34=Q$4,1)) -> 14 | X34: =SUM(IF(B34=B$4,B$3),IF(C34=C$4,C$3),IF(D34=D$4,D$3),IF(E34=E$4,E$3),IF(F34=F$4,F$3),IF(G34=G$4,G$3),IF(H34=H$4,H$3),IF(I34=I$4,I$3),IF(J34=J$4,J$3),IF(K34=K$4,K$3),IF(L34=L$4,L$3),IF(M34=M$4,M$3),IF(N34=N$4,N$3),IF(O34=O$4,O$3),IF(P34=P$4,P$3),IF(Q34=Q$4,Q$3)) -> 66
W35: =SUM(IF(B35=B$4,1),IF(C35=C$4,1),IF(D35=D$4,1),IF(E35=E$4,1),IF(F35=F$4,1),IF(G35=G$4,1),IF(H35=H$4,1),IF(I35=I$4,1),IF(J35=J$4,1),IF(K35=K$4,1),IF(L35=L$4,1),IF(M35=M$4,1),IF(N35=N$4,1),IF(O35=O$4,1),IF(P35=P$4,1),IF(Q35=Q$4,1)) -> 14 | X35: =SUM(IF(B35=B$4,B$3),IF(C35=C$4,C$3),IF(D35=D$4,D$3),IF(E35=E$4,E$3),IF(F35=F$4,F$3),IF(G35=G$4,G$3),IF(H35=H$4,H$3),IF(I35=I$4,I$3),IF(J35=J$4,J$3),IF(K35=K$4,K$3),IF(L35=L$4,L$3),IF(M35=M$4,M$3),IF(N35=N$4,N$3),IF(O35=O$4,O$3),IF(P35=P$4,P$3),IF(Q35=Q$4,Q$3)) -> 66
W36: =SUM(IF(B36=B$4,1),IF(C36=C$4,1),IF(D36=D$4,1),IF(E36=E$4,1),IF(F36=F$4,1),IF(G36=G$4,1),IF(H36=H$4,1),IF(I36=I$4,1),IF(J36=J$4,1),IF(K36=K$4,1),IF(L36=L$4,1),IF(M36=M$4,1),IF(N36=N$4,1),IF(O36=O$4,1),IF(P36=P$4,1),IF(Q36=Q$4,1)) -> 14 | X36: =SUM(IF(B36=B$4,B$3),IF(C36=C$4,C$3),IF(D36=D$4,D$3),IF(E36=E$4,E$3),IF(F36=F$4,F$3),IF(G36=G$4,G$3),IF(H36=H$4,H$3),IF(I36=I$4,I$3),IF(J36=J$4,J$3),IF(K36=K$4,K$3),IF(L36=L$4,L$3),IF(M36=M$4,M$3),IF(N36=N$4,N$3),IF(O36=O$4,O$3),IF(P36=P$4,P$3),IF(Q36=Q$4,Q$3)) -> 66
W37: =SUM(IF(B37=B$4,1),IF(C37=C$4,1),IF(D37=D$4,1),IF(E37=E$4,1),IF(F37=F$4,1),IF(G37=G$4,1),IF(H37=H$4,1),IF(I37=I$4,1),IF(J37=J$4,1),IF(K37=K$4,1),IF(L37=L$4,1),IF(M37=M$4,1),IF(N37=N$4,1),IF(O37=O$4,1),IF(P37=P$4,1),IF(Q37=Q$4,1)) -> 14 | X37: =SUM(IF(B37=B$4,B$3),IF(C37=C$4,C$3),IF(D37=D$4,D$3),IF(E37=E$4,E$3),IF(F37=F$4,F$3),IF(G37=G$4,G$3),IF(H37=H$4,H$3),IF(I37=I$4,I$3),IF(J37=J$4,J$3),IF(K37=K$4,K$3),IF(L37=L$4,L$3),IF(M37=M$4,M$3),IF(N37=N$4,N$3),IF(O37=O$4,O$3),IF(P37=P$4,P$3),IF(Q37=Q$4,Q$3)) -> 66
A38: DIVISION IV
W39: =SUM(IF(B39=B$4,1),IF(C39=C$4,1),IF(D39=D$4,1),IF(E39=E$4,1),IF(F39=F$4,1),IF(G39=G$4,1),IF(H39=H$4,1),IF(I39=I$4,1),IF(J39=J$4,1),IF(K39=K$4,1),IF(L39=L$4,1),IF(M39=M$4,1),IF(N39=N$4,1),IF(O39=O$4,1),IF(P39=P$4,1),IF(Q39=Q$4,1)) -> 14 | X39: =SUM(IF(B39=B$4,B$3),IF(C39=C$4,C$3),IF(D39=D$4,D$3),IF(E39=E$4,E$3),IF(F39=F$4,F$3),IF(G39=G$4,G$3),IF(H39=H$4,H$3),IF(I39=I$4,I$3),IF(J39=J$4,J$3),IF(K39=K$4,K$3),IF(L39=L$4,L$3),IF(M39=M$4,M$3),IF(N39=N$4,N$3),IF(O39=O$4,O$3),IF(P39=P$4,P$3),IF(Q39=Q$4,Q$3)) -> 66
W40: =SUM(IF(B40=B$4,1),IF(C40=C$4,1),IF(D40=D$4,1),IF(E40=E$4,1),IF(F40=F$4,1),IF(G40=G$4,1),IF(H40=H$4,1),IF(I40=I$4,1),IF(J40=J$4,1),IF(K40=K$4,1),IF(L40=L$4,1),IF(M40=M$4,1),IF(N40=N$4,1),IF(O40=O$4,1),IF(P40=P$4,1),IF(Q40=Q$4,1)) -> 14 | X40: =SUM(IF(B40=B$4,B$3),IF(C40=C$4,C$3),IF(D40=D$4,D$3),IF(E40=E$4,E$3),IF(F40=F$4,F$3),IF(G40=G$4,G$3),IF(H40=H$4,H$3),IF(I40=I$4,I$3),IF(J40=J$4,J$3),IF(K40=K$4,K$3),IF(L40=L$4,L$3),IF(M40=M$4,M$3),IF(N40=N$4,N$3),IF(O40=O$4,O$3),IF(P40=P$4,P$3),IF(Q40=Q$4,Q$3)) -> 66
W41: =SUM(IF(B41=B$4,1),IF(C41=C$4,1),IF(D41=D$4,1),IF(E41=E$4,1),IF(F41=F$4,1),IF(G41=G$4,1),IF(H41=H$4,1),IF(I41=I$4,1),IF(J41=J$4,1),IF(K41=K$4,1),IF(L41=L$4,1),IF(M41=M$4,1),IF(N41=N$4,1),IF(O41=O$4,1),IF(P41=P$4,1),IF(Q41=Q$4,1)) -> 14 | X41: =SUM(IF(B41=B$4,B$3),IF(C41=C$4,C$3),IF(D41=D$4,D$3),IF(E41=E$4,E$3),IF(F41=F$4,F$3),IF(G41=G$4,G$3),IF(H41=H$4,H$3),IF(I41=I$4,I$3),IF(J41=J$4,J$3),IF(K41=K$4,K$3),IF(L41=L$4,L$3),IF(M41=M$4,M$3),IF(N41=N$4,N$3),IF(O41=O$4,O$3),IF(P41=P$4,P$3),IF(Q41=Q$4,Q$3)) -> 66
W42: =SUM(IF(B42=B$4,1),IF(C42=C$4,1),IF(D42=D$4,1),IF(E42=E$4,1),IF(F42=F$4,1),IF(G42=G$4,1),IF(H42=H$4,1),IF(I42=I$4,1),IF(J42=J$4,1),IF(K42=K$4,1),IF(L42=L$4,1),IF(M42=M$4,1),IF(N42=N$4,1),IF(O42=O$4,1),IF(P42=P$4,1),IF(Q42=Q$4,1)) -> 14 | X42: =SUM(IF(B42=B$4,B$3),IF(C42=C$4,C$3),IF(D42=D$4,D$3),IF(E42=E$4,E$3),IF(F42=F$4,F$3),IF(G42=G$4,G$3),IF(H42=H$4,H$3),IF(I42=I$4,I$3),IF(J42=J$4,J$3),IF(K42=K$4,K$3),IF(L42=L$4,L$3),IF(M42=M$4,M$3),IF(N42=N$4,N$3),IF(O42=O$4,O$3),IF(P42=P$4,P$3),IF(Q42=Q$4,Q$3)) -> 66
W43: =SUM(IF(B43=B$4,1),IF(C43=C$4,1),IF(D43=D$4,1),IF(E43=E$4,1),IF(F43=F$4,1),IF(G43=G$4,1),IF(H43=H$4,1),IF(I43=I$4,1),IF(J43=J$4,1),IF(K43=K$4,1),IF(L43=L$4,1),IF(M43=M$4,1),IF(N43=N$4,1),IF(O43=O$4,1),IF(P43=P$4,1),IF(Q43=Q$4,1)) -> 14 | X43: =SUM(IF(B43=B$4,B$3),IF(C43=C$4,C$3),IF(D43=D$4,D$3),IF(E43=E$4,E$3),IF(F43=F$4,F$3),IF(G43=G$4,G$3),IF(H43=H$4,H$3),IF(I43=I$4,I$3),IF(J43=J$4,J$3),IF(K43=K$4,K$3),IF(L43=L$4,L$3),IF(M43=M$4,M$3),IF(N43=N$4,N$3),IF(O43=O$4,O$3),IF(P43=P$4,P$3),IF(Q43=Q$4,Q$3)) -> 66
W44: =SUM(IF(B44=B$4,1),IF(C44=C$4,1),IF(D44=D$4,1),IF(E44=E$4,1),IF(F44=F$4,1),IF(G44=G$4,1),IF(H44=H$4,1),IF(I44=I$4,1),IF(J44=J$4,1),IF(K44=K$4,1),IF(L44=L$4,1),IF(M44=M$4,1),IF(N44=N$4,1),IF(O44=O$4,1),IF(P44=P$4,1),IF(Q44=Q$4,1)) -> 14 | X44: =SUM(IF(B44=B$4,B$3),IF(C44=C$4,C$3),IF(D44=D$4,D$3),IF(E44=E$4,E$3),IF(F44=F$4,F$3),IF(G44=G$4,G$3),IF(H44=H$4,H$3),IF(I44=I$4,I$3),IF(J44=J$4,J$3),IF(K44=K$4,K$3),IF(L44=L$4,L$3),IF(M44=M$4,M$3),IF(N44=N$4,N$3),IF(O44=O$4,O$3),IF(P44=P$4,P$3),IF(Q44=Q$4,Q$3)) -> 66
W45: =SUM(IF(B45=B$4,1),IF(C45=C$4,1),IF(D45=D$4,1),IF(E45=E$4,1),IF(F45=F$4,1),IF(G45=G$4,1),IF(H45=H$4,1),IF(I45=I$4,1),IF(J45=J$4,1),IF(K45=K$4,1),IF(L45=L$4,1),IF(M45=M$4,1),IF(N45=N$4,1),IF(O45=O$4,1),IF(P45=P$4,1),IF(Q45=Q$4,1)) -> 14 | X45: =SUM(IF(B45=B$4,B$3),IF(C45=C$4,C$3),IF(D45=D$4,D$3),IF(E45=E$4,E$3),IF(F45=F$4,F$3),IF(G45=G$4,G$3),IF(H45=H$4,H$3),IF(I45=I$4,I$3),IF(J45=J$4,J$3),IF(K45=K$4,K$3),IF(L45=L$4,L$3),IF(M45=M$4,M$3),IF(N45=N$4,N$3),IF(O45=O$4,O$3),IF(P45=P$4,P$3),IF(Q45=Q$4,Q$3)) -> 66
W46: =SUM(IF(B46=B$4,1),IF(C46=C$4,1),IF(D46=D$4,1),IF(E46=E$4,1),IF(F46=F$4,1),IF(G46=G$4,1),IF(H46=H$4,1),IF(I46=I$4,1),IF(J46=J$4,1),IF(K46=K$4,1),IF(L46=L$4,1),IF(M46=M$4,1),IF(N46=N$4,1),IF(O46=O$4,1),IF(P46=P$4,1),IF(Q46=Q$4,1)) -> 14 | X46: =SUM(IF(B46=B$4,B$3),IF(C46=C$4,C$3),IF(D46=D$4,D$3),IF(E46=E$4,E$3),IF(F46=F$4,F$3),IF(G46=G$4,G$3),IF(H46=H$4,H$3),IF(I46=I$4,I$3),IF(J46=J$4,J$3),IF(K46=K$4,K$3),IF(L46=L$4,L$3),IF(M46=M$4,M$3),IF(N46=N$4,N$3),IF(O46=O$4,O$3),IF(P46=P$4,P$3),IF(Q46=Q$4,Q$3)) -> 66
W47: =SUM(IF(B47=B$4,1),IF(C47=C$4,1),IF(D47=D$4,1),IF(E47=E$4,1),IF(F47=F$4,1),IF(G47=G$4,1),IF(H47=H$4,1),IF(I47=I$4,1),IF(J47=J$4,1),IF(K47=K$4,1),IF(L47=L$4,1),IF(M47=M$4,1),IF(N47=N$4,1),IF(O47=O$4,1),IF(P47=P$4,1),IF(Q47=Q$4,1)) -> 14 | X47: =SUM(IF(B47=B$4,B$3),IF(C47=C$4,C$3),IF(D47=D$4,D$3),IF(E47=E$4,E$3),IF(F47=F$4,F$3),IF(G47=G$4,G$3),IF(H47=H$4,H$3),IF(I47=I$4,I$3),IF(J47=J$4,J$3),IF(K47=K$4,K$3),IF(L47=L$4,L$3),IF(M47=M$4,M$3),IF(N47=N$4,N$3),IF(O47=O$4,O$3),IF(P47=P$4,P$3),IF(Q47=Q$4,Q$3)) -> 66
W48: =SUM(IF(B48=B$4,1),IF(C48=C$4,1),IF(D48=D$4,1),IF(E48=E$4,1),IF(F48=F$4,1),IF(G48=G$4,1),IF(H48=H$4,1),IF(I48=I$4,1),IF(J48=J$4,1),IF(K48=K$4,1),IF(L48=L$4,1),IF(M48=M$4,1),IF(N48=N$4,1),IF(O48=O$4,1),IF(P48=P$4,1),IF(Q48=Q$4,1)) -> 14 | X48: =SUM(IF(B48=B$4,B$3),IF(C48=C$4,C$3),IF(D48=D$4,D$3),IF(E48=E$4,E$3),IF(F48=F$4,F$3),IF(G48=G$4,G$3),IF(H48=H$4,H$3),IF(I48=I$4,I$3),IF(J48=J$4,J$3),IF(K48=K$4,K$3),IF(L48=L$4,L$3),IF(M48=M$4,M$3),IF(N48=N$4,N$3),IF(O48=O$4,O$3),IF(P48=P$4,P$3),IF(Q48=Q$4,Q$3)) -> 66

Sheet WK6
A1: PARTICIPANTS | B1: PHI | C1: DEN | D1: LAR | E1: DAL | F1: AZ | G1: SEA | H1: LAC | I1: CLE | J1: SF | K1: TEN | L1: CIN | M1: NE | N1: DET | O1: BUF | P1: CHI | V1: AWAY | W1: TOTAL | X1: TOTAL
A2: HOME | B2: NYG | C2: NYJ | D2: BAL | E2: CAR | F2: IND | G2: JAC | H2: MIA | I2: PIT | J2: TB | K2: LV | L2: GB | M2: NO | N2: KC | O2: ATL | P2: WAS | V2: HOME | W2: WINS | X2: PTS
A3: POINT VALUE | B3: 10 | C3: 5 | D3: 3 | E3: 5 | F3: 3 | G3: 3 | H3: 5 | I3: 10 | J3: 5 | K3: 5 | L3: 3 | M3: 3 | N3: 3 | O3: 3 | P3: 5 | V3: POINT VALUE | W3: 16 | X3: =SUM(B3:Q3) -> 71
A4: WINNER | Q4: N/A | R4: N/A | S4: N/A | T4: N/A | U4: N/A | V4: WINNER
A5: DIVISION I
W6: =SUM(IF(B6=B$4,1),IF(C6=C$4,1),IF(D6=D$4,1),IF(E6=E$4,1),IF(F6=F$4,1),IF(G6=G$4,1),IF(H6=H$4,1),IF(I6=I$4,1),IF(J6=J$4,1),IF(K6=K$4,1),IF(L6=L$4,1),IF(M6=M$4,1),IF(N6=N$4,1),IF(O6=O$4,1),IF(P6=P$4,1),IF(Q6=Q$4,1)) -> 15 | X6: =SUM(IF(B6=B$4,B$3),IF(C6=C$4,C$3),IF(D6=D$4,D$3),IF(E6=E$4,E$3),IF(F6=F$4,F$3),IF(G6=G$4,G$3),IF(H6=H$4,H$3),IF(I6=I$4,I$3),IF(J6=J$4,J$3),IF(K6=K$4,K$3),IF(L6=L$4,L$3),IF(M6=M$4,M$3),IF(N6=N$4,N$3),IF(O6=O$4,O$3),IF(P6=P$4,P$3),IF(Q6=Q$4,Q$3)) -> 71
W7: =SUM(IF(B7=B$4,1),IF(C7=C$4,1),IF(D7=D$4,1),IF(E7=E$4,1),IF(F7=F$4,1),IF(G7=G$4,1),IF(H7=H$4,1),IF(I7=I$4,1),IF(J7=J$4,1),IF(K7=K$4,1),IF(L7=L$4,1),IF(M7=M$4,1),IF(N7=N$4,1),IF(O7=O$4,1),IF(P7=P$4,1),IF(Q7=Q$4,1)) -> 15 | X7: =SUM(IF(B7=B$4,B$3),IF(C7=C$4,C$3),IF(D7=D$4,D$3),IF(E7=E$4,E$3),IF(F7=F$4,F$3),IF(G7=G$4,G$3),IF(H7=H$4,H$3),IF(I7=I$4,I$3),IF(J7=J$4,J$3),IF(K7=K$4,K$3),IF(L7=L$4,L$3),IF(M7=M$4,M$3),IF(N7=N$4,N$3),IF(O7=O$4,O$3),IF(P7=P$4,P$3),IF(Q7=Q$4,Q$3)) -> 71
W8: =SUM(IF(B8=B$4,1),IF(C8=C$4,1),IF(D8=D$4,1),IF(E8=E$4,1),IF(F8=F$4,1),IF(G8=G$4,1),IF(H8=H$4,1),IF(I8=I$4,1),IF(J8=J$4,1),IF(K8=K$4,1),IF(L8=L$4,1),IF(M8=M$4,1),IF(N8=N$4,1),IF(O8=O$4,1),IF(P8=P$4,1),IF(Q8=Q$4,1)) -> 15 | X8: =SUM(IF(B8=B$4,B$3),IF(C8=C$4,C$3),IF(D8=D$4,D$3),IF(E8=E$4,E$3),IF(F8=F$4,F$3),IF(G8=G$4,G$3),IF(H8=H$4,H$3),IF(I8=I$4,I$3),IF(J8=J$4,J$3),IF(K8=K$4,K$3),IF(L8=L$4,L$3),IF(M8=M$4,M$3),IF(N8=N$4,N$3),IF(O8=O$4,O$3),IF(P8=P$4,P$3),IF(Q8=Q$4,Q$3)) -> 71
W9: =SUM(IF(B9=B$4,1),IF(C9=C$4,1),IF(D9=D$4,1),IF(E9=E$4,1),IF(F9=F$4,1),IF(G9=G$4,1),IF(H9=H$4,1),IF(I9=I$4,1),IF(J9=J$4,1),IF(K9=K$4,1),IF(L9=L$4,1),IF(M9=M$4,1),IF(N9=N$4,1),IF(O9=O$4,1),IF(P9=P$4,1),IF(Q9=Q$4,1)) -> 15 | X9: =SUM(IF(B9=B$4,B$3),IF(C9=C$4,C$3),IF(D9=D$4,D$3),IF(E9=E$4,E$3),IF(F9=F$4,F$3),IF(G9=G$4,G$3),IF(H9=H$4,H$3),IF(I9=I$4,I$3),IF(J9=J$4,J$3),IF(K9=K$4,K$3),IF(L9=L$4,L$3),IF(M9=M$4,M$3),IF(N9=N$4,N$3),IF(O9=O$4,O$3),IF(P9=P$4,P$3),IF(Q9=Q$4,Q$3)) -> 71
W10: =SUM(IF(B10=B$4,1),IF(C10=C$4,1),IF(D10=D$4,1),IF(E10=E$4,1),IF(F10=F$4,1),IF(G10=G$4,1),IF(H10=H$4,1),IF(I10=I$4,1),IF(J10=J$4,1),IF(K10=K$4,1),IF(L10=L$4,1),IF(M10=M$4,1),IF(N10=N$4,1),IF(O10=O$4,1),IF(P10=P$4,1),IF(Q10=Q$4,1)) -> 15 | X10: =SUM(IF(B10=B$4,B$3),IF(C10=C$4,C$3),IF(D10=D$4,D$3),IF(E10=E$4,E$3),IF(F10=F$4,F$3),IF(G10=G$4,G$3),IF(H10=H$4,H$3),IF(I10=I$4,I$3),IF(J10=J$4,J$3),IF(K10=K$4,K$3),IF(L10=L$4,L$3),IF(M10=M$4,M$3),IF(N10=N$4,N$3),IF(O10=O$4,O$3),IF(P10=P$4,P$3),IF(Q10=Q$4,Q$3)) -> 71
W11: =SUM(IF(B11=B$4,1),IF(C11=C$4,1),IF(D11=D$4,1),IF(E11=E$4,1),IF(F11=F$4,1),IF(G11=G$4,1),IF(H11=H$4,1),IF(I11=I$4,1),IF(J11=J$4,1),IF(K11=K$4,1),IF(L11=L$4,1),IF(M11=M$4,1),IF(N11=N$4,1),IF(O11=O$4,1),IF(P11=P$4,1),IF(Q11=Q$4,1)) -> 15 | X11: =SUM(IF(B11=B$4,B$3),IF(C11=C$4,C$3),IF(D11=D$4,D$3),IF(E11=E$4,E$3),IF(F11=F$4,F$3),IF(G11=G$4,G$3),IF(H11=H$4,H$3),IF(I11=I$4,I$3),IF(J11=J$4,J$3),IF(K11=K$4,K$3),IF(L11=L$4,L$3),IF(M11=M$4,M$3),IF(N11=N$4,N$3),IF(O11=O$4,O$3),IF(P11=P$4,P$3),IF(Q11=Q$4,Q$3)) -> 71
W12: =SUM(IF(B12=B$4,1),IF(C12=C$4,1),IF(D12=D$4,1),IF(E12=E$4,1),IF(F12=F$4,1),IF(G12=G$4,1),IF(H12=H$4,1),IF(I12=I$4,1),IF(J12=J$4,1),IF(K12=K$4,1),IF(L12=L$4,1),IF(M12=M$4,1),IF(N12=N$4,1),IF(O12=O$4,1),IF(P12=P$4,1),IF(Q12=Q$4,1)) -> 15 | X12: =SUM(IF(B12=B$4,B$3),IF(C12=C$4,C$3),IF(D12=D$4,D$3),IF(E12=E$4,E$3),IF(F12=F$4,F$3),IF(G12=G$4,G$3),IF(H12=H$4,H$3),IF(I12=I$4,I$3),IF(J12=J$4,J$3),IF(K12=K$4,K$3),IF(L12=L$4,L$3),IF(M12=M$4,M$3),IF(N12=N$4,N$3),IF(O12=O$4,O$3),IF(P12=P$4,P$3),IF(Q12=Q$4,Q$3)) -> 71
W13: =SUM(IF(B13=B$4,1),IF(C13=C$4,1),IF(D13=D$4,1),IF(E13=E$4,1),IF(F13=F$4,1),IF(G13=G$4,1),IF(H13=H$4,1),IF(I13=I$4,1),IF(J13=J$4,1),IF(K13=K$4,1),IF(L13=L$4,1),IF(M13=M$4,1),IF(N13=N$4,1),IF(O13=O$4,1),IF(P13=P$4,1),IF(Q13=Q$4,1)) -> 15 | X13: =SUM(IF(B13=B$4,B$3),IF(C13=C$4,C$3),IF(D13=D$4,D$3),IF(E13=E$4,E$3),IF(F13=F$4,F$3),IF(G13=G$4,G$3),IF(H13=H$4,H$3),IF(I13=I$4,I$3),IF(J13=J$4,J$3),IF(K13=K$4,K$3),IF(L13=L$4,L$3),IF(M13=M$4,M$3),IF(N13=N$4,N$3),IF(O13=O$4,O$3),IF(P13=P$4,P$3),IF(Q13=Q$4,Q$3)) -> 71
W14: =SUM(IF(B14=B$4,1),IF(C14=C$4,1),IF(D14=D$4,1),IF(E14=E$4,1),IF(F14=F$4,1),IF(G14=G$4,1),IF(H14=H$4,1),IF(I14=I$4,1),IF(J14=J$4,1),IF(K14=K$4,1),IF(L14=L$4,1),IF(M14=M$4,1),IF(N14=N$4,1),IF(O14=O$4,1),IF(P14=P$4,1),IF(Q14=Q$4,1)) -> 15 | X14: =SUM(IF(B14=B$4,B$3),IF(C14=C$4,C$3),IF(D14=D$4,D$3),IF(E14=E$4,E$3),IF(F14=F$4,F$3),IF(G14=G$4,G$3),IF(H14=H$4,H$3),IF(I14=I$4,I$3),IF(J14=J$4,J$3),IF(K14=K$4,K$3),IF(L14=L$4,L$3),IF(M14=M$4,M$3),IF(N14=N$4,N$3),IF(O14=O$4,O$3),IF(P14=P$4,P$3),IF(Q14=Q$4,Q$3)) -> 71
W15: =SUM(IF(B15=B$4,1),IF(C15=C$4,1),IF(D15=D$4,1),IF(E15=E$4,1),IF(F15=F$4,1),IF(G15=G$4,1),IF(H15=H$4,1),IF(I15=I$4,1),IF(J15=J$4,1),IF(K15=K$4,1),IF(L15=L$4,1),IF(M15=M$4,1),IF(N15=N$4,1),IF(O15=O$4,1),IF(P15=P$4,1),IF(Q15=Q$4,1)) -> 15 | X15: =SUM(IF(B15=B$4,B$3),IF(C15=C$4,C$3),IF(D15=D$4,D$3),IF(E15=E$4,E$3),IF(F15=F$4,F$3),IF(G15=G$4,G$3),IF(H15=H$4,H$3),IF(I15=I$4,I$3),IF(J15=J$4,J$3),IF(K15=K$4,K$3),IF(L15=L$4,L$3),IF(M15=M$4,M$3),IF(N15=N$4,N$3),IF(O15=O$4,O$3),IF(P15=P$4,P$3),IF(Q15=Q$4,Q$3)) -> 71
A16: DIVISION II
W17: =SUM(IF(B17=B$4,1),IF(C17=C$4,1),IF(D17=D$4,1),IF(E17=E$4,1),IF(F17=F$4,1),IF(G17=G$4,1),IF(H17=H$4,1),IF(I17=I$4,1),IF(J17=J$4,1),IF(K17=K$4,1),IF(L17=L$4,1),IF(M17=M$4,1),IF(N17=N$4,1),IF(O17=O$4,1),IF(P17=P$4,1),IF(Q17=Q$4,1)) -> 15 | X17: =SUM(IF(B17=B$4,B$3),IF(C17=C$4,C$3),IF(D17=D$4,D$3),IF(E17=E$4,E$3),IF(F17=F$4,F$3),IF(G17=G$4,G$3),IF(H17=H$4,H$3),IF(I17=I$4,I$3),IF(J17=J$4,J$3),IF(K17=K$4,K$3),IF(L17=L$4,L$3),IF(M17=M$4,M$3),IF(N17=N$4,N$3),IF(O17=O$4,O$3),IF(P17=P$4,P$3),IF(Q17=Q$4,Q$3)) -> 71
W18: =SUM(IF(B18=B$4,1),IF(C18=C$4,1),IF(D18=D$4,1),IF(E18=E$4,1),IF(F18=F$4,1),IF(G18=G$4,1),IF(H18=H$4,1),IF(I18=I$4,1),IF(J18=J$4,1),IF(K18=K$4,1),IF(L18=L$4,1),IF(M18=M$4,1),IF(N18=N$4,1),IF(O18=O$4,1),IF(P18=P$4,1),IF(Q18=Q$4,1)) -> 15 | X18: =SUM(IF(B18=B$4,B$3),IF(C18=C$4,C$3),IF(D18=D$4,D$3),IF(E18=E$4,E$3),IF(F18=F$4,F$3),IF(G18=G$4,G$3),IF(H18=H$4,H$3),IF(I18=I$4,I$3),IF(J18=J$4,J$3),IF(K18=K$4,K$3),IF(L18=L$4,L$3),IF(M18=M$4,M$3),IF(N18=N$4,N$3),IF(O18=O$4,O$3),IF(P18=P$4,P$3),IF(Q18=Q$4,Q$3)) -> 71
W19: =SUM(IF(B19=B$4,1),IF(C19=C$4,1),IF(D19=D$4,1),IF(E19=E$4,1),IF(F19=F$4,1),IF(G19=G$4,1),IF(H19=H$4,1),IF(I19=I$4,1),IF(J19=J$4,1),IF(K19=K$4,1),IF(L19=L$4,1),IF(M19=M$4,1),IF(N19=N$4,1),IF(O19=O$4,1),IF(P19=P$4,1),IF(Q19=Q$4,1)) -> 15 | X19: =SUM(IF(B19=B$4,B$3),IF(C19=C$4,C$3),IF(D19=D$4,D$3),IF(E19=E$4,E$3),IF(F19=F$4,F$3),IF(G19=G$4,G$3),IF(H19=H$4,H$3),IF(I19=I$4,I$3),IF(J19=J$4,J$3),IF(K19=K$4,K$3),IF(L19=L$4,L$3),IF(M19=M$4,M$3),IF(N19=N$4,N$3),IF(O19=O$4,O$3),IF(P19=P$4,P$3),IF(Q19=Q$4,Q$3)) -> 71
W20: =SUM(IF(B20=B$4,1),IF(C20=C$4,1),IF(D20=D$4,1),IF(E20=E$4,1),IF(F20=F$4,1),IF(G20=G$4,1),IF(H20=H$4,1),IF(I20=I$4,1),IF(J20=J$4,1),IF(K20=K$4,1),IF(L20=L$4,1),IF(M20=M$4,1),IF(N20=N$4,1),IF(O20=O$4,1),IF(P20=P$4,1),IF(Q20=Q$4,1)) -> 15 | X20: =SUM(IF(B20=B$4,B$3),IF(C20=C$4,C$3),IF(D20=D$4,D$3),IF(E20=E$4,E$3),IF(F20=F$4,F$3),IF(G20=G$4,G$3),IF(H20=H$4,H$3),IF(I20=I$4,I$3),IF(J20=J$4,J$3),IF(K20=K$4,K$3),IF(L20=L$4,L$3),IF(M20=M$4,M$3),IF(N20=N$4,N$3),IF(O20=O$4,O$3),IF(P20=P$4,P$3),IF(Q20=Q$4,Q$3)) -> 71
W21: =SUM(IF(B21=B$4,1),IF(C21=C$4,1),IF(D21=D$4,1),IF(E21=E$4,1),IF(F21=F$4,1),IF(G21=G$4,1),IF(H21=H$4,1),IF(I21=I$4,1),IF(J21=J$4,1),IF(K21=K$4,1),IF(L21=L$4,1),IF(M21=M$4,1),IF(N21=N$4,1),IF(O21=O$4,1),IF(P21=P$4,1),IF(Q21=Q$4,1)) -> 15 | X21: =SUM(IF(B21=B$4,B$3),IF(C21=C$4,C$3),IF(D21=D$4,D$3),IF(E21=E$4,E$3),IF(F21=F$4,F$3),IF(G21=G$4,G$3),IF(H21=H$4,H$3),IF(I21=I$4,I$3),IF(J21=J$4,J$3),IF(K21=K$4,K$3),IF(L21=L$4,L$3),IF(M21=M$4,M$3),IF(N21=N$4,N$3),IF(O21=O$4,O$3),IF(P21=P$4,P$3),IF(Q21=Q$4,Q$3)) -> 71
W22: =SUM(IF(B22=B$4,1),IF(C22=C$4,1),IF(D22=D$4,1),IF(E22=E$4,1),IF(F22=F$4,1),IF(G22=G$4,1),IF(H22=H$4,1),IF(I22=I$4,1),IF(J22=J$4,1),IF(K22=K$4,1),IF(L22=L$4,1),IF(M22=M$4,1),IF(N22=N$4,1),IF(O22=O$4,1),IF(P22=P$4,1),IF(Q22=Q$4,1)) -> 15 | X22: =SUM(IF(B22=B$4,B$3),IF(C22=C$4,C$3),IF(D22=D$4,D$3),IF(E22=E$4,E$3),IF(F22=F$4,F$3),IF(G22=G$4,G$3),IF(H22=H$4,H$3),IF(I22=I$4,I$3),IF(J22=J$4,J$3),IF(K22=K$4,K$3),IF(L22=L$4,L$3),IF(M22=M$4,M$3),IF(N22=N$4,N$3),IF(O22=O$4,O$3),IF(P22=P$4,P$3),IF(Q22=Q$4,Q$3)) -> 71
W23: =SUM(IF(B23=B$4,1),IF(C23=C$4,1),IF(D23=D$4,1),IF(E23=E$4,1),IF(F23=F$4,1),IF(G23=G$4,1),IF(H23=H$4,1),IF(I23=I$4,1),IF(J23=J$4,1),IF(K23=K$4,1),IF(L23=L$4,1),IF(M23=M$4,1),IF(N23=N$4,1),IF(O23=O$4,1),IF(P23=P$4,1),IF(Q23=Q$4,1)) -> 15 | X23: =SUM(IF(B23=B$4,B$3),IF(C23=C$4,C$3),IF(D23=D$4,D$3),IF(E23=E$4,E$3),IF(F23=F$4,F$3),IF(G23=G$4,G$3),IF(H23=H$4,H$3),IF(I23=I$4,I$3),IF(J23=J$4,J$3),IF(K23=K$4,K$3),IF(L23=L$4,L$3),IF(M23=M$4,M$3),IF(N23=N$4,N$3),IF(O23=O$4,O$3),IF(P23=P$4,P$3),IF(Q23=Q$4,Q$3)) -> 71
W24: =SUM(IF(B24=B$4,1),IF(C24=C$4,1),IF(D24=D$4,1),IF(E24=E$4,1),IF(F24=F$4,1),IF(G24=G$4,1),IF(H24=H$4,1),IF(I24=I$4,1),IF(J24=J$4,1),IF(K24=K$4,1),IF(L24=L$4,1),IF(M24=M$4,1),IF(N24=N$4,1),IF(O24=O$4,1),IF(P24=P$4,1),IF(Q24=Q$4,1)) -> 15 | X24: =SUM(IF(B24=B$4,B$3),IF(C24=C$4,C$3),IF(D24=D$4,D$3),IF(E24=E$4,E$3),IF(F24=F$4,F$3),IF(G24=G$4,G$3),IF(H24=H$4,H$3),IF(I24=I$4,I$3),IF(J24=J$4,J$3),IF(K24=K$4,K$3),IF(L24=L$4,L$3),IF(M24=M$4,M$3),IF(N24=N$4,N$3),IF(O24=O$4,O$3),IF(P24=P$4,P$3),IF(Q24=Q$4,Q$3)) -> 71
W25: =SUM(IF(B25=B$4,1),IF(C25=C$4,1),IF(D25=D$4,1),IF(E25=E$4,1),IF(F25=F$4,1),IF(G25=G$4,1),IF(H25=H$4,1),IF(I25=I$4,1),IF(J25=J$4,1),IF(K25=K$4,1),IF(L25=L$4,1),IF(M25=M$4,1),IF(N25=N$4,1),IF(O25=O$4,1),IF(P25=P$4,1),IF(Q25=Q$4,1)) -> 15 | X25: =SUM(IF(B25=B$4,B$3),IF(C25=C$4,C$3),IF(D25=D$4,D$3),IF(E25=E$4,E$3),IF(F25=F$4,F$3),IF(G25=G$4,G$3),IF(H25=H$4,H$3),IF(I25=I$4,I$3),IF(J25=J$4,J$3),IF(K25=K$4,K$3),IF(L25=L$4,L$3),IF(M25=M$4,M$3),IF(N25=N$4,N$3),IF(O25=O$4,O$3),IF(P25=P$4,P$3),IF(Q25=Q$4,Q$3)) -> 71
W26: =SUM(IF(B26=B$4,1),IF(C26=C$4,1),IF(D26=D$4,1),IF(E26=E$4,1),IF(F26=F$4,1),IF(G26=G$4,1),IF(H26=H$4,1),IF(I26=I$4,1),IF(J26=J$4,1),IF(K26=K$4,1),IF(L26=L$4,1),IF(M26=M$4,1),IF(N26=N$4,1),IF(O26=O$4,1),IF(P26=P$4,1),IF(Q26=Q$4,1)) -> 15 | X26: =SUM(IF(B26=B$4,B$3),IF(C26=C$4,C$3),IF(D26=D$4,D$3),IF(E26=E$4,E$3),IF(F26=F$4,F$3),IF(G26=G$4,G$3),IF(H26=H$4,H$3),IF(I26=I$4,I$3),IF(J26=J$4,J$3),IF(K26=K$4,K$3),IF(L26=L$4,L$3),IF(M26=M$4,M$3),IF(N26=N$4,N$3),IF(O26=O$4,O$3),IF(P26=P$4,P$3),IF(Q26=Q$4,Q$3)) -> 71
A27: DIVISION III
W28: =SUM(IF(B28=B$4,1),IF(C28=C$4,1),IF(D28=D$4,1),IF(E28=E$4,1),IF(F28=F$4,1),IF(G28=G$4,1),IF(H28=H$4,1),IF(I28=I$4,1),IF(J28=J$4,1),IF(K28=K$4,1),IF(L28=L$4,1),IF(M28=M$4,1),IF(N28=N$4,1),IF(O28=O$4,1),IF(P28=P$4,1),IF(Q28=Q$4,1)) -> 15 | X28: =SUM(IF(B28=B$4,B$3),IF(C28=C$4,C$3),IF(D28=D$4,D$3),IF(E28=E$4,E$3),IF(F28=F$4,F$3),IF(G28=G$4,G$3),IF(H28=H$4,H$3),IF(I28=I$4,I$3),IF(J28=J$4,J$3),IF(K28=K$4,K$3),IF(L28=L$4,L$3),IF(M28=M$4,M$3),IF(N28=N$4,N$3),IF(O28=O$4,O$3),IF(P28=P$4,P$3),IF(Q28=Q$4,Q$3)) -> 71
W29: =SUM(IF(B29=B$4,1),IF(C29=C$4,1),IF(D29=D$4,1),IF(E29=E$4,1),IF(F29=F$4,1),IF(G29=G$4,1),IF(H29=H$4,1),IF(I29=I$4,1),IF(J29=J$4,1),IF(K29=K$4,1),IF(L29=L$4,1),IF(M29=M$4,1),IF(N29=N$4,1),IF(O29=O$4,1),IF(P29=P$4,1),IF(Q29=Q$4,1)) -> 15 | X29: =SUM(IF(B29=B$4,B$3),IF(C29=C$4,C$3),IF(D29=D$4,D$3),IF(E29=E$4,E$3),IF(F29=F$4,F$3),IF(G29=G$4,G$3),IF(H29=H$4,H$3),IF(I29=I$4,I$3),IF(J29=J$4,J$3),IF(K29=K$4,K$3),IF(L29=L$4,L$3),IF(M29=M$4,M$3),IF(N29=N$4,N$3),IF(O29=O$4,O$3),IF(P29=P$4,P$3),IF(Q29=Q$4,Q$3)) -> 71
W30: =SUM(IF(B30=B$4,1),IF(C30=C$4,1),IF(D30=D$4,1),IF(E30=E$4,1),IF(F30=F$4,1),IF(G30=G$4,1),IF(H30=H$4,1),IF(I30=I$4,1),IF(J30=J$4,1),IF(K30=K$4,1),IF(L30=L$4,1),IF(M30=M$4,1),IF(N30=N$4,1),IF(O30=O$4,1),IF(P30=P$4,1),IF(Q30=Q$4,1)) -> 15 | X30: =SUM(IF(B30=B$4,B$3),IF(C30=C$4,C$3),IF(D30=D$4,D$3),IF(E30=E$4,E$3),IF(F30=F$4,F$3),IF(G30=G$4,G$3),IF(H30=H$4,H$3),IF(I30=I$4,I$3),IF(J30=J$4,J$3),IF(K30=K$4,K$3),IF(L30=L$4,L$3),IF(M30=M$4,M$3),IF(N30=N$4,N$3),IF(O30=O$4,O$3),IF(P30=P$4,P$3),IF(Q30=Q$4,Q$3)) -> 71
W31: =SUM(IF(B31=B$4,1),IF(C31=C$4,1),IF(D31=D$4,1),IF(E31=E$4,1),IF(F31=F$4,1),IF(G31=G$4,1),IF(H31=H$4,1),IF(I31=I$4,1),IF(J31=J$4,1),IF(K31=K$4,1),IF(L31=L$4,1),IF(M31=M$4,1),IF(N31=N$4,1),IF(O31=O$4,1),IF(P31=P$4,1),IF(Q31=Q$4,1)) -> 15 | X31: =SUM(IF(B31=B$4,B$3),IF(C31=C$4,C$3),IF(D31=D$4,D$3),IF(E31=E$4,E$3),IF(F31=F$4,F$3),IF(G31=G$4,G$3),IF(H31=H$4,H$3),IF(I31=I$4,I$3),IF(J31=J$4,J$3),IF(K31=K$4,K$3),IF(L31=L$4,L$3),IF(M31=M$4,M$3),IF(N31=N$4,N$3),IF(O31=O$4,O$3),IF(P31=P$4,P$3),IF(Q31=Q$4,Q$3)) -> 71
W32: =SUM(IF(B32=B$4,1),IF(C32=C$4,1),IF(D32=D$4,1),IF(E32=E$4,1),IF(F32=F$4,1),IF(G32=G$4,1),IF(H32=H$4,1),IF(I32=I$4,1),IF(J32=J$4,1),IF(K32=K$4,1),IF(L32=L$4,1),IF(M32=M$4,1),IF(N32=N$4,1),IF(O32=O$4,1),IF(P32=P$4,1),IF(Q32=Q$4,1)) -> 15 | X32: =SUM(IF(B32=B$4,B$3),IF(C32=C$4,C$3),IF(D32=D$4,D$3),IF(E32=E$4,E$3),IF(F32=F$4,F$3),IF(G32=G$4,G$3),IF(H32=H$4,H$3),IF(I32=I$4,I$3),IF(J32=J$4,J$3),IF(K32=K$4,K$3),IF(L32=L$4,L$3),IF(M32=M$4,M$3),IF(N32=N$4,N$3),IF(O32=O$4,O$3),IF(P32=P$4,P$3),IF(Q32=Q$4,Q$3)) -> 71
W33: =SUM(IF(B33=B$4,1),IF(C33=C$4,1),IF(D33=D$4,1),IF(E33=E$4,1),IF(F33=F$4,1),IF(G33=G$4,1),IF(H33=H$4,1),IF(I33=I$4,1),IF(J33=J$4,1),IF(K33=K$4,1),IF(L33=L$4,1),IF(M33=M$4,1),IF(N33=N$4,1),IF(O33=O$4,1),IF(P33=P$4,1),IF(Q33=Q$4,1)) -> 15 | X33: =SUM(IF(B33=B$4,B$3),IF(C33=C$4,C$3),IF(D33=D$4,D$3),IF(E33=E$4,E$3),IF(F33=F$4,F$3),IF(G33=G$4,G$3),IF(H33=H$4,H$3),IF(I33=I$4,I$3),IF(J33=J$4,J$3),IF(K33=K$4,K$3),IF(L33=L$4,L$3),IF(M33=M$4,M$3),IF(N33=N$4,N$3),IF(O33=O$4,O$3),IF(P33=P$4,P$3),IF(Q33=Q$4,Q$3)) -> 71
W34: =SUM(IF(B34=B$4,1),IF(C34=C$4,1),IF(D34=D$4,1),IF(E34=E$4,1),IF(F34=F$4,1),IF(G34=G$4,1),IF(H34=H$4,1),IF(I34=I$4,1),IF(J34=J$4,1),IF(K34=K$4,1),IF(L34=L$4,1),IF(M34=M$4,1),IF(N34=N$4,1),IF(O34=O$4,1),IF(P34=P$4,1),IF(Q34=Q$4,1)) -> 15 | X34: =SUM(IF(B34=B$4,B$3),IF(C34=C$4,C$3),IF(D34=D$4,D$3),IF(E34=E$4,E$3),IF(F34=F$4,F$3),IF(G34=G$4,G$3),IF(H34=H$4,H$3),IF(I34=I$4,I$3),IF(J34=J$4,J$3),IF(K34=K$4,K$3),IF(L34=L$4,L$3),IF(M34=M$4,M$3),IF(N34=N$4,N$3),IF(O34=O$4,O$3),IF(P34=P$4,P$3),IF(Q34=Q$4,Q$3)) -> 71
W35: =SUM(IF(B35=B$4,1),IF(C35=C$4,1),IF(D35=D$4,1),IF(E35=E$4,1),IF(F35=F$4,1),IF(G35=G$4,1),IF(H35=H$4,1),IF(I35=I$4,1),IF(J35=J$4,1),IF(K35=K$4,1),IF(L35=L$4,1),IF(M35=M$4,1),IF(N35=N$4,1),IF(O35=O$4,1),IF(P35=P$4,1),IF(Q35=Q$4,1)) -> 15 | X35: =SUM(IF(B35=B$4,B$3),IF(C35=C$4,C$3),IF(D35=D$4,D$3),IF(E35=E$4,E$3),IF(F35=F$4,F$3),IF(G35=G$4,G$3),IF(H35=H$4,H$3),IF(I35=I$4,I$3),IF(J35=J$4,J$3),IF(K35=K$4,K$3),IF(L35=L$4,L$3),IF(M35=M$4,M$3),IF(N35=N$4,N$3),IF(O35=O$4,O$3),IF(P35=P$4,P$3),IF(Q35=Q$4,Q$3)) -> 71
W36: =SUM(IF(B36=B$4,1),IF(C36=C$4,1),IF(D36=D$4,1),IF(E36=E$4,1),IF(F36=F$4,1),IF(G36=G$4,1),IF(H36=H$4,1),IF(I36=I$4,1),IF(J36=J$4,1),IF(K36=K$4,1),IF(L36=L$4,1),IF(M36=M$4,1),IF(N36=N$4,1),IF(O36=O$4,1),IF(P36=P$4,1),IF(Q36=Q$4,1)) -> 15 | X36: =SUM(IF(B36=B$4,B$3),IF(C36=C$4,C$3),IF(D36=D$4,D$3),IF(E36=E$4,E$3),IF(F36=F$4,F$3),IF(G36=G$4,G$3),IF(H36=H$4,H$3),IF(I36=I$4,I$3),IF(J36=J$4,J$3),IF(K36=K$4,K$3),IF(L36=L$4,L$3),IF(M36=M$4,M$3),IF(N36=N$4,N$3),IF(O36=O$4,O$3),IF(P36=P$4,P$3),IF(Q36=Q$4,Q$3)) -> 71
W37: =SUM(IF(B37=B$4,1),IF(C37=C$4,1),IF(D37=D$4,1),IF(E37=E$4,1),IF(F37=F$4,1),IF(G37=G$4,1),IF(H37=H$4,1),IF(I37=I$4,1),IF(J37=J$4,1),IF(K37=K$4,1),IF(L37=L$4,1),IF(M37=M$4,1),IF(N37=N$4,1),IF(O37=O$4,1),IF(P37=P$4,1),IF(Q37=Q$4,1)) -> 15 | X37: =SUM(IF(B37=B$4,B$3),IF(C37=C$4,C$3),IF(D37=D$4,D$3),IF(E37=E$4,E$3),IF(F37=F$4,F$3),IF(G37=G$4,G$3),IF(H37=H$4,H$3),IF(I37=I$4,I$3),IF(J37=J$4,J$3),IF(K37=K$4,K$3),IF(L37=L$4,L$3),IF(M37=M$4,M$3),IF(N37=N$4,N$3),IF(O37=O$4,O$3),IF(P37=P$4,P$3),IF(Q37=Q$4,Q$3)) -> 71
A38: DIVISION IV
W39: =SUM(IF(B39=B$4,1),IF(C39=C$4,1),IF(D39=D$4,1),IF(E39=E$4,1),IF(F39=F$4,1),IF(G39=G$4,1),IF(H39=H$4,1),IF(I39=I$4,1),IF(J39=J$4,1),IF(K39=K$4,1),IF(L39=L$4,1),IF(M39=M$4,1),IF(N39=N$4,1),IF(O39=O$4,1),IF(P39=P$4,1),IF(Q39=Q$4,1)) -> 15 | X39: =SUM(IF(B39=B$4,B$3),IF(C39=C$4,C$3),IF(D39=D$4,D$3),IF(E39=E$4,E$3),IF(F39=F$4,F$3),IF(G39=G$4,G$3),IF(H39=H$4,H$3),IF(I39=I$4,I$3),IF(J39=J$4,J$3),IF(K39=K$4,K$3),IF(L39=L$4,L$3),IF(M39=M$4,M$3),IF(N39=N$4,N$3),IF(O39=O$4,O$3),IF(P39=P$4,P$3),IF(Q39=Q$4,Q$3)) -> 71
W40: =SUM(IF(B40=B$4,1),IF(C40=C$4,1),IF(D40=D$4,1),IF(E40=E$4,1),IF(F40=F$4,1),IF(G40=G$4,1),IF(H40=H$4,1),IF(I40=I$4,1),IF(J40=J$4,1),IF(K40=K$4,1),IF(L40=L$4,1),IF(M40=M$4,1),IF(N40=N$4,1),IF(O40=O$4,1),IF(P40=P$4,1),IF(Q40=Q$4,1)) -> 15 | X40: =SUM(IF(B40=B$4,B$3),IF(C40=C$4,C$3),IF(D40=D$4,D$3),IF(E40=E$4,E$3),IF(F40=F$4,F$3),IF(G40=G$4,G$3),IF(H40=H$4,H$3),IF(I40=I$4,I$3),IF(J40=J$4,J$3),IF(K40=K$4,K$3),IF(L40=L$4,L$3),IF(M40=M$4,M$3),IF(N40=N$4,N$3),IF(O40=O$4,O$3),IF(P40=P$4,P$3),IF(Q40=Q$4,Q$3)) -> 71
W41: =SUM(IF(B41=B$4,1),IF(C41=C$4,1),IF(D41=D$4,1),IF(E41=E$4,1),IF(F41=F$4,1),IF(G41=G$4,1),IF(H41=H$4,1),IF(I41=I$4,1),IF(J41=J$4,1),IF(K41=K$4,1),IF(L41=L$4,1),IF(M41=M$4,1),IF(N41=N$4,1),IF(O41=O$4,1),IF(P41=P$4,1),IF(Q41=Q$4,1)) -> 15 | X41: =SUM(IF(B41=B$4,B$3),IF(C41=C$4,C$3),IF(D41=D$4,D$3),IF(E41=E$4,E$3),IF(F41=F$4,F$3),IF(G41=G$4,G$3),IF(H41=H$4,H$3),IF(I41=I$4,I$3),IF(J41=J$4,J$3),IF(K41=K$4,K$3),IF(L41=L$4,L$3),IF(M41=M$4,M$3),IF(N41=N$4,N$3),IF(O41=O$4,O$3),IF(P41=P$4,P$3),IF(Q41=Q$4,Q$3)) -> 71
W42: =SUM(IF(B42=B$4,1),IF(C42=C$4,1),IF(D42=D$4,1),IF(E42=E$4,1),IF(F42=F$4,1),IF(G42=G$4,1),IF(H42=H$4,1),IF(I42=I$4,1),IF(J42=J$4,1),IF(K42=K$4,1),IF(L42=L$4,1),IF(M42=M$4,1),IF(N42=N$4,1),IF(O42=O$4,1),IF(P42=P$4,1),IF(Q42=Q$4,1)) -> 15 | X42: =SUM(IF(B42=B$4,B$3),IF(C42=C$4,C$3),IF(D42=D$4,D$3),IF(E42=E$4,E$3),IF(F42=F$4,F$3),IF(G42=G$4,G$3),IF(H42=H$4,H$3),IF(I42=I$4,I$3),IF(J42=J$4,J$3),IF(K42=K$4,K$3),IF(L42=L$4,L$3),IF(M42=M$4,M$3),IF(N42=N$4,N$3),IF(O42=O$4,O$3),IF(P42=P$4,P$3),IF(Q42=Q$4,Q$3)) -> 71
W43: =SUM(IF(B43=B$4,1),IF(C43=C$4,1),IF(D43=D$4,1),IF(E43=E$4,1),IF(F43=F$4,1),IF(G43=G$4,1),IF(H43=H$4,1),IF(I43=I$4,1),IF(J43=J$4,1),IF(K43=K$4,1),IF(L43=L$4,1),IF(M43=M$4,1),IF(N43=N$4,1),IF(O43=O$4,1),IF(P43=P$4,1),IF(Q43=Q$4,1)) -> 15 | X43: =SUM(IF(B43=B$4,B$3),IF(C43=C$4,C$3),IF(D43=D$4,D$3),IF(E43=E$4,E$3),IF(F43=F$4,F$3),IF(G43=G$4,G$3),IF(H43=H$4,H$3),IF(I43=I$4,I$3),IF(J43=J$4,J$3),IF(K43=K$4,K$3),IF(L43=L$4,L$3),IF(M43=M$4,M$3),IF(N43=N$4,N$3),IF(O43=O$4,O$3),IF(P43=P$4,P$3),IF(Q43=Q$4,Q$3)) -> 71
W44: =SUM(IF(B44=B$4,1),IF(C44=C$4,1),IF(D44=D$4,1),IF(E44=E$4,1),IF(F44=F$4,1),IF(G44=G$4,1),IF(H44=H$4,1),IF(I44=I$4,1),IF(J44=J$4,1),IF(K44=K$4,1),IF(L44=L$4,1),IF(M44=M$4,1),IF(N44=N$4,1),IF(O44=O$4,1),IF(P44=P$4,1),IF(Q44=Q$4,1)) -> 15 | X44: =SUM(IF(B44=B$4,B$3),IF(C44=C$4,C$3),IF(D44=D$4,D$3),IF(E44=E$4,E$3),IF(F44=F$4,F$3),IF(G44=G$4,G$3),IF(H44=H$4,H$3),IF(I44=I$4,I$3),IF(J44=J$4,J$3),IF(K44=K$4,K$3),IF(L44=L$4,L$3),IF(M44=M$4,M$3),IF(N44=N$4,N$3),IF(O44=O$4,O$3),IF(P44=P$4,P$3),IF(Q44=Q$4,Q$3)) -> 71
W45: =SUM(IF(B45=B$4,1),IF(C45=C$4,1),IF(D45=D$4,1),IF(E45=E$4,1),IF(F45=F$4,1),IF(G45=G$4,1),IF(H45=H$4,1),IF(I45=I$4,1),IF(J45=J$4,1),IF(K45=K$4,1),IF(L45=L$4,1),IF(M45=M$4,1),IF(N45=N$4,1),IF(O45=O$4,1),IF(P45=P$4,1),IF(Q45=Q$4,1)) -> 15 | X45: =SUM(IF(B45=B$4,B$3),IF(C45=C$4,C$3),IF(D45=D$4,D$3),IF(E45=E$4,E$3),IF(F45=F$4,F$3),IF(G45=G$4,G$3),IF(H45=H$4,H$3),IF(I45=I$4,I$3),IF(J45=J$4,J$3),IF(K45=K$4,K$3),IF(L45=L$4,L$3),IF(M45=M$4,M$3),IF(N45=N$4,N$3),IF(O45=O$4,O$3),IF(P45=P$4,P$3),IF(Q45=Q$4,Q$3)) -> 71
W46: =SUM(IF(B46=B$4,1),IF(C46=C$4,1),IF(D46=D$4,1),IF(E46=E$4,1),IF(F46=F$4,1),IF(G46=G$4,1),IF(H46=H$4,1),IF(I46=I$4,1),IF(J46=J$4,1),IF(K46=K$4,1),IF(L46=L$4,1),IF(M46=M$4,1),IF(N46=N$4,1),IF(O46=O$4,1),IF(P46=P$4,1),IF(Q46=Q$4,1)) -> 15 | X46: =SUM(IF(B46=B$4,B$3),IF(C46=C$4,C$3),IF(D46=D$4,D$3),IF(E46=E$4,E$3),IF(F46=F$4,F$3),IF(G46=G$4,G$3),IF(H46=H$4,H$3),IF(I46=I$4,I$3),IF(J46=J$4,J$3),IF(K46=K$4,K$3),IF(L46=L$4,L$3),IF(M46=M$4,M$3),IF(N46=N$4,N$3),IF(O46=O$4,O$3),IF(P46=P$4,P$3),IF(Q46=Q$4,Q$3)) -> 71
W47: =SUM(IF(B47=B$4,1),IF(C47=C$4,1),IF(D47=D$4,1),IF(E47=E$4,1),IF(F47=F$4,1),IF(G47=G$4,1),IF(H47=H$4,1),IF(I47=I$4,1),IF(J47=J$4,1),IF(K47=K$4,1),IF(L47=L$4,1),IF(M47=M$4,1),IF(N47=N$4,1),IF(O47=O$4,1),IF(P47=P$4,1),IF(Q47=Q$4,1)) -> 15 | X47: =SUM(IF(B47=B$4,B$3),IF(C47=C$4,C$3),IF(D47=D$4,D$3),IF(E47=E$4,E$3),IF(F47=F$4,F$3),IF(G47=G$4,G$3),IF(H47=H$4,H$3),IF(I47=I$4,I$3),IF(J47=J$4,J$3),IF(K47=K$4,K$3),IF(L47=L$4,L$3),IF(M47=M$4,M$3),IF(N47=N$4,N$3),IF(O47=O$4,O$3),IF(P47=P$4,P$3),IF(Q47=Q$4,Q$3)) -> 71
W48: =SUM(IF(B48=B$4,1),IF(C48=C$4,1),IF(D48=D$4,1),IF(E48=E$4,1),IF(F48=F$4,1),IF(G48=G$4,1),IF(H48=H$4,1),IF(I48=I$4,1),IF(J48=J$4,1),IF(K48=K$4,1),IF(L48=L$4,1),IF(M48=M$4,1),IF(N48=N$4,1),IF(O48=O$4,1),IF(P48=P$4,1),IF(Q48=Q$4,1)) -> 15 | X48: =SUM(IF(B48=B$4,B$3),IF(C48=C$4,C$3),IF(D48=D$4,D$3),IF(E48=E$4,E$3),IF(F48=F$4,F$3),IF(G48=G$4,G$3),IF(H48=H$4,H$3),IF(I48=I$4,I$3),IF(J48=J$4,J$3),IF(K48=K$4,K$3),IF(L48=L$4,L$3),IF(M48=M$4,M$3),IF(N48=N$4,N$3),IF(O48=O$4,O$3),IF(P48=P$4,P$3),IF(Q48=Q$4,Q$3)) -> 71

Sheet WK7
A1: PARTICIPANTS | B1: PIT | C1: LAR | D1: NO | E1: MIA | F1: LV | G1: PHI | H1: CAR | I1: NE | J1: NYG | K1: IND | L1: GB | M1: WAS | N1: ATL | O1: TB | P1: HOU | V1: AWAY | W1: TOTAL | X1: TOTAL
A2: HOME | B2: CIN | C2: JAC | D2: CHI | E2: CLE | F2: KC | G2: MIN | H2: NYJ | I2: TEN | J2: DEN | K2: LAC | L2: AZ | M2: DAL | N2: SF | O2: DET | P2: SEA | V2: HOME | W2: WINS | X2: PTS
A3: POINT VALUE | B3: 10 | C3: 3 | D3: 5 | E3: 5 | F3: 10 | G3: 5 | H3: 3 | I3: 5 | J3: 3 | K3: 5 | L3: 5 | M3: 10 | N3: 5 | O3: 5 | P3: 3 | V3: POINT VALUE | W3: 16 | X3: =SUM(B3:Q3) -> 82
A4: WINNER | Q4: N/A | R4: N/A | S4: N/A | T4: N/A | U4: N/A | V4: WINNER
A5: DIVISION I
W6: =SUM(IF(B6=B$4,1),IF(C6=C$4,1),IF(D6=D$4,1),IF(E6=E$4,1),IF(F6=F$4,1),IF(G6=G$4,1),IF(H6=H$4,1),IF(I6=I$4,1),IF(J6=J$4,1),IF(K6=K$4,1),IF(L6=L$4,1),IF(M6=M$4,1),IF(N6=N$4,1),IF(O6=O$4,1),IF(P6=P$4,1),IF(Q6=Q$4,1)) -> 15 | X6: =SUM(IF(B6=B$4,B$3),IF(C6=C$4,C$3),IF(D6=D$4,D$3),IF(E6=E$4,E$3),IF(F6=F$4,F$3),IF(G6=G$4,G$3),IF(H6=H$4,H$3),IF(I6=I$4,I$3),IF(J6=J$4,J$3),IF(K6=K$4,K$3),IF(L6=L$4,L$3),IF(M6=M$4,M$3),IF(N6=N$4,N$3),IF(O6=O$4,O$3),IF(P6=P$4,P$3),IF(Q6=Q$4,Q$3)) -> 82
W7: =SUM(IF(B7=B$4,1),IF(C7=C$4,1),IF(D7=D$4,1),IF(E7=E$4,1),IF(F7=F$4,1),IF(G7=G$4,1),IF(H7=H$4,1),IF(I7=I$4,1),IF(J7=J$4,1),IF(K7=K$4,1),IF(L7=L$4,1),IF(M7=M$4,1),IF(N7=N$4,1),IF(O7=O$4,1),IF(P7=P$4,1),IF(Q7=Q$4,1)) -> 15 | X7: =SUM(IF(B7=B$4,B$3),IF(C7=C$4,C$3),IF(D7=D$4,D$3),IF(E7=E$4,E$3),IF(F7=F$4,F$3),IF(G7=G$4,G$3),IF(H7=H$4,H$3),IF(I7=I$4,I$3),IF(J7=J$4,J$3),IF(K7=K$4,K$3),IF(L7=L$4,L$3),IF(M7=M$4,M$3),IF(N7=N$4,N$3),IF(O7=O$4,O$3),IF(P7=P$4,P$3),IF(Q7=Q$4,Q$3)) -> 82
W8: =SUM(IF(B8=B$4,1),IF(C8=C$4,1),IF(D8=D$4,1),IF(E8=E$4,1),IF(F8=F$4,1),IF(G8=G$4,1),IF(H8=H$4,1),IF(I8=I$4,1),IF(J8=J$4,1),IF(K8=K$4,1),IF(L8=L$4,1),IF(M8=M$4,1),IF(N8=N$4,1),IF(O8=O$4,1),IF(P8=P$4,1),IF(Q8=Q$4,1)) -> 15 | X8: =SUM(IF(B8=B$4,B$3),IF(C8=C$4,C$3),IF(D8=D$4,D$3),IF(E8=E$4,E$3),IF(F8=F$4,F$3),IF(G8=G$4,G$3),IF(H8=H$4,H$3),IF(I8=I$4,I$3),IF(J8=J$4,J$3),IF(K8=K$4,K$3),IF(L8=L$4,L$3),IF(M8=M$4,M$3),IF(N8=N$4,N$3),IF(O8=O$4,O$3),IF(P8=P$4,P$3),IF(Q8=Q$4,Q$3)) -> 82
W9: =SUM(IF(B9=B$4,1),IF(C9=C$4,1),IF(D9=D$4,1),IF(E9=E$4,1),IF(F9=F$4,1),IF(G9=G$4,1),IF(H9=H$4,1),IF(I9=I$4,1),IF(J9=J$4,1),IF(K9=K$4,1),IF(L9=L$4,1),IF(M9=M$4,1),IF(N9=N$4,1),IF(O9=O$4,1),IF(P9=P$4,1),IF(Q9=Q$4,1)) -> 15 | X9: =SUM(IF(B9=B$4,B$3),IF(C9=C$4,C$3),IF(D9=D$4,D$3),IF(E9=E$4,E$3),IF(F9=F$4,F$3),IF(G9=G$4,G$3),IF(H9=H$4,H$3),IF(I9=I$4,I$3),IF(J9=J$4,J$3),IF(K9=K$4,K$3),IF(L9=L$4,L$3),IF(M9=M$4,M$3),IF(N9=N$4,N$3),IF(O9=O$4,O$3),IF(P9=P$4,P$3),IF(Q9=Q$4,Q$3)) -> 82
W10: =SUM(IF(B10=B$4,1),IF(C10=C$4,1),IF(D10=D$4,1),IF(E10=E$4,1),IF(F10=F$4,1),IF(G10=G$4,1),IF(H10=H$4,1),IF(I10=I$4,1),IF(J10=J$4,1),IF(K10=K$4,1),IF(L10=L$4,1),IF(M10=M$4,1),IF(N10=N$4,1),IF(O10=O$4,1),IF(P10=P$4,1),IF(Q10=Q$4,1)) -> 15 | X10: =SUM(IF(B10=B$4,B$3),IF(C10=C$4,C$3),IF(D10=D$4,D$3),IF(E10=E$4,E$3),IF(F10=F$4,F$3),IF(G10=G$4,G$3),IF(H10=H$4,H$3),IF(I10=I$4,I$3),IF(J10=J$4,J$3),IF(K10=K$4,K$3),IF(L10=L$4,L$3),IF(M10=M$4,M$3),IF(N10=N$4,N$3),IF(O10=O$4,O$3),IF(P10=P$4,P$3),IF(Q10=Q$4,Q$3)) -> 82
W11: =SUM(IF(B11=B$4,1),IF(C11=C$4,1),IF(D11=D$4,1),IF(E11=E$4,1),IF(F11=F$4,1),IF(G11=G$4,1),IF(H11=H$4,1),IF(I11=I$4,1),IF(J11=J$4,1),IF(K11=K$4,1),IF(L11=L$4,1),IF(M11=M$4,1),IF(N11=N$4,1),IF(O11=O$4,1),IF(P11=P$4,1),IF(Q11=Q$4,1)) -> 15 | X11: =SUM(IF(B11=B$4,B$3),IF(C11=C$4,C$3),IF(D11=D$4,D$3),IF(E11=E$4,E$3),IF(F11=F$4,F$3),IF(G11=G$4,G$3),IF(H11=H$4,H$3),IF(I11=I$4,I$3),IF(J11=J$4,J$3),IF(K11=K$4,K$3),IF(L11=L$4,L$3),IF(M11=M$4,M$3),IF(N11=N$4,N$3),IF(O11=O$4,O$3),IF(P11=P$4,P$3),IF(Q11=Q$4,Q$3)) -> 82
W12: =SUM(IF(B12=B$4,1),IF(C12=C$4,1),IF(D12=D$4,1),IF(E12=E$4,1),IF(F12=F$4,1),IF(G12=G$4,1),IF(H12=H$4,1),IF(I12=I$4,1),IF(J12=J$4,1),IF(K12=K$4,1),IF(L12=L$4,1),IF(M12=M$4,1),IF(N12=N$4,1),IF(O12=O$4,1),IF(P12=P$4,1),IF(Q12=Q$4,1)) -> 15 | X12: =SUM(IF(B12=B$4,B$3),IF(C12=C$4,C$3),IF(D12=D$4,D$3),IF(E12=E$4,E$3),IF(F12=F$4,F$3),IF(G12=G$4,G$3),IF(H12=H$4,H$3),IF(I12=I$4,I$3),IF(J12=J$4,J$3),IF(K12=K$4,K$3),IF(L12=L$4,L$3),IF(M12=M$4,M$3),IF(N12=N$4,N$3),IF(O12=O$4,O$3),IF(P12=P$4,P$3),IF(Q12=Q$4,Q$3)) -> 82
W13: =SUM(IF(B13=B$4,1),IF(C13=C$4,1),IF(D13=D$4,1),IF(E13=E$4,1),IF(F13=F$4,1),IF(G13=G$4,1),IF(H13=H$4,1),IF(I13=I$4,1),IF(J13=J$4,1),IF(K13=K$4,1),IF(L13=L$4,1),IF(M13=M$4,1),IF(N13=N$4,1),IF(O13=O$4,1),IF(P13=P$4,1),IF(Q13=Q$4,1)) -> 15 | X13: =SUM(IF(B13=B$4,B$3),IF(C13=C$4,C$3),IF(D13=D$4,D$3),IF(E13=E$4,E$3),IF(F13=F$4,F$3),IF(G13=G$4,G$3),IF(H13=H$4,H$3),IF(I13=I$4,I$3),IF(J13=J$4,J$3),IF(K13=K$4,K$3),IF(L13=L$4,L$3),IF(M13=M$4,M$3),IF(N13=N$4,N$3),IF(O13=O$4,O$3),IF(P13=P$4,P$3),IF(Q13=Q$4,Q$3)) -> 82
W14: =SUM(IF(B14=B$4,1),IF(C14=C$4,1),IF(D14=D$4,1),IF(E14=E$4,1),IF(F14=F$4,1),IF(G14=G$4,1),IF(H14=H$4,1),IF(I14=I$4,1),IF(J14=J$4,1),IF(K14=K$4,1),IF(L14=L$4,1),IF(M14=M$4,1),IF(N14=N$4,1),IF(O14=O$4,1),IF(P14=P$4,1),IF(Q14=Q$4,1)) -> 15 | X14: =SUM(IF(B14=B$4,B$3),IF(C14=C$4,C$3),IF(D14=D$4,D$3),IF(E14=E$4,E$3),IF(F14=F$4,F$3),IF(G14=G$4,G$3),IF(H14=H$4,H$3),IF(I14=I$4,I$3),IF(J14=J$4,J$3),IF(K14=K$4,K$3),IF(L14=L$4,L$3),IF(M14=M$4,M$3),IF(N14=N$4,N$3),IF(O14=O$4,O$3),IF(P14=P$4,P$3),IF(Q14=Q$4,Q$3)) -> 82
W15: =SUM(IF(B15=B$4,1),IF(C15=C$4,1),IF(D15=D$4,1),IF(E15=E$4,1),IF(F15=F$4,1),IF(G15=G$4,1),IF(H15=H$4,1),IF(I15=I$4,1),IF(J15=J$4,1),IF(K15=K$4,1),IF(L15=L$4,1),IF(M15=M$4,1),IF(N15=N$4,1),IF(O15=O$4,1),IF(P15=P$4,1),IF(Q15=Q$4,1)) -> 15 | X15: =SUM(IF(B15=B$4,B$3),IF(C15=C$4,C$3),IF(D15=D$4,D$3),IF(E15=E$4,E$3),IF(F15=F$4,F$3),IF(G15=G$4,G$3),IF(H15=H$4,H$3),IF(I15=I$4,I$3),IF(J15=J$4,J$3),IF(K15=K$4,K$3),IF(L15=L$4,L$3),IF(M15=M$4,M$3),IF(N15=N$4,N$3),IF(O15=O$4,O$3),IF(P15=P$4,P$3),IF(Q15=Q$4,Q$3)) -> 82
A16: DIVISION II
W17: =SUM(IF(B17=B$4,1),IF(C17=C$4,1),IF(D17=D$4,1),IF(E17=E$4,1),IF(F17=F$4,1),IF(G17=G$4,1),IF(H17=H$4,1),IF(I17=I$4,1),IF(J17=J$4,1),IF(K17=K$4,1),IF(L17=L$4,1),IF(M17=M$4,1),IF(N17=N$4,1),IF(O17=O$4,1),IF(P17=P$4,1),IF(Q17=Q$4,1)) -> 15 | X17: =SUM(IF(B17=B$4,B$3),IF(C17=C$4,C$3),IF(D17=D$4,D$3),IF(E17=E$4,E$3),IF(F17=F$4,F$3),IF(G17=G$4,G$3),IF(H17=H$4,H$3),IF(I17=I$4,I$3),IF(J17=J$4,J$3),IF(K17=K$4,K$3),IF(L17=L$4,L$3),IF(M17=M$4,M$3),IF(N17=N$4,N$3),IF(O17=O$4,O$3),IF(P17=P$4,P$3),IF(Q17=Q$4,Q$3)) -> 82
W18: =SUM(IF(B18=B$4,1),IF(C18=C$4,1),IF(D18=D$4,1),IF(E18=E$4,1),IF(F18=F$4,1),IF(G18=G$4,1),IF(H18=H$4,1),IF(I18=I$4,1),IF(J18=J$4,1),IF(K18=K$4,1),IF(L18=L$4,1),IF(M18=M$4,1),IF(N18=N$4,1),IF(O18=O$4,1),IF(P18=P$4,1),IF(Q18=Q$4,1)) -> 15 | X18: =SUM(IF(B18=B$4,B$3),IF(C18=C$4,C$3),IF(D18=D$4,D$3),IF(E18=E$4,E$3),IF(F18=F$4,F$3),IF(G18=G$4,G$3),IF(H18=H$4,H$3),IF(I18=I$4,I$3),IF(J18=J$4,J$3),IF(K18=K$4,K$3),IF(L18=L$4,L$3),IF(M18=M$4,M$3),IF(N18=N$4,N$3),IF(O18=O$4,O$3),IF(P18=P$4,P$3),IF(Q18=Q$4,Q$3)) -> 82
W19: =SUM(IF(B19=B$4,1),IF(C19=C$4,1),IF(D19=D$4,1),IF(E19=E$4,1),IF(F19=F$4,1),IF(G19=G$4,1),IF(H19=H$4,1),IF(I19=I$4,1),IF(J19=J$4,1),IF(K19=K$4,1),IF(L19=L$4,1),IF(M19=M$4,1),IF(N19=N$4,1),IF(O19=O$4,1),IF(P19=P$4,1),IF(Q19=Q$4,1)) -> 15 | X19: =SUM(IF(B19=B$4,B$3),IF(C19=C$4,C$3),IF(D19=D$4,D$3),IF(E19=E$4,E$3),IF(F19=F$4,F$3),IF(G19=G$4,G$3),IF(H19=H$4,H$3),IF(I19=I$4,I$3),IF(J19=J$4,J$3),IF(K19=K$4,K$3),IF(L19=L$4,L$3),IF(M19=M$4,M$3),IF(N19=N$4,N$3),IF(O19=O$4,O$3),IF(P19=P$4,P$3),IF(Q19=Q$4,Q$3)) -> 82
W20: =SUM(IF(B20=B$4,1),IF(C20=C$4,1),IF(D20=D$4,1),IF(E20=E$4,1),IF(F20=F$4,1),IF(G20=G$4,1),IF(H20=H$4,1),IF(I20=I$4,1),IF(J20=J$4,1),IF(K20=K$4,1),IF(L20=L$4,1),IF(M20=M$4,1),IF(N20=N$4,1),IF(O20=O$4,1),IF(P20=P$4,1),IF(Q20=Q$4,1)) -> 15 | X20: =SUM(IF(B20=B$4,B$3),IF(C20=C$4,C$3),IF(D20=D$4,D$3),IF(E20=E$4,E$3),IF(F20=F$4,F$3),IF(G20=G$4,G$3),IF(H20=H$4,H$3),IF(I20=I$4,I$3),IF(J20=J$4,J$3),IF(K20=K$4,K$3),IF(L20=L$4,L$3),IF(M20=M$4,M$3),IF(N20=N$4,N$3),IF(O20=O$4,O$3),IF(P20=P$4,P$3),IF(Q20=Q$4,Q$3)) -> 82
W21: =SUM(IF(B21=B$4,1),IF(C21=C$4,1),IF(D21=D$4,1),IF(E21=E$4,1),IF(F21=F$4,1),IF(G21=G$4,1),IF(H21=H$4,1),IF(I21=I$4,1),IF(J21=J$4,1),IF(K21=K$4,1),IF(L21=L$4,1),IF(M21=M$4,1),IF(N21=N$4,1),IF(O21=O$4,1),IF(P21=P$4,1),IF(Q21=Q$4,1)) -> 15 | X21: =SUM(IF(B21=B$4,B$3),IF(C21=C$4,C$3),IF(D21=D$4,D$3),IF(E21=E$4,E$3),IF(F21=F$4,F$3),IF(G21=G$4,G$3),IF(H21=H$4,H$3),IF(I21=I$4,I$3),IF(J21=J$4,J$3),IF(K21=K$4,K$3),IF(L21=L$4,L$3),IF(M21=M$4,M$3),IF(N21=N$4,N$3),IF(O21=O$4,O$3),IF(P21=P$4,P$3),IF(Q21=Q$4,Q$3)) -> 82
W22: =SUM(IF(B22=B$4,1),IF(C22=C$4,1),IF(D22=D$4,1),IF(E22=E$4,1),IF(F22=F$4,1),IF(G22=G$4,1),IF(H22=H$4,1),IF(I22=I$4,1),IF(J22=J$4,1),IF(K22=K$4,1),IF(L22=L$4,1),IF(M22=M$4,1),IF(N22=N$4,1),IF(O22=O$4,1),IF(P22=P$4,1),IF(Q22=Q$4,1)) -> 15 | X22: =SUM(IF(B22=B$4,B$3),IF(C22=C$4,C$3),IF(D22=D$4,D$3),IF(E22=E$4,E$3),IF(F22=F$4,F$3),IF(G22=G$4,G$3),IF(H22=H$4,H$3),IF(I22=I$4,I$3),IF(J22=J$4,J$3),IF(K22=K$4,K$3),IF(L22=L$4,L$3),IF(M22=M$4,M$3),IF(N22=N$4,N$3),IF(O22=O$4,O$3),IF(P22=P$4,P$3),IF(Q22=Q$4,Q$3)) -> 82
W23: =SUM(IF(B23=B$4,1),IF(C23=C$4,1),IF(D23=D$4,1),IF(E23=E$4,1),IF(F23=F$4,1),IF(G23=G$4,1),IF(H23=H$4,1),IF(I23=I$4,1),IF(J23=J$4,1),IF(K23=K$4,1),IF(L23=L$4,1),IF(M23=M$4,1),IF(N23=N$4,1),IF(O23=O$4,1),IF(P23=P$4,1),IF(Q23=Q$4,1)) -> 15 | X23: =SUM(IF(B23=B$4,B$3),IF(C23=C$4,C$3),IF(D23=D$4,D$3),IF(E23=E$4,E$3),IF(F23=F$4,F$3),IF(G23=G$4,G$3),IF(H23=H$4,H$3),IF(I23=I$4,I$3),IF(J23=J$4,J$3),IF(K23=K$4,K$3),IF(L23=L$4,L$3),IF(M23=M$4,M$3),IF(N23=N$4,N$3),IF(O23=O$4,O$3),IF(P23=P$4,P$3),IF(Q23=Q$4,Q$3)) -> 82
W24: =SUM(IF(B24=B$4,1),IF(C24=C$4,1),IF(D24=D$4,1),IF(E24=E$4,1),IF(F24=F$4,1),IF(G24=G$4,1),IF(H24=H$4,1),IF(I24=I$4,1),IF(J24=J$4,1),IF(K24=K$4,1),IF(L24=L$4,1),IF(M24=M$4,1),IF(N24=N$4,1),IF(O24=O$4,1),IF(P24=P$4,1),IF(Q24=Q$4,1)) -> 15 | X24: =SUM(IF(B24=B$4,B$3),IF(C24=C$4,C$3),IF(D24=D$4,D$3),IF(E24=E$4,E$3),IF(F24=F$4,F$3),IF(G24=G$4,G$3),IF(H24=H$4,H$3),IF(I24=I$4,I$3),IF(J24=J$4,J$3),IF(K24=K$4,K$3),IF(L24=L$4,L$3),IF(M24=M$4,M$3),IF(N24=N$4,N$3),IF(O24=O$4,O$3),IF(P24=P$4,P$3),IF(Q24=Q$4,Q$3)) -> 82
W25: =SUM(IF(B25=B$4,1),IF(C25=C$4,1),IF(D25=D$4,1),IF(E25=E$4,1),IF(F25=F$4,1),IF(G25=G$4,1),IF(H25=H$4,1),IF(I25=I$4,1),IF(J25=J$4,1),IF(K25=K$4,1),IF(L25=L$4,1),IF(M25=M$4,1),IF(N25=N$4,1),IF(O25=O$4,1),IF(P25=P$4,1),IF(Q25=Q$4,1)) -> 15 | X25: =SUM(IF(B25=B$4,B$3),IF(C25=C$4,C$3),IF(D25=D$4,D$3),IF(E25=E$4,E$3),IF(F25=F$4,F$3),IF(G25=G$4,G$3),IF(H25=H$4,H$3),IF(I25=I$4,I$3),IF(J25=J$4,J$3),IF(K25=K$4,K$3),IF(L25=L$4,L$3),IF(M25=M$4,M$3),IF(N25=N$4,N$3),IF(O25=O$4,O$3),IF(P25=P$4,P$3),IF(Q25=Q$4,Q$3)) -> 82
W26: =SUM(IF(B26=B$4,1),IF(C26=C$4,1),IF(D26=D$4,1),IF(E26=E$4,1),IF(F26=F$4,1),IF(G26=G$4,1),IF(H26=H$4,1),IF(I26=I$4,1),IF(J26=J$4,1),IF(K26=K$4,1),IF(L26=L$4,1),IF(M26=M$4,1),IF(N26=N$4,1),IF(O26=O$4,1),IF(P26=P$4,1),IF(Q26=Q$4,1)) -> 15 | X26: =SUM(IF(B26=B$4,B$3),IF(C26=C$4,C$3),IF(D26=D$4,D$3),IF(E26=E$4,E$3),IF(F26=F$4,F$3),IF(G26=G$4,G$3),IF(H26=H$4,H$3),IF(I26=I$4,I$3),IF(J26=J$4,J$3),IF(K26=K$4,K$3),IF(L26=L$4,L$3),IF(M26=M$4,M$3),IF(N26=N$4,N$3),IF(O26=O$4,O$3),IF(P26=P$4,P$3),IF(Q26=Q$4,Q$3)) -> 82
A27: DIVISION III
W28: =SUM(IF(B28=B$4,1),IF(C28=C$4,1),IF(D28=D$4,1),IF(E28=E$4,1),IF(F28=F$4,1),IF(G28=G$4,1),IF(H28=H$4,1),IF(I28=I$4,1),IF(J28=J$4,1),IF(K28=K$4,1),IF(L28=L$4,1),IF(M28=M$4,1),IF(N28=N$4,1),IF(O28=O$4,1),IF(P28=P$4,1),IF(Q28=Q$4,1)) -> 15 | X28: =SUM(IF(B28=B$4,B$3),IF(C28=C$4,C$3),IF(D28=D$4,D$3),IF(E28=E$4,E$3),IF(F28=F$4,F$3),IF(G28=G$4,G$3),IF(H28=H$4,H$3),IF(I28=I$4,I$3),IF(J28=J$4,J$3),IF(K28=K$4,K$3),IF(L28=L$4,L$3),IF(M28=M$4,M$3),IF(N28=N$4,N$3),IF(O28=O$4,O$3),IF(P28=P$4,P$3),IF(Q28=Q$4,Q$3)) -> 82
W29: =SUM(IF(B29=B$4,1),IF(C29=C$4,1),IF(D29=D$4,1),IF(E29=E$4,1),IF(F29=F$4,1),IF(G29=G$4,1),IF(H29=H$4,1),IF(I29=I$4,1),IF(J29=J$4,1),IF(K29=K$4,1),IF(L29=L$4,1),IF(M29=M$4,1),IF(N29=N$4,1),IF(O29=O$4,1),IF(P29=P$4,1),IF(Q29=Q$4,1)) -> 15 | X29: =SUM(IF(B29=B$4,B$3),IF(C29=C$4,C$3),IF(D29=D$4,D$3),IF(E29=E$4,E$3),IF(F29=F$4,F$3),IF(G29=G$4,G$3),IF(H29=H$4,H$3),IF(I29=I$4,I$3),IF(J29=J$4,J$3),IF(K29=K$4,K$3),IF(L29=L$4,L$3),IF(M29=M$4,M$3),IF(N29=N$4,N$3),IF(O29=O$4,O$3),IF(P29=P$4,P$3),IF(Q29=Q$4,Q$3)) -> 82
W30: =SUM(IF(B30=B$4,1),IF(C30=C$4,1),IF(D30=D$4,1),IF(E30=E$4,1),IF(F30=F$4,1),IF(G30=G$4,1),IF(H30=H$4,1),IF(I30=I$4,1),IF(J30=J$4,1),IF(K30=K$4,1),IF(L30=L$4,1),IF(M30=M$4,1),IF(N30=N$4,1),IF(O30=O$4,1),IF(P30=P$4,1),IF(Q30=Q$4,1)) -> 15 | X30: =SUM(IF(B30=B$4,B$3),IF(C30=C$4,C$3),IF(D30=D$4,D$3),IF(E30=E$4,E$3),IF(F30=F$4,F$3),IF(G30=G$4,G$3),IF(H30=H$4,H$3),IF(I30=I$4,I$3),IF(J30=J$4,J$3),IF(K30=K$4,K$3),IF(L30=L$4,L$3),IF(M30=M$4,M$3),IF(N30=N$4,N$3),IF(O30=O$4,O$3),IF(P30=P$4,P$3),IF(Q30=Q$4,Q$3)) -> 82
W31: =SUM(IF(B31=B$4,1),IF(C31=C$4,1),IF(D31=D$4,1),IF(E31=E$4,1),IF(F31=F$4,1),IF(G31=G$4,1),IF(H31=H$4,1),IF(I31=I$4,1),IF(J31=J$4,1),IF(K31=K$4,1),IF(L31=L$4,1),IF(M31=M$4,1),IF(N31=N$4,1),IF(O31=O$4,1),IF(P31=P$4,1),IF(Q31=Q$4,1)) -> 15 | X31: =SUM(IF(B31=B$4,B$3),IF(C31=C$4,C$3),IF(D31=D$4,D$3),IF(E31=E$4,E$3),IF(F31=F$4,F$3),IF(G31=G$4,G$3),IF(H31=H$4,H$3),IF(I31=I$4,I$3),IF(J31=J$4,J$3),IF(K31=K$4,K$3),IF(L31=L$4,L$3),IF(M31=M$4,M$3),IF(N31=N$4,N$3),IF(O31=O$4,O$3),IF(P31=P$4,P$3),IF(Q31=Q$4,Q$3)) -> 82
W32: =SUM(IF(B32=B$4,1),IF(C32=C$4,1),IF(D32=D$4,1),IF(E32=E$4,1),IF(F32=F$4,1),IF(G32=G$4,1),IF(H32=H$4,1),IF(I32=I$4,1),IF(J32=J$4,1),IF(K32=K$4,1),IF(L32=L$4,1),IF(M32=M$4,1),IF(N32=N$4,1),IF(O32=O$4,1),IF(P32=P$4,1),IF(Q32=Q$4,1)) -> 15 | X32: =SUM(IF(B32=B$4,B$3),IF(C32=C$4,C$3),IF(D32=D$4,D$3),IF(E32=E$4,E$3),IF(F32=F$4,F$3),IF(G32=G$4,G$3),IF(H32=H$4,H$3),IF(I32=I$4,I$3),IF(J32=J$4,J$3),IF(K32=K$4,K$3),IF(L32=L$4,L$3),IF(M32=M$4,M$3),IF(N32=N$4,N$3),IF(O32=O$4,O$3),IF(P32=P$4,P$3),IF(Q32=Q$4,Q$3)) -> 82
W33: =SUM(IF(B33=B$4,1),IF(C33=C$4,1),IF(D33=D$4,1),IF(E33=E$4,1),IF(F33=F$4,1),IF(G33=G$4,1),IF(H33=H$4,1),IF(I33=I$4,1),IF(J33=J$4,1),IF(K33=K$4,1),IF(L33=L$4,1),IF(M33=M$4,1),IF(N33=N$4,1),IF(O33=O$4,1),IF(P33=P$4,1),IF(Q33=Q$4,1)) -> 15 | X33: =SUM(IF(B33=B$4,B$3),IF(C33=C$4,C$3),IF(D33=D$4,D$3),IF(E33=E$4,E$3),IF(F33=F$4,F$3),IF(G33=G$4,G$3),IF(H33=H$4,H$3),IF(I33=I$4,I$3),IF(J33=J$4,J$3),IF(K33=K$4,K$3),IF(L33=L$4,L$3),IF(M33=M$4,M$3),IF(N33=N$4,N$3),IF(O33=O$4,O$3),IF(P33=P$4,P$3),IF(Q33=Q$4,Q$3)) -> 82
W34: =SUM(IF(B34=B$4,1),IF(C34=C$4,1),IF(D34=D$4,1),IF(E34=E$4,1),IF(F34=F$4,1),IF(G34=G$4,1),IF(H34=H$4,1),IF(I34=I$4,1),IF(J34=J$4,1),IF(K34=K$4,1),IF(L34=L$4,1),IF(M34=M$4,1),IF(N34=N$4,1),IF(O34=O$4,1),IF(P34=P$4,1),IF(Q34=Q$4,1)) -> 15 | X34: =SUM(IF(B34=B$4,B$3),IF(C34=C$4,C$3),IF(D34=D$4,D$3),IF(E34=E$4,E$3),IF(F34=F$4,F$3),IF(G34=G$4,G$3),IF(H34=H$4,H$3),IF(I34=I$4,I$3),IF(J34=J$4,J$3),IF(K34=K$4,K$3),IF(L34=L$4,L$3),IF(M34=M$4,M$3),IF(N34=N$4,N$3),IF(O34=O$4,O$3),IF(P34=P$4,P$3),IF(Q34=Q$4,Q$3)) -> 82
W35: =SUM(IF(B35=B$4,1),IF(C35=C$4,1),IF(D35=D$4,1),IF(E35=E$4,1),IF(F35=F$4,1),IF(G35=G$4,1),IF(H35=H$4,1),IF(I35=I$4,1),IF(J35=J$4,1),IF(K35=K$4,1),IF(L35=L$4,1),IF(M35=M$4,1),IF(N35=N$4,1),IF(O35=O$4,1),IF(P35=P$4,1),IF(Q35=Q$4,1)) -> 15 | X35: =SUM(IF(B35=B$4,B$3),IF(C35=C$4,C$3),IF(D35=D$4,D$3),IF(E35=E$4,E$3),IF(F35=F$4,F$3),IF(G35=G$4,G$3),IF(H35=H$4,H$3),IF(I35=I$4,I$3),IF(J35=J$4,J$3),IF(K35=K$4,K$3),IF(L35=L$4,L$3),IF(M35=M$4,M$3),IF(N35=N$4,N$3),IF(O35=O$4,O$3),IF(P35=P$4,P$3),IF(Q35=Q$4,Q$3)) -> 82
W36: =SUM(IF(B36=B$4,1),IF(C36=C$4,1),IF(D36=D$4,1),IF(E36=E$4,1),IF(F36=F$4,1),IF(G36=G$4,1),IF(H36=H$4,1),IF(I36=I$4,1),IF(J36=J$4,1),IF(K36=K$4,1),IF(L36=L$4,1),IF(M36=M$4,1),IF(N36=N$4,1),IF(O36=O$4,1),IF(P36=P$4,1),IF(Q36=Q$4,1)) -> 15 | X36: =SUM(IF(B36=B$4,B$3),IF(C36=C$4,C$3),IF(D36=D$4,D$3),IF(E36=E$4,E$3),IF(F36=F$4,F$3),IF(G36=G$4,G$3),IF(H36=H$4,H$3),IF(I36=I$4,I$3),IF(J36=J$4,J$3),IF(K36=K$4,K$3),IF(L36=L$4,L$3),IF(M36=M$4,M$3),IF(N36=N$4,N$3),IF(O36=O$4,O$3),IF(P36=P$4,P$3),IF(Q36=Q$4,Q$3)) -> 82
W37: =SUM(IF(B37=B$4,1),IF(C37=C$4,1),IF(D37=D$4,1),IF(E37=E$4,1),IF(F37=F$4,1),IF(G37=G$4,1),IF(H37=H$4,1),IF(I37=I$4,1),IF(J37=J$4,1),IF(K37=K$4,1),IF(L37=L$4,1),IF(M37=M$4,1),IF(N37=N$4,1),IF(O37=O$4,1),IF(P37=P$4,1),IF(Q37=Q$4,1)) -> 15 | X37: =SUM(IF(B37=B$4,B$3),IF(C37=C$4,C$3),IF(D37=D$4,D$3),IF(E37=E$4,E$3),IF(F37=F$4,F$3),IF(G37=G$4,G$3),IF(H37=H$4,H$3),IF(I37=I$4,I$3),IF(J37=J$4,J$3),IF(K37=K$4,K$3),IF(L37=L$4,L$3),IF(M37=M$4,M$3),IF(N37=N$4,N$3),IF(O37=O$4,O$3),IF(P37=P$4,P$3),IF(Q37=Q$4,Q$3)) -> 82
A38: DIVISION IV
W39: =SUM(IF(B39=B$4,1),IF(C39=C$4,1),IF(D39=D$4,1),IF(E39=E$4,1),IF(F39=F$4,1),IF(G39=G$4,1),IF(H39=H$4,1),IF(I39=I$4,1),IF(J39=J$4,1),IF(K39=K$4,1),IF(L39=L$4,1),IF(M39=M$4,1),IF(N39=N$4,1),IF(O39=O$4,1),IF(P39=P$4,1),IF(Q39=Q$4,1)) -> 15 | X39: =SUM(IF(B39=B$4,B$3),IF(C39=C$4,C$3),IF(D39=D$4,D$3),IF(E39=E$4,E$3),IF(F39=F$4,F$3),IF(G39=G$4,G$3),IF(H39=H$4,H$3),IF(I39=I$4,I$3),IF(J39=J$4,J$3),IF(K39=K$4,K$3),IF(L39=L$4,L$3),IF(M39=M$4,M$3),IF(N39=N$4,N$3),IF(O39=O$4,O$3),IF(P39=P$4,P$3),IF(Q39=Q$4,Q$3)) -> 82
W40: =SUM(IF(B40=B$4,1),IF(C40=C$4,1),IF(D40=D$4,1),IF(E40=E$4,1),IF(F40=F$4,1),IF(G40=G$4,1),IF(H40=H$4,1),IF(I40=I$4,1),IF(J40=J$4,1),IF(K40=K$4,1),IF(L40=L$4,1),IF(M40=M$4,1),IF(N40=N$4,1),IF(O40=O$4,1),IF(P40=P$4,1),IF(Q40=Q$4,1)) -> 15 | X40: =SUM(IF(B40=B$4,B$3),IF(C40=C$4,C$3),IF(D40=D$4,D$3),IF(E40=E$4,E$3),IF(F40=F$4,F$3),IF(G40=G$4,G$3),IF(H40=H$4,H$3),IF(I40=I$4,I$3),IF(J40=J$4,J$3),IF(K40=K$4,K$3),IF(L40=L$4,L$3),IF(M40=M$4,M$3),IF(N40=N$4,N$3),IF(O40=O$4,O$3),IF(P40=P$4,P$3),IF(Q40=Q$4,Q$3)) -> 82
W41: =SUM(IF(B41=B$4,1),IF(C41=C$4,1),IF(D41=D$4,1),IF(E41=E$4,1),IF(F41=F$4,1),IF(G41=G$4,1),IF(H41=H$4,1),IF(I41=I$4,1),IF(J41=J$4,1),IF(K41=K$4,1),IF(L41=L$4,1),IF(M41=M$4,1),IF(N41=N$4,1),IF(O41=O$4,1),IF(P41=P$4,1),IF(Q41=Q$4,1)) -> 15 | X41: =SUM(IF(B41=B$4,B$3),IF(C41=C$4,C$3),IF(D41=D$4,D$3),IF(E41=E$4,E$3),IF(F41=F$4,F$3),IF(G41=G$4,G$3),IF(H41=H$4,H$3),IF(I41=I$4,I$3),IF(J41=J$4,J$3),IF(K41=K$4,K$3),IF(L41=L$4,L$3),IF(M41=M$4,M$3),IF(N41=N$4,N$3),IF(O41=O$4,O$3),IF(P41=P$4,P$3),IF(Q41=Q$4,Q$3)) -> 82
W42: =SUM(IF(B42=B$4,1),IF(C42=C$4,1),IF(D42=D$4,1),IF(E42=E$4,1),IF(F42=F$4,1),IF(G42=G$4,1),IF(H42=H$4,1),IF(I42=I$4,1),IF(J42=J$4,1),IF(K42=K$4,1),IF(L42=L$4,1),IF(M42=M$4,1),IF(N42=N$4,1),IF(O42=O$4,1),IF(P42=P$4,1),IF(Q42=Q$4,1)) -> 15 | X42: =SUM(IF(B42=B$4,B$3),IF(C42=C$4,C$3),IF(D42=D$4,D$3),IF(E42=E$4,E$3),IF(F42=F$4,F$3),IF(G42=G$4,G$3),IF(H42=H$4,H$3),IF(I42=I$4,I$3),IF(J42=J$4,J$3),IF(K42=K$4,K$3),IF(L42=L$4,L$3),IF(M42=M$4,M$3),IF(N42=N$4,N$3),IF(O42=O$4,O$3),IF(P42=P$4,P$3),IF(Q42=Q$4,Q$3)) -> 82
W43: =SUM(IF(B43=B$4,1),IF(C43=C$4,1),IF(D43=D$4,1),IF(E43=E$4,1),IF(F43=F$4,1),IF(G43=G$4,1),IF(H43=H$4,1),IF(I43=I$4,1),IF(J43=J$4,1),IF(K43=K$4,1),IF(L43=L$4,1),IF(M43=M$4,1),IF(N43=N$4,1),IF(O43=O$4,1),IF(P43=P$4,1),IF(Q43=Q$4,1)) -> 15 | X43: =SUM(IF(B43=B$4,B$3),IF(C43=C$4,C$3),IF(D43=D$4,D$3),IF(E43=E$4,E$3),IF(F43=F$4,F$3),IF(G43=G$4,G$3),IF(H43=H$4,H$3),IF(I43=I$4,I$3),IF(J43=J$4,J$3),IF(K43=K$4,K$3),IF(L43=L$4,L$3),IF(M43=M$4,M$3),IF(N43=N$4,N$3),IF(O43=O$4,O$3),IF(P43=P$4,P$3),IF(Q43=Q$4,Q$3)) -> 82
W44: =SUM(IF(B44=B$4,1),IF(C44=C$4,1),IF(D44=D$4,1),IF(E44=E$4,1),IF(F44=F$4,1),IF(G44=G$4,1),IF(H44=H$4,1),IF(I44=I$4,1),IF(J44=J$4,1),IF(K44=K$4,1),IF(L44=L$4,1),IF(M44=M$4,1),IF(N44=N$4,1),IF(O44=O$4,1),IF(P44=P$4,1),IF(Q44=Q$4,1)) -> 15 | X44: =SUM(IF(B44=B$4,B$3),IF(C44=C$4,C$3),IF(D44=D$4,D$3),IF(E44=E$4,E$3),IF(F44=F$4,F$3),IF(G44=G$4,G$3),IF(H44=H$4,H$3),IF(I44=I$4,I$3),IF(J44=J$4,J$3),IF(K44=K$4,K$3),IF(L44=L$4,L$3),IF(M44=M$4,M$3),IF(N44=N$4,N$3),IF(O44=O$4,O$3),IF(P44=P$4,P$3),IF(Q44=Q$4,Q$3)) -> 82
W45: =SUM(IF(B45=B$4,1),IF(C45=C$4,1),IF(D45=D$4,1),IF(E45=E$4,1),IF(F45=F$4,1),IF(G45=G$4,1),IF(H45=H$4,1),IF(I45=I$4,1),IF(J45=J$4,1),IF(K45=K$4,1),IF(L45=L$4,1),IF(M45=M$4,1),IF(N45=N$4,1),IF(O45=O$4,1),IF(P45=P$4,1),IF(Q45=Q$4,1)) -> 15 | X45: =SUM(IF(B45=B$4,B$3),IF(C45=C$4,C$3),IF(D45=D$4,D$3),IF(E45=E$4,E$3),IF(F45=F$4,F$3),IF(G45=G$4,G$3),IF(H45=H$4,H$3),IF(I45=I$4,I$3),IF(J45=J$4,J$3),IF(K45=K$4,K$3),IF(L45=L$4,L$3),IF(M45=M$4,M$3),IF(N45=N$4,N$3),IF(O45=O$4,O$3),IF(P45=P$4,P$3),IF(Q45=Q$4,Q$3)) -> 82
W46: =SUM(IF(B46=B$4,1),IF(C46=C$4,1),IF(D46=D$4,1),IF(E46=E$4,1),IF(F46=F$4,1),IF(G46=G$4,1),IF(H46=H$4,1),IF(I46=I$4,1),IF(J46=J$4,1),IF(K46=K$4,1),IF(L46=L$4,1),IF(M46=M$4,1),IF(N46=N$4,1),IF(O46=O$4,1),IF(P46=P$4,1),IF(Q46=Q$4,1)) -> 15 | X46: =SUM(IF(B46=B$4,B$3),IF(C46=C$4,C$3),IF(D46=D$4,D$3),IF(E46=E$4,E$3),IF(F46=F$4,F$3),IF(G46=G$4,G$3),IF(H46=H$4,H$3),IF(I46=I$4,I$3),IF(J46=J$4,J$3),IF(K46=K$4,K$3),IF(L46=L$4,L$3),IF(M46=M$4,M$3),IF(N46=N$4,N$3),IF(O46=O$4,O$3),IF(P46=P$4,P$3),IF(Q46=Q$4,Q$3)) -> 82
W47: =SUM(IF(B47=B$4,1),IF(C47=C$4,1),IF(D47=D$4,1),IF(E47=E$4,1),IF(F47=F$4,1),IF(G47=G$4,1),IF(H47=H$4,1),IF(I47=I$4,1),IF(J47=J$4,1),IF(K47=K$4,1),IF(L47=L$4,1),IF(M47=M$4,1),IF(N47=N$4,1),IF(O47=O$4,1),IF(P47=P$4,1),IF(Q47=Q$4,1)) -> 15 | X47: =SUM(IF(B47=B$4,B$3),IF(C47=C$4,C$3),IF(D47=D$4,D$3),IF(E47=E$4,E$3),IF(F47=F$4,F$3),IF(G47=G$4,G$3),IF(H47=H$4,H$3),IF(I47=I$4,I$3),IF(J47=J$4,J$3),IF(K47=K$4,K$3),IF(L47=L$4,L$3),IF(M47=M$4,M$3),IF(N47=N$4,N$3),IF(O47=O$4,O$3),IF(P47=P$4,P$3),IF(Q47=Q$4,Q$3)) -> 82
W48: =SUM(IF(B48=B$4,1),IF(C48=C$4,1),IF(D48=D$4,1),IF(E48=E$4,1),IF(F48=F$4,1),IF(G48=G$4,1),IF(H48=H$4,1),IF(I48=I$4,1),IF(J48=J$4,1),IF(K48=K$4,1),IF(L48=L$4,1),IF(M48=M$4,1),IF(N48=N$4,1),IF(O48=O$4,1),IF(P48=P$4,1),IF(Q48=Q$4,1)) -> 15 | X48: =SUM(IF(B48=B$4,B$3),IF(C48=C$4,C$3),IF(D48=D$4,D$3),IF(E48=E$4,E$3),IF(F48=F$4,F$3),IF(G48=G$4,G$3),IF(H48=H$4,H$3),IF(I48=I$4,I$3),IF(J48=J$4,J$3),IF(K48=K$4,K$3),IF(L48=L$4,L$3),IF(M48=M$4,M$3),IF(N48=N$4,N$3),IF(O48=O$4,O$3),IF(P48=P$4,P$3),IF(Q48=Q$4,Q$3)) -> 82

Sheet WK8
A1: PARTICIPANTS | B1: MIN | C1: MIA | D1: CHI | E1: BUF | F1: NYJ | G1: SF | H1: CLE | I1: NYG | J1: TB | K1: DAL | L1: TEN | M1: GB | N1: WAS | V1: AWAY | W1: TOTAL | X1: TOTAL
A2: HOME | B2: LAC | C2: ATL | D2: BAL | E2: CAR | F2: CIN | G2: HOU | H2: NE | I2: PHI | J2: NO | K2: DEN | L2: IND | M2: PIT | N2: KC | V2: HOME | W2: WINS | X2: PTS
A3: POINT VALUE | B3: 3 | C3: 3 | D3: 3 | E3: 3 | F3: 5 | G3: 3 | H3: 5 | I3: 10 | J3: 10 | K3: 3 | L3: 10 | M3: 3 | N3: 3 | V3: POINT VALUE | W3: 16 | X3: =SUM(B3:Q3) -> 64
A4: WINNER | O4: N/A | P4: N/A | Q4: N/A | R4: N/A | S4: N/A | T4: N/A | U4: N/A | V4: WINNER
A5: DIVISION I
W6: =SUM(IF(B6=B$4,1),IF(C6=C$4,1),IF(D6=D$4,1),IF(E6=E$4,1),IF(F6=F$4,1),IF(G6=G$4,1),IF(H6=H$4,1),IF(I6=I$4,1),IF(J6=J$4,1),IF(K6=K$4,1),IF(L6=L$4,1),IF(M6=M$4,1),IF(N6=N$4,1),IF(O6=O$4,1),IF(P6=P$4,1),IF(Q6=Q$4,1)) -> 13 | X6: =SUM(IF(B6=B$4,B$3),IF(C6=C$4,C$3),IF(D6=D$4,D$3),IF(E6=E$4,E$3),IF(F6=F$4,F$3),IF(G6=G$4,G$3),IF(H6=H$4,H$3),IF(I6=I$4,I$3),IF(J6=J$4,J$3),IF(K6=K$4,K$3),IF(L6=L$4,L$3),IF(M6=M$4,M$3),IF(N6=N$4,N$3),IF(O6=O$4,O$3),IF(P6=P$4,P$3),IF(Q6=Q$4,Q$3)) -> 64
W7: =SUM(IF(B7=B$4,1),IF(C7=C$4,1),IF(D7=D$4,1),IF(E7=E$4,1),IF(F7=F$4,1),IF(G7=G$4,1),IF(H7=H$4,1),IF(I7=I$4,1),IF(J7=J$4,1),IF(K7=K$4,1),IF(L7=L$4,1),IF(M7=M$4,1),IF(N7=N$4,1),IF(O7=O$4,1),IF(P7=P$4,1),IF(Q7=Q$4,1)) -> 13 | X7: =SUM(IF(B7=B$4,B$3),IF(C7=C$4,C$3),IF(D7=D$4,D$3),IF(E7=E$4,E$3),IF(F7=F$4,F$3),IF(G7=G$4,G$3),IF(H7=H$4,H$3),IF(I7=I$4,I$3),IF(J7=J$4,J$3),IF(K7=K$4,K$3),IF(L7=L$4,L$3),IF(M7=M$4,M$3),IF(N7=N$4,N$3),IF(O7=O$4,O$3),IF(P7=P$4,P$3),IF(Q7=Q$4,Q$3)) -> 64
W8: =SUM(IF(B8=B$4,1),IF(C8=C$4,1),IF(D8=D$4,1),IF(E8=E$4,1),IF(F8=F$4,1),IF(G8=G$4,1),IF(H8=H$4,1),IF(I8=I$4,1),IF(J8=J$4,1),IF(K8=K$4,1),IF(L8=L$4,1),IF(M8=M$4,1),IF(N8=N$4,1),IF(O8=O$4,1),IF(P8=P$4,1),IF(Q8=Q$4,1)) -> 13 | X8: =SUM(IF(B8=B$4,B$3),IF(C8=C$4,C$3),IF(D8=D$4,D$3),IF(E8=E$4,E$3),IF(F8=F$4,F$3),IF(G8=G$4,G$3),IF(H8=H$4,H$3),IF(I8=I$4,I$3),IF(J8=J$4,J$3),IF(K8=K$4,K$3),IF(L8=L$4,L$3),IF(M8=M$4,M$3),IF(N8=N$4,N$3),IF(O8=O$4,O$3),IF(P8=P$4,P$3),IF(Q8=Q$4,Q$3)) -> 64
W9: =SUM(IF(B9=B$4,1),IF(C9=C$4,1),IF(D9=D$4,1),IF(E9=E$4,1),IF(F9=F$4,1),IF(G9=G$4,1),IF(H9=H$4,1),IF(I9=I$4,1),IF(J9=J$4,1),IF(K9=K$4,1),IF(L9=L$4,1),IF(M9=M$4,1),IF(N9=N$4,1),IF(O9=O$4,1),IF(P9=P$4,1),IF(Q9=Q$4,1)) -> 13 | X9: =SUM(IF(B9=B$4,B$3),IF(C9=C$4,C$3),IF(D9=D$4,D$3),IF(E9=E$4,E$3),IF(F9=F$4,F$3),IF(G9=G$4,G$3),IF(H9=H$4,H$3),IF(I9=I$4,I$3),IF(J9=J$4,J$3),IF(K9=K$4,K$3),IF(L9=L$4,L$3),IF(M9=M$4,M$3),IF(N9=N$4,N$3),IF(O9=O$4,O$3),IF(P9=P$4,P$3),IF(Q9=Q$4,Q$3)) -> 64
W10: =SUM(IF(B10=B$4,1),IF(C10=C$4,1),IF(D10=D$4,1),IF(E10=E$4,1),IF(F10=F$4,1),IF(G10=G$4,1),IF(H10=H$4,1),IF(I10=I$4,1),IF(J10=J$4,1),IF(K10=K$4,1),IF(L10=L$4,1),IF(M10=M$4,1),IF(N10=N$4,1),IF(O10=O$4,1),IF(P10=P$4,1),IF(Q10=Q$4,1)) -> 13 | X10: =SUM(IF(B10=B$4,B$3),IF(C10=C$4,C$3),IF(D10=D$4,D$3),IF(E10=E$4,E$3),IF(F10=F$4,F$3),IF(G10=G$4,G$3),IF(H10=H$4,H$3),IF(I10=I$4,I$3),IF(J10=J$4,J$3),IF(K10=K$4,K$3),IF(L10=L$4,L$3),IF(M10=M$4,M$3),IF(N10=N$4,N$3),IF(O10=O$4,O$3),IF(P10=P$4,P$3),IF(Q10=Q$4,Q$3)) -> 64
W11: =SUM(IF(B11=B$4,1),IF(C11=C$4,1),IF(D11=D$4,1),IF(E11=E$4,1),IF(F11=F$4,1),IF(G11=G$4,1),IF(H11=H$4,1),IF(I11=I$4,1),IF(J11=J$4,1),IF(K11=K$4,1),IF(L11=L$4,1),IF(M11=M$4,1),IF(N11=N$4,1),IF(O11=O$4,1),IF(P11=P$4,1),IF(Q11=Q$4,1)) -> 13 | X11: =SUM(IF(B11=B$4,B$3),IF(C11=C$4,C$3),IF(D11=D$4,D$3),IF(E11=E$4,E$3),IF(F11=F$4,F$3),IF(G11=G$4,G$3),IF(H11=H$4,H$3),IF(I11=I$4,I$3),IF(J11=J$4,J$3),IF(K11=K$4,K$3),IF(L11=L$4,L$3),IF(M11=M$4,M$3),IF(N11=N$4,N$3),IF(O11=O$4,O$3),IF(P11=P$4,P$3),IF(Q11=Q$4,Q$3)) -> 64
W12: =SUM(IF(B12=B$4,1),IF(C12=C$4,1),IF(D12=D$4,1),IF(E12=E$4,1),IF(F12=F$4,1),IF(G12=G$4,1),IF(H12=H$4,1),IF(I12=I$4,1),IF(J12=J$4,1),IF(K12=K$4,1),IF(L12=L$4,1),IF(M12=M$4,1),IF(N12=N$4,1),IF(O12=O$4,1),IF(P12=P$4,1),IF(Q12=Q$4,1)) -> 13 | X12: =SUM(IF(B12=B$4,B$3),IF(C12=C$4,C$3),IF(D12=D$4,D$3),IF(E12=E$4,E$3),IF(F12=F$4,F$3),IF(G12=G$4,G$3),IF(H12=H$4,H$3),IF(I12=I$4,I$3),IF(J12=J$4,J$3),IF(K12=K$4,K$3),IF(L12=L$4,L$3),IF(M12=M$4,M$3),IF(N12=N$4,N$3),IF(O12=O$4,O$3),IF(P12=P$4,P$3),IF(Q12=Q$4,Q$3)) -> 64
W13: =SUM(IF(B13=B$4,1),IF(C13=C$4,1),IF(D13=D$4,1),IF(E13=E$4,1),IF(F13=F$4,1),IF(G13=G$4,1),IF(H13=H$4,1),IF(I13=I$4,1),IF(J13=J$4,1),IF(K13=K$4,1),IF(L13=L$4,1),IF(M13=M$4,1),IF(N13=N$4,1),IF(O13=O$4,1),IF(P13=P$4,1),IF(Q13=Q$4,1)) -> 13 | X13: =SUM(IF(B13=B$4,B$3),IF(C13=C$4,C$3),IF(D13=D$4,D$3),IF(E13=E$4,E$3),IF(F13=F$4,F$3),IF(G13=G$4,G$3),IF(H13=H$4,H$3),IF(I13=I$4,I$3),IF(J13=J$4,J$3),IF(K13=K$4,K$3),IF(L13=L$4,L$3),IF(M13=M$4,M$3),IF(N13=N$4,N$3),IF(O13=O$4,O$3),IF(P13=P$4,P$3),IF(Q13=Q$4,Q$3)) -> 64
W14: =SUM(IF(B14=B$4,1),IF(C14=C$4,1),IF(D14=D$4,1),IF(E14=E$4,1),IF(F14=F$4,1),IF(G14=G$4,1),IF(H14=H$4,1),IF(I14=I$4,1),IF(J14=J$4,1),IF(K14=K$4,1),IF(L14=L$4,1),IF(M14=M$4,1),IF(N14=N$4,1),IF(O14=O$4,1),IF(P14=P$4,1),IF(Q14=Q$4,1)) -> 13 | X14: =SUM(IF(B14=B$4,B$3),IF(C14=C$4,C$3),IF(D14=D$4,D$3),IF(E14=E$4,E$3),IF(F14=F$4,F$3),IF(G14=G$4,G$3),IF(H14=H$4,H$3),IF(I14=I$4,I$3),IF(J14=J$4,J$3),IF(K14=K$4,K$3),IF(L14=L$4,L$3),IF(M14=M$4,M$3),IF(N14=N$4,N$3),IF(O14=O$4,O$3),IF(P14=P$4,P$3),IF(Q14=Q$4,Q$3)) -> 64
W15: =SUM(IF(B15=B$4,1),IF(C15=C$4,1),IF(D15=D$4,1),IF(E15=E$4,1),IF(F15=F$4,1),IF(G15=G$4,1),IF(H15=H$4,1),IF(I15=I$4,1),IF(J15=J$4,1),IF(K15=K$4,1),IF(L15=L$4,1),IF(M15=M$4,1),IF(N15=N$4,1),IF(O15=O$4,1),IF(P15=P$4,1),IF(Q15=Q$4,1)) -> 13 | X15: =SUM(IF(B15=B$4,B$3),IF(C15=C$4,C$3),IF(D15=D$4,D$3),IF(E15=E$4,E$3),IF(F15=F$4,F$3),IF(G15=G$4,G$3),IF(H15=H$4,H$3),IF(I15=I$4,I$3),IF(J15=J$4,J$3),IF(K15=K$4,K$3),IF(L15=L$4,L$3),IF(M15=M$4,M$3),IF(N15=N$4,N$3),IF(O15=O$4,O$3),IF(P15=P$4,P$3),IF(Q15=Q$4,Q$3)) -> 64
A16: DIVISION II
W17: =SUM(IF(B17=B$4,1),IF(C17=C$4,1),IF(D17=D$4,1),IF(E17=E$4,1),IF(F17=F$4,1),IF(G17=G$4,1),IF(H17=H$4,1),IF(I17=I$4,1),IF(J17=J$4,1),IF(K17=K$4,1),IF(L17=L$4,1),IF(M17=M$4,1),IF(N17=N$4,1),IF(O17=O$4,1),IF(P17=P$4,1),IF(Q17=Q$4,1)) -> 13 | X17: =SUM(IF(B17=B$4,B$3),IF(C17=C$4,C$3),IF(D17=D$4,D$3),IF(E17=E$4,E$3),IF(F17=F$4,F$3),IF(G17=G$4,G$3),IF(H17=H$4,H$3),IF(I17=I$4,I$3),IF(J17=J$4,J$3),IF(K17=K$4,K$3),IF(L17=L$4,L$3),IF(M17=M$4,M$3),IF(N17=N$4,N$3),IF(O17=O$4,O$3),IF(P17=P$4,P$3),IF(Q17=Q$4,Q$3)) -> 64
W18: =SUM(IF(B18=B$4,1),IF(C18=C$4,1),IF(D18=D$4,1),IF(E18=E$4,1),IF(F18=F$4,1),IF(G18=G$4,1),IF(H18=H$4,1),IF(I18=I$4,1),IF(J18=J$4,1),IF(K18=K$4,1),IF(L18=L$4,1),IF(M18=M$4,1),IF(N18=N$4,1),IF(O18=O$4,1),IF(P18=P$4,1),IF(Q18=Q$4,1)) -> 13 | X18: =SUM(IF(B18=B$4,B$3),IF(C18=C$4,C$3),IF(D18=D$4,D$3),IF(E18=E$4,E$3),IF(F18=F$4,F$3),IF(G18=G$4,G$3),IF(H18=H$4,H$3),IF(I18=I$4,I$3),IF(J18=J$4,J$3),IF(K18=K$4,K$3),IF(L18=L$4,L$3),IF(M18=M$4,M$3),IF(N18=N$4,N$3),IF(O18=O$4,O$3),IF(P18=P$4,P$3),IF(Q18=Q$4,Q$3)) -> 64
W19: =SUM(IF(B19=B$4,1),IF(C19=C$4,1),IF(D19=D$4,1),IF(E19=E$4,1),IF(F19=F$4,1),IF(G19=G$4,1),IF(H19=H$4,1),IF(I19=I$4,1),IF(J19=J$4,1),IF(K19=K$4,1),IF(L19=L$4,1),IF(M19=M$4,1),IF(N19=N$4,1),IF(O19=O$4,1),IF(P19=P$4,1),IF(Q19=Q$4,1)) -> 13 | X19: =SUM(IF(B19=B$4,B$3),IF(C19=C$4,C$3),IF(D19=D$4,D$3),IF(E19=E$4,E$3),IF(F19=F$4,F$3),IF(G19=G$4,G$3),IF(H19=H$4,H$3),IF(I19=I$4,I$3),IF(J19=J$4,J$3),IF(K19=K$4,K$3),IF(L19=L$4,L$3),IF(M19=M$4,M$3),IF(N19=N$4,N$3),IF(O19=O$4,O$3),IF(P19=P$4,P$3),IF(Q19=Q$4,Q$3)) -> 64
W20: =SUM(IF(B20=B$4,1),IF(C20=C$4,1),IF(D20=D$4,1),IF(E20=E$4,1),IF(F20=F$4,1),IF(G20=G$4,1),IF(H20=H$4,1),IF(I20=I$4,1),IF(J20=J$4,1),IF(K20=K$4,1),IF(L20=L$4,1),IF(M20=M$4,1),IF(N20=N$4,1),IF(O20=O$4,1),IF(P20=P$4,1),IF(Q20=Q$4,1)) -> 13 | X20: =SUM(IF(B20=B$4,B$3),IF(C20=C$4,C$3),IF(D20=D$4,D$3),IF(E20=E$4,E$3),IF(F20=F$4,F$3),IF(G20=G$4,G$3),IF(H20=H$4,H$3),IF(I20=I$4,I$3),IF(J20=J$4,J$3),IF(K20=K$4,K$3),IF(L20=L$4,L$3),IF(M20=M$4,M$3),IF(N20=N$4,N$3),IF(O20=O$4,O$3),IF(P20=P$4,P$3),IF(Q20=Q$4,Q$3)) -> 64
W21: =SUM(IF(B21=B$4,1),IF(C21=C$4,1),IF(D21=D$4,1),IF(E21=E$4,1),IF(F21=F$4,1),IF(G21=G$4,1),IF(H21=H$4,1),IF(I21=I$4,1),IF(J21=J$4,1),IF(K21=K$4,1),IF(L21=L$4,1),IF(M21=M$4,1),IF(N21=N$4,1),IF(O21=O$4,1),IF(P21=P$4,1),IF(Q21=Q$4,1)) -> 13 | X21: =SUM(IF(B21=B$4,B$3),IF(C21=C$4,C$3),IF(D21=D$4,D$3),IF(E21=E$4,E$3),IF(F21=F$4,F$3),IF(G21=G$4,G$3),IF(H21=H$4,H$3),IF(I21=I$4,I$3),IF(J21=J$4,J$3),IF(K21=K$4,K$3),IF(L21=L$4,L$3),IF(M21=M$4,M$3),IF(N21=N$4,N$3),IF(O21=O$4,O$3),IF(P21=P$4,P$3),IF(Q21=Q$4,Q$3)) -> 64
W22: =SUM(IF(B22=B$4,1),IF(C22=C$4,1),IF(D22=D$4,1),IF(E22=E$4,1),IF(F22=F$4,1),IF(G22=G$4,1),IF(H22=H$4,1),IF(I22=I$4,1),IF(J22=J$4,1),IF(K22=K$4,1),IF(L22=L$4,1),IF(M22=M$4,1),IF(N22=N$4,1),IF(O22=O$4,1),IF(P22=P$4,1),IF(Q22=Q$4,1)) -> 13 | X22: =SUM(IF(B22=B$4,B$3),IF(C22=C$4,C$3),IF(D22=D$4,D$3),IF(E22=E$4,E$3),IF(F22=F$4,F$3),IF(G22=G$4,G$3),IF(H22=H$4,H$3),IF(I22=I$4,I$3),IF(J22=J$4,J$3),IF(K22=K$4,K$3),IF(L22=L$4,L$3),IF(M22=M$4,M$3),IF(N22=N$4,N$3),IF(O22=O$4,O$3),IF(P22=P$4,P$3),IF(Q22=Q$4,Q$3)) -> 64
W23: =SUM(IF(B23=B$4,1),IF(C23=C$4,1),IF(D23=D$4,1),IF(E23=E$4,1),IF(F23=F$4,1),IF(G23=G$4,1),IF(H23=H$4,1),IF(I23=I$4,1),IF(J23=J$4,1),IF(K23=K$4,1),IF(L23=L$4,1),IF(M23=M$4,1),IF(N23=N$4,1),IF(O23=O$4,1),IF(P23=P$4,1),IF(Q23=Q$4,1)) -> 13 | X23: =SUM(IF(B23=B$4,B$3),IF(C23=C$4,C$3),IF(D23=D$4,D$3),IF(E23=E$4,E$3),IF(F23=F$4,F$3),IF(G23=G$4,G$3),IF(H23=H$4,H$3),IF(I23=I$4,I$3),IF(J23=J$4,J$3),IF(K23=K$4,K$3),IF(L23=L$4,L$3),IF(M23=M$4,M$3),IF(N23=N$4,N$3),IF(O23=O$4,O$3),IF(P23=P$4,P$3),IF(Q23=Q$4,Q$3)) -> 64
W24: =SUM(IF(B24=B$4,1),IF(C24=C$4,1),IF(D24=D$4,1),IF(E24=E$4,1),IF(F24=F$4,1),IF(G24=G$4,1),IF(H24=H$4,1),IF(I24=I$4,1),IF(J24=J$4,1),IF(K24=K$4,1),IF(L24=L$4,1),IF(M24=M$4,1),IF(N24=N$4,1),IF(O24=O$4,1),IF(P24=P$4,1),IF(Q24=Q$4,1)) -> 13 | X24: =SUM(IF(B24=B$4,B$3),IF(C24=C$4,C$3),IF(D24=D$4,D$3),IF(E24=E$4,E$3),IF(F24=F$4,F$3),IF(G24=G$4,G$3),IF(H24=H$4,H$3),IF(I24=I$4,I$3),IF(J24=J$4,J$3),IF(K24=K$4,K$3),IF(L24=L$4,L$3),IF(M24=M$4,M$3),IF(N24=N$4,N$3),IF(O24=O$4,O$3),IF(P24=P$4,P$3),IF(Q24=Q$4,Q$3)) -> 64
W25: =SUM(IF(B25=B$4,1),IF(C25=C$4,1),IF(D25=D$4,1),IF(E25=E$4,1),IF(F25=F$4,1),IF(G25=G$4,1),IF(H25=H$4,1),IF(I25=I$4,1),IF(J25=J$4,1),IF(K25=K$4,1),IF(L25=L$4,1),IF(M25=M$4,1),IF(N25=N$4,1),IF(O25=O$4,1),IF(P25=P$4,1),IF(Q25=Q$4,1)) -> 13 | X25: =SUM(IF(B25=B$4,B$3),IF(C25=C$4,C$3),IF(D25=D$4,D$3),IF(E25=E$4,E$3),IF(F25=F$4,F$3),IF(G25=G$4,G$3),IF(H25=H$4,H$3),IF(I25=I$4,I$3),IF(J25=J$4,J$3),IF(K25=K$4,K$3),IF(L25=L$4,L$3),IF(M25=M$4,M$3),IF(N25=N$4,N$3),IF(O25=O$4,O$3),IF(P25=P$4,P$3),IF(Q25=Q$4,Q$3)) -> 64
W26: =SUM(IF(B26=B$4,1),IF(C26=C$4,1),IF(D26=D$4,1),IF(E26=E$4,1),IF(F26=F$4,1),IF(G26=G$4,1),IF(H26=H$4,1),IF(I26=I$4,1),IF(J26=J$4,1),IF(K26=K$4,1),IF(L26=L$4,1),IF(M26=M$4,1),IF(N26=N$4,1),IF(O26=O$4,1),IF(P26=P$4,1),IF(Q26=Q$4,1)) -> 13 | X26: =SUM(IF(B26=B$4,B$3),IF(C26=C$4,C$3),IF(D26=D$4,D$3),IF(E26=E$4,E$3),IF(F26=F$4,F$3),IF(G26=G$4,G$3),IF(H26=H$4,H$3),IF(I26=I$4,I$3),IF(J26=J$4,J$3),IF(K26=K$4,K$3),IF(L26=L$4,L$3),IF(M26=M$4,M$3),IF(N26=N$4,N$3),IF(O26=O$4,O$3),IF(P26=P$4,P$3),IF(Q26=Q$4,Q$3)) -> 64
A27: DIVISION III
W28: =SUM(IF(B28=B$4,1),IF(C28=C$4,1),IF(D28=D$4,1),IF(E28=E$4,1),IF(F28=F$4,1),IF(G28=G$4,1),IF(H28=H$4,1),IF(I28=I$4,1),IF(J28=J$4,1),IF(K28=K$4,1),IF(L28=L$4,1),IF(M28=M$4,1),IF(N28=N$4,1),IF(O28=O$4,1),IF(P28=P$4,1),IF(Q28=Q$4,1)) -> 13 | X28: =SUM(IF(B28=B$4,B$3),IF(C28=C$4,C$3),IF(D28=D$4,D$3),IF(E28=E$4,E$3),IF(F28=F$4,F$3),IF(G28=G$4,G$3),IF(H28=H$4,H$3),IF(I28=I$4,I$3),IF(J28=J$4,J$3),IF(K28=K$4,K$3),IF(L28=L$4,L$3),IF(M28=M$4,M$3),IF(N28=N$4,N$3),IF(O28=O$4,O$3),IF(P28=P$4,P$3),IF(Q28=Q$4,Q$3)) -> 64
W29: =SUM(IF(B29=B$4,1),IF(C29=C$4,1),IF(D29=D$4,1),IF(E29=E$4,1),IF(F29=F$4,1),IF(G29=G$4,1),IF(H29=H$4,1),IF(I29=I$4,1),IF(J29=J$4,1),IF(K29=K$4,1),IF(L29=L$4,1),IF(M29=M$4,1),IF(N29=N$4,1),IF(O29=O$4,1),IF(P29=P$4,1),IF(Q29=Q$4,1)) -> 13 | X29: =SUM(IF(B29=B$4,B$3),IF(C29=C$4,C$3),IF(D29=D$4,D$3),IF(E29=E$4,E$3),IF(F29=F$4,F$3),IF(G29=G$4,G$3),IF(H29=H$4,H$3),IF(I29=I$4,I$3),IF(J29=J$4,J$3),IF(K29=K$4,K$3),IF(L29=L$4,L$3),IF(M29=M$4,M$3),IF(N29=N$4,N$3),IF(O29=O$4,O$3),IF(P29=P$4,P$3),IF(Q29=Q$4,Q$3)) -> 64
W30: =SUM(IF(B30=B$4,1),IF(C30=C$4,1),IF(D30=D$4,1),IF(E30=E$4,1),IF(F30=F$4,1),IF(G30=G$4,1),IF(H30=H$4,1),IF(I30=I$4,1),IF(J30=J$4,1),IF(K30=K$4,1),IF(L30=L$4,1),IF(M30=M$4,1),IF(N30=N$4,1),IF(O30=O$4,1),IF(P30=P$4,1),IF(Q30=Q$4,1)) -> 13 | X30: =SUM(IF(B30=B$4,B$3),IF(C30=C$4,C$3),IF(D30=D$4,D$3),IF(E30=E$4,E$3),IF(F30=F$4,F$3),IF(G30=G$4,G$3),IF(H30=H$4,H$3),IF(I30=I$4,I$3),IF(J30=J$4,J$3),IF(K30=K$4,K$3),IF(L30=L$4,L$3),IF(M30=M$4,M$3),IF(N30=N$4,N$3),IF(O30=O$4,O$3),IF(P30=P$4,P$3),IF(Q30=Q$4,Q$3)) -> 64
W31: =SUM(IF(B31=B$4,1),IF(C31=C$4,1),IF(D31=D$4,1),IF(E31=E$4,1),IF(F31=F$4,1),IF(G31=G$4,1),IF(H31=H$4,1),IF(I31=I$4,1),IF(J31=J$4,1),IF(K31=K$4,1),IF(L31=L$4,1),IF(M31=M$4,1),IF(N31=N$4,1),IF(O31=O$4,1),IF(P31=P$4,1),IF(Q31=Q$4,1)) -> 13 | X31: =SUM(IF(B31=B$4,B$3),IF(C31=C$4,C$3),IF(D31=D$4,D$3),IF(E31=E$4,E$3),IF(F31=F$4,F$3),IF(G31=G$4,G$3),IF(H31=H$4,H$3),IF(I31=I$4,I$3),IF(J31=J$4,J$3),IF(K31=K$4,K$3),IF(L31=L$4,L$3),IF(M31=M$4,M$3),IF(N31=N$4,N$3),IF(O31=O$4,O$3),IF(P31=P$4,P$3),IF(Q31=Q$4,Q$3)) -> 64
W32: =SUM(IF(B32=B$4,1),IF(C32=C$4,1),IF(D32=D$4,1),IF(E32=E$4,1),IF(F32=F$4,1),IF(G32=G$4,1),IF(H32=H$4,1),IF(I32=I$4,1),IF(J32=J$4,1),IF(K32=K$4,1),IF(L32=L$4,1),IF(M32=M$4,1),IF(N32=N$4,1),IF(O32=O$4,1),IF(P32=P$4,1),IF(Q32=Q$4,1)) -> 13 | X32: =SUM(IF(B32=B$4,B$3),IF(C32=C$4,C$3),IF(D32=D$4,D$3),IF(E32=E$4,E$3),IF(F32=F$4,F$3),IF(G32=G$4,G$3),IF(H32=H$4,H$3),IF(I32=I$4,I$3),IF(J32=J$4,J$3),IF(K32=K$4,K$3),IF(L32=L$4,L$3),IF(M32=M$4,M$3),IF(N32=N$4,N$3),IF(O32=O$4,O$3),IF(P32=P$4,P$3),IF(Q32=Q$4,Q$3)) -> 64
W33: =SUM(IF(B33=B$4,1),IF(C33=C$4,1),IF(D33=D$4,1),IF(E33=E$4,1),IF(F33=F$4,1),IF(G33=G$4,1),IF(H33=H$4,1),IF(I33=I$4,1),IF(J33=J$4,1),IF(K33=K$4,1),IF(L33=L$4,1),IF(M33=M$4,1),IF(N33=N$4,1),IF(O33=O$4,1),IF(P33=P$4,1),IF(Q33=Q$4,1)) -> 13 | X33: =SUM(IF(B33=B$4,B$3),IF(C33=C$4,C$3),IF(D33=D$4,D$3),IF(E33=E$4,E$3),IF(F33=F$4,F$3),IF(G33=G$4,G$3),IF(H33=H$4,H$3),IF(I33=I$4,I$3),IF(J33=J$4,J$3),IF(K33=K$4,K$3),IF(L33=L$4,L$3),IF(M33=M$4,M$3),IF(N33=N$4,N$3),IF(O33=O$4,O$3),IF(P33=P$4,P$3),IF(Q33=Q$4,Q$3)) -> 64
W34: =SUM(IF(B34=B$4,1),IF(C34=C$4,1),IF(D34=D$4,1),IF(E34=E$4,1),IF(F34=F$4,1),IF(G34=G$4,1),IF(H34=H$4,1),IF(I34=I$4,1),IF(J34=J$4,1),IF(K34=K$4,1),IF(L34=L$4,1),IF(M34=M$4,1),IF(N34=N$4,1),IF(O34=O$4,1),IF(P34=P$4,1),IF(Q34=Q$4,1)) -> 13 | X34: =SUM(IF(B34=B$4,B$3),IF(C34=C$4,C$3),IF(D34=D$4,D$3),IF(E34=E$4,E$3),IF(F34=F$4,F$3),IF(G34=G$4,G$3),IF(H34=H$4,H$3),IF(I34=I$4,I$3),IF(J34=J$4,J$3),IF(K34=K$4,K$3),IF(L34=L$4,L$3),IF(M34=M$4,M$3),IF(N34=N$4,N$3),IF(O34=O$4,O$3),IF(P34=P$4,P$3),IF(Q34=Q$4,Q$3)) -> 64
W35: =SUM(IF(B35=B$4,1),IF(C35=C$4,1),IF(D35=D$4,1),IF(E35=E$4,1),IF(F35=F$4,1),IF(G35=G$4,1),IF(H35=H$4,1),IF(I35=I$4,1),IF(J35=J$4,1),IF(K35=K$4,1),IF(L35=L$4,1),IF(M35=M$4,1),IF(N35=N$4,1),IF(O35=O$4,1),IF(P35=P$4,1),IF(Q35=Q$4,1)) -> 13 | X35: =SUM(IF(B35=B$4,B$3),IF(C35=C$4,C$3),IF(D35=D$4,D$3),IF(E35=E$4,E$3),IF(F35=F$4,F$3),IF(G35=G$4,G$3),IF(H35=H$4,H$3),IF(I35=I$4,I$3),IF(J35=J$4,J$3),IF(K35=K$4,K$3),IF(L35=L$4,L$3),IF(M35=M$4,M$3),IF(N35=N$4,N$3),IF(O35=O$4,O$3),IF(P35=P$4,P$3),IF(Q35=Q$4,Q$3)) -> 64
W36: =SUM(IF(B36=B$4,1),IF(C36=C$4,1),IF(D36=D$4,1),IF(E36=E$4,1),IF(F36=F$4,1),IF(G36=G$4,1),IF(H36=H$4,1),IF(I36=I$4,1),IF(J36=J$4,1),IF(K36=K$4,1),IF(L36=L$4,1),IF(M36=M$4,1),IF(N36=N$4,1),IF(O36=O$4,1),IF(P36=P$4,1),IF(Q36=Q$4,1)) -> 13 | X36: =SUM(IF(B36=B$4,B$3),IF(C36=C$4,C$3),IF(D36=D$4,D$3),IF(E36=E$4,E$3),IF(F36=F$4,F$3),IF(G36=G$4,G$3),IF(H36=H$4,H$3),IF(I36=I$4,I$3),IF(J36=J$4,J$3),IF(K36=K$4,K$3),IF(L36=L$4,L$3),IF(M36=M$4,M$3),IF(N36=N$4,N$3),IF(O36=O$4,O$3),IF(P36=P$4,P$3),IF(Q36=Q$4,Q$3)) -> 64
W37: =SUM(IF(B37=B$4,1),IF(C37=C$4,1),IF(D37=D$4,1),IF(E37=E$4,1),IF(F37=F$4,1),IF(G37=G$4,1),IF(H37=H$4,1),IF(I37=I$4,1),IF(J37=J$4,1),IF(K37=K$4,1),IF(L37=L$4,1),IF(M37=M$4,1),IF(N37=N$4,1),IF(O37=O$4,1),IF(P37=P$4,1),IF(Q37=Q$4,1)) -> 13 | X37: =SUM(IF(B37=B$4,B$3),IF(C37=C$4,C$3),IF(D37=D$4,D$3),IF(E37=E$4,E$3),IF(F37=F$4,F$3),IF(G37=G$4,G$3),IF(H37=H$4,H$3),IF(I37=I$4,I$3),IF(J37=J$4,J$3),IF(K37=K$4,K$3),IF(L37=L$4,L$3),IF(M37=M$4,M$3),IF(N37=N$4,N$3),IF(O37=O$4,O$3),IF(P37=P$4,P$3),IF(Q37=Q$4,Q$3)) -> 64
A38: DIVISION IV
W39: =SUM(IF(B39=B$4,1),IF(C39=C$4,1),IF(D39=D$4,1),IF(E39=E$4,1),IF(F39=F$4,1),IF(G39=G$4,1),IF(H39=H$4,1),IF(I39=I$4,1),IF(J39=J$4,1),IF(K39=K$4,1),IF(L39=L$4,1),IF(M39=M$4,1),IF(N39=N$4,1),IF(O39=O$4,1),IF(P39=P$4,1),IF(Q39=Q$4,1)) -> 13 | X39: =SUM(IF(B39=B$4,B$3),IF(C39=C$4,C$3),IF(D39=D$4,D$3),IF(E39=E$4,E$3),IF(F39=F$4,F$3),IF(G39=G$4,G$3),IF(H39=H$4,H$3),IF(I39=I$4,I$3),IF(J39=J$4,J$3),IF(K39=K$4,K$3),IF(L39=L$4,L$3),IF(M39=M$4,M$3),IF(N39=N$4,N$3),IF(O39=O$4,O$3),IF(P39=P$4,P$3),IF(Q39=Q$4,Q$3)) -> 64
W40: =SUM(IF(B40=B$4,1),IF(C40=C$4,1),IF(D40=D$4,1),IF(E40=E$4,1),IF(F40=F$4,1),IF(G40=G$4,1),IF(H40=H$4,1),IF(I40=I$4,1),IF(J40=J$4,1),IF(K40=K$4,1),IF(L40=L$4,1),IF(M40=M$4,1),IF(N40=N$4,1),IF(O40=O$4,1),IF(P40=P$4,1),IF(Q40=Q$4,1)) -> 13 | X40: =SUM(IF(B40=B$4,B$3),IF(C40=C$4,C$3),IF(D40=D$4,D$3),IF(E40=E$4,E$3),IF(F40=F$4,F$3),IF(G40=G$4,G$3),IF(H40=H$4,H$3),IF(I40=I$4,I$3),IF(J40=J$4,J$3),IF(K40=K$4,K$3),IF(L40=L$4,L$3),IF(M40=M$4,M$3),IF(N40=N$4,N$3),IF(O40=O$4,O$3),IF(P40=P$4,P$3),IF(Q40=Q$4,Q$3)) -> 64
W41: =SUM(IF(B41=B$4,1),IF(C41=C$4,1),IF(D41=D$4,1),IF(E41=E$4,1),IF(F41=F$4,1),IF(G41=G$4,1),IF(H41=H$4,1),IF(I41=I$4,1),IF(J41=J$4,1),IF(K41=K$4,1),IF(L41=L$4,1),IF(M41=M$4,1),IF(N41=N$4,1),IF(O41=O$4,1),IF(P41=P$4,1),IF(Q41=Q$4,1)) -> 13 | X41: =SUM(IF(B41=B$4,B$3),IF(C41=C$4,C$3),IF(D41=D$4,D$3),IF(E41=E$4,E$3),IF(F41=F$4,F$3),IF(G41=G$4,G$3),IF(H41=H$4,H$3),IF(I41=I$4,I$3),IF(J41=J$4,J$3),IF(K41=K$4,K$3),IF(L41=L$4,L$3),IF(M41=M$4,M$3),IF(N41=N$4,N$3),IF(O41=O$4,O$3),IF(P41=P$4,P$3),IF(Q41=Q$4,Q$3)) -> 64
W42: =SUM(IF(B42=B$4,1),IF(C42=C$4,1),IF(D42=D$4,1),IF(E42=E$4,1),IF(F42=F$4,1),IF(G42=G$4,1),IF(H42=H$4,1),IF(I42=I$4,1),IF(J42=J$4,1),IF(K42=K$4,1),IF(L42=L$4,1),IF(M42=M$4,1),IF(N42=N$4,1),IF(O42=O$4,1),IF(P42=P$4,1),IF(Q42=Q$4,1)) -> 13 | X42: =SUM(IF(B42=B$4,B$3),IF(C42=C$4,C$3),IF(D42=D$4,D$3),IF(E42=E$4,E$3),IF(F42=F$4,F$3),IF(G42=G$4,G$3),IF(H42=H$4,H$3),IF(I42=I$4,I$3),IF(J42=J$4,J$3),IF(K42=K$4,K$3),IF(L42=L$4,L$3),IF(M42=M$4,M$3),IF(N42=N$4,N$3),IF(O42=O$4,O$3),IF(P42=P$4,P$3),IF(Q42=Q$4,Q$3)) -> 64
W43: =SUM(IF(B43=B$4,1),IF(C43=C$4,1),IF(D43=D$4,1),IF(E43=E$4,1),IF(F43=F$4,1),IF(G43=G$4,1),IF(H43=H$4,1),IF(I43=I$4,1),IF(J43=J$4,1),IF(K43=K$4,1),IF(L43=L$4,1),IF(M43=M$4,1),IF(N43=N$4,1),IF(O43=O$4,1),IF(P43=P$4,1),IF(Q43=Q$4,1)) -> 13 | X43: =SUM(IF(B43=B$4,B$3),IF(C43=C$4,C$3),IF(D43=D$4,D$3),IF(E43=E$4,E$3),IF(F43=F$4,F$3),IF(G43=G$4,G$3),IF(H43=H$4,H$3),IF(I43=I$4,I$3),IF(J43=J$4,J$3),IF(K43=K$4,K$3),IF(L43=L$4,L$3),IF(M43=M$4,M$3),IF(N43=N$4,N$3),IF(O43=O$4,O$3),IF(P43=P$4,P$3),IF(Q43=Q$4,Q$3)) -> 64
W44: =SUM(IF(B44=B$4,1),IF(C44=C$4,1),IF(D44=D$4,1),IF(E44=E$4,1),IF(F44=F$4,1),IF(G44=G$4,1),IF(H44=H$4,1),IF(I44=I$4,1),IF(J44=J$4,1),IF(K44=K$4,1),IF(L44=L$4,1),IF(M44=M$4,1),IF(N44=N$4,1),IF(O44=O$4,1),IF(P44=P$4,1),IF(Q44=Q$4,1)) -> 13 | X44: =SUM(IF(B44=B$4,B$3),IF(C44=C$4,C$3),IF(D44=D$4,D$3),IF(E44=E$4,E$3),IF(F44=F$4,F$3),IF(G44=G$4,G$3),IF(H44=H$4,H$3),IF(I44=I$4,I$3),IF(J44=J$4,J$3),IF(K44=K$4,K$3),IF(L44=L$4,L$3),IF(M44=M$4,M$3),IF(N44=N$4,N$3),IF(O44=O$4,O$3),IF(P44=P$4,P$3),IF(Q44=Q$4,Q$3)) -> 64
W45: =SUM(IF(B45=B$4,1),IF(C45=C$4,1),IF(D45=D$4,1),IF(E45=E$4,1),IF(F45=F$4,1),IF(G45=G$4,1),IF(H45=H$4,1),IF(I45=I$4,1),IF(J45=J$4,1),IF(K45=K$4,1),IF(L45=L$4,1),IF(M45=M$4,1),IF(N45=N$4,1),IF(O45=O$4,1),IF(P45=P$4,1),IF(Q45=Q$4,1)) -> 13 | X45: =SUM(IF(B45=B$4,B$3),IF(C45=C$4,C$3),IF(D45=D$4,D$3),IF(E45=E$4,E$3),IF(F45=F$4,F$3),IF(G45=G$4,G$3),IF(H45=H$4,H$3),IF(I45=I$4,I$3),IF(J45=J$4,J$3),IF(K45=K$4,K$3),IF(L45=L$4,L$3),IF(M45=M$4,M$3),IF(N45=N$4,N$3),IF(O45=O$4,O$3),IF(P45=P$4,P$3),IF(Q45=Q$4,Q$3)) -> 64
W46: =SUM(IF(B46=B$4,1),IF(C46=C$4,1),IF(D46=D$4,1),IF(E46=E$4,1),IF(F46=F$4,1),IF(G46=G$4,1),IF(H46=H$4,1),IF(I46=I$4,1),IF(J46=J$4,1),IF(K46=K$4,1),IF(L46=L$4,1),IF(M46=M$4,1),IF(N46=N$4,1),IF(O46=O$4,1),IF(P46=P$4,1),IF(Q46=Q$4,1)) -> 13 | X46: =SUM(IF(B46=B$4,B$3),IF(C46=C$4,C$3),IF(D46=D$4,D$3),IF(E46=E$4,E$3),IF(F46=F$4,F$3),IF(G46=G$4,G$3),IF(H46=H$4,H$3),IF(I46=I$4,I$3),IF(J46=J$4,J$3),IF(K46=K$4,K$3),IF(L46=L$4,L$3),IF(M46=M$4,M$3),IF(N46=N$4,N$3),IF(O46=O$4,O$3),IF(P46=P$4,P$3),IF(Q46=Q$4,Q$3)) -> 64
W47: =SUM(IF(B47=B$4,1),IF(C47=C$4,1),IF(D47=D$4,1),IF(E47=E$4,1),IF(F47=F$4,1),IF(G47=G$4,1),IF(H47=H$4,1),IF(I47=I$4,1),IF(J47=J$4,1),IF(K47=K$4,1),IF(L47=L$4,1),IF(M47=M$4,1),IF(N47=N$4,1),IF(O47=O$4,1),IF(P47=P$4,1),IF(Q47=Q$4,1)) -> 13 | X47: =SUM(IF(B47=B$4,B$3),IF(C47=C$4,C$3),IF(D47=D$4,D$3),IF(E47=E$4,E$3),IF(F47=F$4,F$3),IF(G47=G$4,G$3),IF(H47=H$4,H$3),IF(I47=I$4,I$3),IF(J47=J$4,J$3),IF(K47=K$4,K$3),IF(L47=L$4,L$3),IF(M47=M$4,M$3),IF(N47=N$4,N$3),IF(O47=O$4,O$3),IF(P47=P$4,P$3),IF(Q47=Q$4,Q$3)) -> 64
W48: =SUM(IF(B48=B$4,1),IF(C48=C$4,1),IF(D48=D$4,1),IF(E48=E$4,1),IF(F48=F$4,1),IF(G48=G$4,1),IF(H48=H$4,1),IF(I48=I$4,1),IF(J48=J$4,1),IF(K48=K$4,1),IF(L48=L$4,1),IF(M48=M$4,1),IF(N48=N$4,1),IF(O48=O$4,1),IF(P48=P$4,1),IF(Q48=Q$4,1)) -> 13 | X48: =SUM(IF(B48=B$4,B$3),IF(C48=C$4,C$3),IF(D48=D$4,D$3),IF(E48=E$4,E$3),IF(F48=F$4,F$3),IF(G48=G$4,G$3),IF(H48=H$4,H$3),IF(I48=I$4,I$3),IF(J48=J$4,J$3),IF(K48=K$4,K$3),IF(L48=L$4,L$3),IF(M48=M$4,M$3),IF(N48=N$4,N$3),IF(O48=O$4,O$3),IF(P48=P$4,P$3),IF(Q48=Q$4,Q$3)) -> 64

Sheet WK9
A1: PARTICIPANTS | B1: BAL | C1: CHI | D1: MIN | E1: CAR | F1: DEN | G1: ATL | H1: SF | I1: IND | J1: LAC | K1: NO | L1: JAC | M1: KC | N1: SEA | O1: AZ | V1: AWAY | W1: TOTAL | X1: TOTAL
A2: HOME | B2: MIA | C2: CIN | D2: DET | E2: GB | F2: HOU | G2: NE | H2: NYG | I2: PIT | J2: TEN | K2: LAR | L2: LV | M2: BUF | N2: WAS | O2: DAL | V2: HOME | W2: WINS | X2: PTS
A3: POINT VALUE | B3: 5 | C3: 3 | D3: 10 | E3: 5 | F3: 5 | G3: 3 | H3: 5 | I3: 5 | J3: 5 | K3: 5 | L3: 5 | M3: 5 | N3: 5 | O3: 5 | V3: POINT VALUE | W3: 16 | X3: =SUM(B3:Q3) -> 71
A4: WINNER | P4: N/A | Q4: N/A | R4: N/A | S4: N/A | T4: N/A | U4: N/A | V4: WINNER
A5: DIVISION I
W6: =SUM(IF(B6=B$4,1),IF(C6=C$4,1),IF(D6=D$4,1),IF(E6=E$4,1),IF(F6=F$4,1),IF(G6=G$4,1),IF(H6=H$4,1),IF(I6=I$4,1),IF(J6=J$4,1),IF(K6=K$4,1),IF(L6=L$4,1),IF(M6=M$4,1),IF(N6=N$4,1),IF(O6=O$4,1),IF(P6=P$4,1),IF(Q6=Q$4,1)) -> 14 | X6: =SUM(IF(B6=B$4,B$3),IF(C6=C$4,C$3),IF(D6=D$4,D$3),IF(E6=E$4,E$3),IF(F6=F$4,F$3),IF(G6=G$4,G$3),IF(H6=H$4,H$3),IF(I6=I$4,I$3),IF(J6=J$4,J$3),IF(K6=K$4,K$3),IF(L6=L$4,L$3),IF(M6=M$4,M$3),IF(N6=N$4,N$3),IF(O6=O$4,O$3),IF(P6=P$4,P$3),IF(Q6=Q$4,Q$3)) -> 71
W7: =SUM(IF(B7=B$4,1),IF(C7=C$4,1),IF(D7=D$4,1),IF(E7=E$4,1),IF(F7=F$4,1),IF(G7=G$4,1),IF(H7=H$4,1),IF(I7=I$4,1),IF(J7=J$4,1),IF(K7=K$4,1),IF(L7=L$4,1),IF(M7=M$4,1),IF(N7=N$4,1),IF(O7=O$4,1),IF(P7=P$4,1),IF(Q7=Q$4,1)) -> 14 | X7: =SUM(IF(B7=B$4,B$3),IF(C7=C$4,C$3),IF(D7=D$4,D$3),IF(E7=E$4,E$3),IF(F7=F$4,F$3),IF(G7=G$4,G$3),IF(H7=H$4,H$3),IF(I7=I$4,I$3),IF(J7=J$4,J$3),IF(K7=K$4,K$3),IF(L7=L$4,L$3),IF(M7=M$4,M$3),IF(N7=N$4,N$3),IF(O7=O$4,O$3),IF(P7=P$4,P$3),IF(Q7=Q$4,Q$3)) -> 71
W8: =SUM(IF(B8=B$4,1),IF(C8=C$4,1),IF(D8=D$4,1),IF(E8=E$4,1),IF(F8=F$4,1),IF(G8=G$4,1),IF(H8=H$4,1),IF(I8=I$4,1),IF(J8=J$4,1),IF(K8=K$4,1),IF(L8=L$4,1),IF(M8=M$4,1),IF(N8=N$4,1),IF(O8=O$4,1),IF(P8=P$4,1),IF(Q8=Q$4,1)) -> 14 | X8: =SUM(IF(B8=B$4,B$3),IF(C8=C$4,C$3),IF(D8=D$4,D$3),IF(E8=E$4,E$3),IF(F8=F$4,F$3),IF(G8=G$4,G$3),IF(H8=H$4,H$3),IF(I8=I$4,I$3),IF(J8=J$4,J$3),IF(K8=K$4,K$3),IF(L8=L$4,L$3),IF(M8=M$4,M$3),IF(N8=N$4,N$3),IF(O8=O$4,O$3),IF(P8=P$4,P$3),IF(Q8=Q$4,Q$3)) -> 71
W9: =SUM(IF(B9=B$4,1),IF(C9=C$4,1),IF(D9=D$4,1),IF(E9=E$4,1),IF(F9=F$4,1),IF(G9=G$4,1),IF(H9=H$4,1),IF(I9=I$4,1),IF(J9=J$4,1),IF(K9=K$4,1),IF(L9=L$4,1),IF(M9=M$4,1),IF(N9=N$4,1),IF(O9=O$4,1),IF(P9=P$4,1),IF(Q9=Q$4,1)) -> 14 | X9: =SUM(IF(B9=B$4,B$3),IF(C9=C$4,C$3),IF(D9=D$4,D$3),IF(E9=E$4,E$3),IF(F9=F$4,F$3),IF(G9=G$4,G$3),IF(H9=H$4,H$3),IF(I9=I$4,I$3),IF(J9=J$4,J$3),IF(K9=K$4,K$3),IF(L9=L$4,L$3),IF(M9=M$4,M$3),IF(N9=N$4,N$3),IF(O9=O$4,O$3),IF(P9=P$4,P$3),IF(Q9=Q$4,Q$3)) -> 71
W10: =SUM(IF(B10=B$4,1),IF(C10=C$4,1),IF(D10=D$4,1),IF(E10=E$4,1),IF(F10=F$4,1),IF(G10=G$4,1),IF(H10=H$4,1),IF(I10=I$4,1),IF(J10=J$4,1),IF(K10=K$4,1),IF(L10=L$4,1),IF(M10=M$4,1),IF(N10=N$4,1),IF(O10=O$4,1),IF(P10=P$4,1),IF(Q10=Q$4,1)) -> 14 | X10: =SUM(IF(B10=B$4,B$3),IF(C10=C$4,C$3),IF(D10=D$4,D$3),IF(E10=E$4,E$3),IF(F10=F$4,F$3),IF(G10=G$4,G$3),IF(H10=H$4,H$3),IF(I10=I$4,I$3),IF(J10=J$4,J$3),IF(K10=K$4,K$3),IF(L10=L$4,L$3),IF(M10=M$4,M$3),IF(N10=N$4,N$3),IF(O10=O$4,O$3),IF(P10=P$4,P$3),IF(Q10=Q$4,Q$3)) -> 71
W11: =SUM(IF(B11=B$4,1),IF(C11=C$4,1),IF(D11=D$4,1),IF(E11=E$4,1),IF(F11=F$4,1),IF(G11=G$4,1),IF(H11=H$4,1),IF(I11=I$4,1),IF(J11=J$4,1),IF(K11=K$4,1),IF(L11=L$4,1),IF(M11=M$4,1),IF(N11=N$4,1),IF(O11=O$4,1),IF(P11=P$4,1),IF(Q11=Q$4,1)) -> 14 | X11: =SUM(IF(B11=B$4,B$3),IF(C11=C$4,C$3),IF(D11=D$4,D$3),IF(E11=E$4,E$3),IF(F11=F$4,F$3),IF(G11=G$4,G$3),IF(H11=H$4,H$3),IF(I11=I$4,I$3),IF(J11=J$4,J$3),IF(K11=K$4,K$3),IF(L11=L$4,L$3),IF(M11=M$4,M$3),IF(N11=N$4,N$3),IF(O11=O$4,O$3),IF(P11=P$4,P$3),IF(Q11=Q$4,Q$3)) -> 71
W12: =SUM(IF(B12=B$4,1),IF(C12=C$4,1),IF(D12=D$4,1),IF(E12=E$4,1),IF(F12=F$4,1),IF(G12=G$4,1),IF(H12=H$4,1),IF(I12=I$4,1),IF(J12=J$4,1),IF(K12=K$4,1),IF(L12=L$4,1),IF(M12=M$4,1),IF(N12=N$4,1),IF(O12=O$4,1),IF(P12=P$4,1),IF(Q12=Q$4,1)) -> 14 | X12: =SUM(IF(B12=B$4,B$3),IF(C12=C$4,C$3),IF(D12=D$4,D$3),IF(E12=E$4,E$3),IF(F12=F$4,F$3),IF(G12=G$4,G$3),IF(H12=H$4,H$3),IF(I12=I$4,I$3),IF(J12=J$4,J$3),IF(K12=K$4,K$3),IF(L12=L$4,L$3),IF(M12=M$4,M$3),IF(N12=N$4,N$3),IF(O12=O$4,O$3),IF(P12=P$4,P$3),IF(Q12=Q$4,Q$3)) -> 71
W13: =SUM(IF(B13=B$4,1),IF(C13=C$4,1),IF(D13=D$4,1),IF(E13=E$4,1),IF(F13=F$4,1),IF(G13=G$4,1),IF(H13=H$4,1),IF(I13=I$4,1),IF(J13=J$4,1),IF(K13=K$4,1),IF(L13=L$4,1),IF(M13=M$4,1),IF(N13=N$4,1),IF(O13=O$4,1),IF(P13=P$4,1),IF(Q13=Q$4,1)) -> 14 | X13: =SUM(IF(B13=B$4,B$3),IF(C13=C$4,C$3),IF(D13=D$4,D$3),IF(E13=E$4,E$3),IF(F13=F$4,F$3),IF(G13=G$4,G$3),IF(H13=H$4,H$3),IF(I13=I$4,I$3),IF(J13=J$4,J$3),IF(K13=K$4,K$3),IF(L13=L$4,L$3),IF(M13=M$4,M$3),IF(N13=N$4,N$3),IF(O13=O$4,O$3),IF(P13=P$4,P$3),IF(Q13=Q$4,Q$3)) -> 71
W14: =SUM(IF(B14=B$4,1),IF(C14=C$4,1),IF(D14=D$4,1),IF(E14=E$4,1),IF(F14=F$4,1),IF(G14=G$4,1),IF(H14=H$4,1),IF(I14=I$4,1),IF(J14=J$4,1),IF(K14=K$4,1),IF(L14=L$4,1),IF(M14=M$4,1),IF(N14=N$4,1),IF(O14=O$4,1),IF(P14=P$4,1),IF(Q14=Q$4,1)) -> 14 | X14: =SUM(IF(B14=B$4,B$3),IF(C14=C$4,C$3),IF(D14=D$4,D$3),IF(E14=E$4,E$3),IF(F14=F$4,F$3),IF(G14=G$4,G$3),IF(H14=H$4,H$3),IF(I14=I$4,I$3),IF(J14=J$4,J$3),IF(K14=K$4,K$3),IF(L14=L$4,L$3),IF(M14=M$4,M$3),IF(N14=N$4,N$3),IF(O14=O$4,O$3),IF(P14=P$4,P$3),IF(Q14=Q$4,Q$3)) -> 71
W15: =SUM(IF(B15=B$4,1),IF(C15=C$4,1),IF(D15=D$4,1),IF(E15=E$4,1),IF(F15=F$4,1),IF(G15=G$4,1),IF(H15=H$4,1),IF(I15=I$4,1),IF(J15=J$4,1),IF(K15=K$4,1),IF(L15=L$4,1),IF(M15=M$4,1),IF(N15=N$4,1),IF(O15=O$4,1),IF(P15=P$4,1),IF(Q15=Q$4,1)) -> 14 | X15: =SUM(IF(B15=B$4,B$3),IF(C15=C$4,C$3),IF(D15=D$4,D$3),IF(E15=E$4,E$3),IF(F15=F$4,F$3),IF(G15=G$4,G$3),IF(H15=H$4,H$3),IF(I15=I$4,I$3),IF(J15=J$4,J$3),IF(K15=K$4,K$3),IF(L15=L$4,L$3),IF(M15=M$4,M$3),IF(N15=N$4,N$3),IF(O15=O$4,O$3),IF(P15=P$4,P$3),IF(Q15=Q$4,Q$3)) -> 71
A16: DIVISION II
W17: =SUM(IF(B17=B$4,1),IF(C17=C$4,1),IF(D17=D$4,1),IF(E17=E$4,1),IF(F17=F$4,1),IF(G17=G$4,1),IF(H17=H$4,1),IF(I17=I$4,1),IF(J17=J$4,1),IF(K17=K$4,1),IF(L17=L$4,1),IF(M17=M$4,1),IF(N17=N$4,1),IF(O17=O$4,1),IF(P17=P$4,1),IF(Q17=Q$4,1)) -> 14 | X17: =SUM(IF(B17=B$4,B$3),IF(C17=C$4,C$3),IF(D17=D$4,D$3),IF(E17=E$4,E$3),IF(F17=F$4,F$3),IF(G17=G$4,G$3),IF(H17=H$4,H$3),IF(I17=I$4,I$3),IF(J17=J$4,J$3),IF(K17=K$4,K$3),IF(L17=L$4,L$3),IF(M17=M$4,M$3),IF(N17=N$4,N$3),IF(O17=O$4,O$3),IF(P17=P$4,P$3),IF(Q17=Q$4,Q$3)) -> 71
W18: =SUM(IF(B18=B$4,1),IF(C18=C$4,1),IF(D18=D$4,1),IF(E18=E$4,1),IF(F18=F$4,1),IF(G18=G$4,1),IF(H18=H$4,1),IF(I18=I$4,1),IF(J18=J$4,1),IF(K18=K$4,1),IF(L18=L$4,1),IF(M18=M$4,1),IF(N18=N$4,1),IF(O18=O$4,1),IF(P18=P$4,1),IF(Q18=Q$4,1)) -> 14 | X18: =SUM(IF(B18=B$4,B$3),IF(C18=C$4,C$3),IF(D18=D$4,D$3),IF(E18=E$4,E$3),IF(F18=F$4,F$3),IF(G18=G$4,G$3),IF(H18=H$4,H$3),IF(I18=I$4,I$3),IF(J18=J$4,J$3),IF(K18=K$4,K$3),IF(L18=L$4,L$3),IF(M18=M$4,M$3),IF(N18=N$4,N$3),IF(O18=O$4,O$3),IF(P18=P$4,P$3),IF(Q18=Q$4,Q$3)) -> 71
W19: =SUM(IF(B19=B$4,1),IF(C19=C$4,1),IF(D19=D$4,1),IF(E19=E$4,1),IF(F19=F$4,1),IF(G19=G$4,1),IF(H19=H$4,1),IF(I19=I$4,1),IF(J19=J$4,1),IF(K19=K$4,1),IF(L19=L$4,1),IF(M19=M$4,1),IF(N19=N$4,1),IF(O19=O$4,1),IF(P19=P$4,1),IF(Q19=Q$4,1)) -> 14 | X19: =SUM(IF(B19=B$4,B$3),IF(C19=C$4,C$3),IF(D19=D$4,D$3),IF(E19=E$4,E$3),IF(F19=F$4,F$3),IF(G19=G$4,G$3),IF(H19=H$4,H$3),IF(I19=I$4,I$3),IF(J19=J$4,J$3),IF(K19=K$4,K$3),IF(L19=L$4,L$3),IF(M19=M$4,M$3),IF(N19=N$4,N$3),IF(O19=O$4,O$3),IF(P19=P$4,P$3),IF(Q19=Q$4,Q$3)) -> 71
W20: =SUM(IF(B20=B$4,1),IF(C20=C$4,1),IF(D20=D$4,1),IF(E20=E$4,1),IF(F20=F$4,1),IF(G20=G$4,1),IF(H20=H$4,1),IF(I20=I$4,1),IF(J20=J$4,1),IF(K20=K$4,1),IF(L20=L$4,1),IF(M20=M$4,1),IF(N20=N$4,1),IF(O20=O$4,1),IF(P20=P$4,1),IF(Q20=Q$4,1)) -> 14 | X20: =SUM(IF(B20=B$4,B$3),IF(C20=C$4,C$3),IF(D20=D$4,D$3),IF(E20=E$4,E$3),IF(F20=F$4,F$3),IF(G20=G$4,G$3),IF(H20=H$4,H$3),IF(I20=I$4,I$3),IF(J20=J$4,J$3),IF(K20=K$4,K$3),IF(L20=L$4,L$3),IF(M20=M$4,M$3),IF(N20=N$4,N$3),IF(O20=O$4,O$3),IF(P20=P$4,P$3),IF(Q20=Q$4,Q$3)) -> 71
W21: =SUM(IF(B21=B$4,1),IF(C21=C$4,1),IF(D21=D$4,1),IF(E21=E$4,1),IF(F21=F$4,1),IF(G21=G$4,1),IF(H21=H$4,1),IF(I21=I$4,1),IF(J21=J$4,1),IF(K21=K$4,1),IF(L21=L$4,1),IF(M21=M$4,1),IF(N21=N$4,1),IF(O21=O$4,1),IF(P21=P$4,1),IF(Q21=Q$4,1)) -> 14 | X21: =SUM(IF(B21=B$4,B$3),IF(C21=C$4,C$3),IF(D21=D$4,D$3),IF(E21=E$4,E$3),IF(F21=F$4,F$3),IF(G21=G$4,G$3),IF(H21=H$4,H$3),IF(I21=I$4,I$3),IF(J21=J$4,J$3),IF(K21=K$4,K$3),IF(L21=L$4,L$3),IF(M21=M$4,M$3),IF(N21=N$4,N$3),IF(O21=O$4,O$3),IF(P21=P$4,P$3),IF(Q21=Q$4,Q$3)) -> 71
W22: =SUM(IF(B22=B$4,1),IF(C22=C$4,1),IF(D22=D$4,1),IF(E22=E$4,1),IF(F22=F$4,1),IF(G22=G$4,1),IF(H22=H$4,1),IF(I22=I$4,1),IF(J22=J$4,1),IF(K22=K$4,1),IF(L22=L$4,1),IF(M22=M$4,1),IF(N22=N$4,1),IF(O22=O$4,1),IF(P22=P$4,1),IF(Q22=Q$4,1)) -> 14 | X22: =SUM(IF(B22=B$4,B$3),IF(C22=C$4,C$3),IF(D22=D$4,D$3),IF(E22=E$4,E$3),IF(F22=F$4,F$3),IF(G22=G$4,G$3),IF(H22=H$4,H$3),IF(I22=I$4,I$3),IF(J22=J$4,J$3),IF(K22=K$4,K$3),IF(L22=L$4,L$3),IF(M22=M$4,M$3),IF(N22=N$4,N$3),IF(O22=O$4,O$3),IF(P22=P$4,P$3),IF(Q22=Q$4,Q$3)) -> 71
W23: =SUM(IF(B23=B$4,1),IF(C23=C$4,1),IF(D23=D$4,1),IF(E23=E$4,1),IF(F23=F$4,1),IF(G23=G$4,1),IF(H23=H$4,1),IF(I23=I$4,1),IF(J23=J$4,1),IF(K23=K$4,1),IF(L23=L$4,1),IF(M23=M$4,1),IF(N23=N$4,1),IF(O23=O$4,1),IF(P23=P$4,1),IF(Q23=Q$4,1)) -> 14 | X23: =SUM(IF(B23=B$4,B$3),IF(C23=C$4,C$3),IF(D23=D$4,D$3),IF(E23=E$4,E$3),IF(F23=F$4,F$3),IF(G23=G$4,G$3),IF(H23=H$4,H$3),IF(I23=I$4,I$3),IF(J23=J$4,J$3),IF(K23=K$4,K$3),IF(L23=L$4,L$3),IF(M23=M$4,M$3),IF(N23=N$4,N$3),IF(O23=O$4,O$3),IF(P23=P$4,P$3),IF(Q23=Q$4,Q$3)) -> 71
W24: =SUM(IF(B24=B$4,1),IF(C24=C$4,1),IF(D24=D$4,1),IF(E24=E$4,1),IF(F24=F$4,1),IF(G24=G$4,1),IF(H24=H$4,1),IF(I24=I$4,1),IF(J24=J$4,1),IF(K24=K$4,1),IF(L24=L$4,1),IF(M24=M$4,1),IF(N24=N$4,1),IF(O24=O$4,1),IF(P24=P$4,1),IF(Q24=Q$4,1)) -> 14 | X24: =SUM(IF(B24=B$4,B$3),IF(C24=C$4,C$3),IF(D24=D$4,D$3),IF(E24=E$4,E$3),IF(F24=F$4,F$3),IF(G24=G$4,G$3),IF(H24=H$4,H$3),IF(I24=I$4,I$3),IF(J24=J$4,J$3),IF(K24=K$4,K$3),IF(L24=L$4,L$3),IF(M24=M$4,M$3),IF(N24=N$4,N$3),IF(O24=O$4,O$3),IF(P24=P$4,P$3),IF(Q24=Q$4,Q$3)) -> 71
W25: =SUM(IF(B25=B$4,1),IF(C25=C$4,1),IF(D25=D$4,1),IF(E25=E$4,1),IF(F25=F$4,1),IF(G25=G$4,1),IF(H25=H$4,1),IF(I25=I$4,1),IF(J25=J$4,1),IF(K25=K$4,1),IF(L25=L$4,1),IF(M25=M$4,1),IF(N25=N$4,1),IF(O25=O$4,1),IF(P25=P$4,1),IF(Q25=Q$4,1)) -> 14 | X25: =SUM(IF(B25=B$4,B$3),IF(C25=C$4,C$3),IF(D25=D$4,D$3),IF(E25=E$4,E$3),IF(F25=F$4,F$3),IF(G25=G$4,G$3),IF(H25=H$4,H$3),IF(I25=I$4,I$3),IF(J25=J$4,J$3),IF(K25=K$4,K$3),IF(L25=L$4,L$3),IF(M25=M$4,M$3),IF(N25=N$4,N$3),IF(O25=O$4,O$3),IF(P25=P$4,P$3),IF(Q25=Q$4,Q$3)) -> 71
W26: =SUM(IF(B26=B$4,1),IF(C26=C$4,1),IF(D26=D$4,1),IF(E26=E$4,1),IF(F26=F$4,1),IF(G26=G$4,1),IF(H26=H$4,1),IF(I26=I$4,1),IF(J26=J$4,1),IF(K26=K$4,1),IF(L26=L$4,1),IF(M26=M$4,1),IF(N26=N$4,1),IF(O26=O$4,1),IF(P26=P$4,1),IF(Q26=Q$4,1)) -> 14 | X26: =SUM(IF(B26=B$4,B$3),IF(C26=C$4,C$3),IF(D26=D$4,D$3),IF(E26=E$4,E$3),IF(F26=F$4,F$3),IF(G26=G$4,G$3),IF(H26=H$4,H$3),IF(I26=I$4,I$3),IF(J26=J$4,J$3),IF(K26=K$4,K$3),IF(L26=L$4,L$3),IF(M26=M$4,M$3),IF(N26=N$4,N$3),IF(O26=O$4,O$3),IF(P26=P$4,P$3),IF(Q26=Q$4,Q$3)) -> 71
A27: DIVISION III
W28: =SUM(IF(B28=B$4,1),IF(C28=C$4,1),IF(D28=D$4,1),IF(E28=E$4,1),IF(F28=F$4,1),IF(G28=G$4,1),IF(H28=H$4,1),IF(I28=I$4,1),IF(J28=J$4,1),IF(K28=K$4,1),IF(L28=L$4,1),IF(M28=M$4,1),IF(N28=N$4,1),IF(O28=O$4,1),IF(P28=P$4,1),IF(Q28=Q$4,1)) -> 14 | X28: =SUM(IF(B28=B$4,B$3),IF(C28=C$4,C$3),IF(D28=D$4,D$3),IF(E28=E$4,E$3),IF(F28=F$4,F$3),IF(G28=G$4,G$3),IF(H28=H$4,H$3),IF(I28=I$4,I$3),IF(J28=J$4,J$3),IF(K28=K$4,K$3),IF(L28=L$4,L$3),IF(M28=M$4,M$3),IF(N28=N$4,N$3),IF(O28=O$4,O$3),IF(P28=P$4,P$3),IF(Q28=Q$4,Q$3)) -> 71
W29: =SUM(IF(B29=B$4,1),IF(C29=C$4,1),IF(D29=D$4,1),IF(E29=E$4,1),IF(F29=F$4,1),IF(G29=G$4,1),IF(H29=H$4,1),IF(I29=I$4,1),IF(J29=J$4,1),IF(K29=K$4,1),IF(L29=L$4,1),IF(M29=M$4,1),IF(N29=N$4,1),IF(O29=O$4,1),IF(P29=P$4,1),IF(Q29=Q$4,1)) -> 14 | X29: =SUM(IF(B29=B$4,B$3),IF(C29=C$4,C$3),IF(D29=D$4,D$3),IF(E29=E$4,E$3),IF(F29=F$4,F$3),IF(G29=G$4,G$3),IF(H29=H$4,H$3),IF(I29=I$4,I$3),IF(J29=J$4,J$3),IF(K29=K$4,K$3),IF(L29=L$4,L$3),IF(M29=M$4,M$3),IF(N29=N$4,N$3),IF(O29=O$4,O$3),IF(P29=P$4,P$3),IF(Q29=Q$4,Q$3)) -> 71
W30: =SUM(IF(B30=B$4,1),IF(C30=C$4,1),IF(D30=D$4,1),IF(E30=E$4,1),IF(F30=F$4,1),IF(G30=G$4,1),IF(H30=H$4,1),IF(I30=I$4,1),IF(J30=J$4,1),IF(K30=K$4,1),IF(L30=L$4,1),IF(M30=M$4,1),IF(N30=N$4,1),IF(O30=O$4,1),IF(P30=P$4,1),IF(Q30=Q$4,1)) -> 14 | X30: =SUM(IF(B30=B$4,B$3),IF(C30=C$4,C$3),IF(D30=D$4,D$3),IF(E30=E$4,E$3),IF(F30=F$4,F$3),IF(G30=G$4,G$3),IF(H30=H$4,H$3),IF(I30=I$4,I$3),IF(J30=J$4,J$3),IF(K30=K$4,K$3),IF(L30=L$4,L$3),IF(M30=M$4,M$3),IF(N30=N$4,N$3),IF(O30=O$4,O$3),IF(P30=P$4,P$3),IF(Q30=Q$4,Q$3)) -> 71
W31: =SUM(IF(B31=B$4,1),IF(C31=C$4,1),IF(D31=D$4,1),IF(E31=E$4,1),IF(F31=F$4,1),IF(G31=G$4,1),IF(H31=H$4,1),IF(I31=I$4,1),IF(J31=J$4,1),IF(K31=K$4,1),IF(L31=L$4,1),IF(M31=M$4,1),IF(N31=N$4,1),IF(O31=O$4,1),IF(P31=P$4,1),IF(Q31=Q$4,1)) -> 14 | X31: =SUM(IF(B31=B$4,B$3),IF(C31=C$4,C$3),IF(D31=D$4,D$3),IF(E31=E$4,E$3),IF(F31=F$4,F$3),IF(G31=G$4,G$3),IF(H31=H$4,H$3),IF(I31=I$4,I$3),IF(J31=J$4,J$3),IF(K31=K$4,K$3),IF(L31=L$4,L$3),IF(M31=M$4,M$3),IF(N31=N$4,N$3),IF(O31=O$4,O$3),IF(P31=P$4,P$3),IF(Q31=Q$4,Q$3)) -> 71
W32: =SUM(IF(B32=B$4,1),IF(C32=C$4,1),IF(D32=D$4,1),IF(E32=E$4,1),IF(F32=F$4,1),IF(G32=G$4,1),IF(H32=H$4,1),IF(I32=I$4,1),IF(J32=J$4,1),IF(K32=K$4,1),IF(L32=L$4,1),IF(M32=M$4,1),IF(N32=N$4,1),IF(O32=O$4,1),IF(P32=P$4,1),IF(Q32=Q$4,1)) -> 14 | X32: =SUM(IF(B32=B$4,B$3),IF(C32=C$4,C$3),IF(D32=D$4,D$3),IF(E32=E$4,E$3),IF(F32=F$4,F$3),IF(G32=G$4,G$3),IF(H32=H$4,H$3),IF(I32=I$4,I$3),IF(J32=J$4,J$3),IF(K32=K$4,K$3),IF(L32=L$4,L$3),IF(M32=M$4,M$3),IF(N32=N$4,N$3),IF(O32=O$4,O$3),IF(P32=P$4,P$3),IF(Q32=Q$4,Q$3)) -> 71
W33: =SUM(IF(B33=B$4,1),IF(C33=C$4,1),IF(D33=D$4,1),IF(E33=E$4,1),IF(F33=F$4,1),IF(G33=G$4,1),IF(H33=H$4,1),IF(I33=I$4,1),IF(J33=J$4,1),IF(K33=K$4,1),IF(L33=L$4,1),IF(M33=M$4,1),IF(N33=N$4,1),IF(O33=O$4,1),IF(P33=P$4,1),IF(Q33=Q$4,1)) -> 14 | X33: =SUM(IF(B33=B$4,B$3),IF(C33=C$4,C$3),IF(D33=D$4,D$3),IF(E33=E$4,E$3),IF(F33=F$4,F$3),IF(G33=G$4,G$3),IF(H33=H$4,H$3),IF(I33=I$4,I$3),IF(J33=J$4,J$3),IF(K33=K$4,K$3),IF(L33=L$4,L$3),IF(M33=M$4,M$3),IF(N33=N$4,N$3),IF(O33=O$4,O$3),IF(P33=P$4,P$3),IF(Q33=Q$4,Q$3)) -> 71
W34: =SUM(IF(B34=B$4,1),IF(C34=C$4,1),IF(D34=D$4,1),IF(E34=E$4,1),IF(F34=F$4,1),IF(G34=G$4,1),IF(H34=H$4,1),IF(I34=I$4,1),IF(J34=J$4,1),IF(K34=K$4,1),IF(L34=L$4,1),IF(M34=M$4,1),IF(N34=N$4,1),IF(O34=O$4,1),IF(P34=P$4,1),IF(Q34=Q$4,1)) -> 14 | X34: =SUM(IF(B34=B$4,B$3),IF(C34=C$4,C$3),IF(D34=D$4,D$3),IF(E34=E$4,E$3),IF(F34=F$4,F$3),IF(G34=G$4,G$3),IF(H34=H$4,H$3),IF(I34=I$4,I$3),IF(J34=J$4,J$3),IF(K34=K$4,K$3),IF(L34=L$4,L$3),IF(M34=M$4,M$3),IF(N34=N$4,N$3),IF(O34=O$4,O$3),IF(P34=P$4,P$3),IF(Q34=Q$4,Q$3)) -> 71
W35: =SUM(IF(B35=B$4,1),IF(C35=C$4,1),IF(D35=D$4,1),IF(E35=E$4,1),IF(F35=F$4,1),IF(G35=G$4,1),IF(H35=H$4,1),IF(I35=I$4,1),IF(J35=J$4,1),IF(K35=K$4,1),IF(L35=L$4,1),IF(M35=M$4,1),IF(N35=N$4,1),IF(O35=O$4,1),IF(P35=P$4,1),IF(Q35=Q$4,1)) -> 14 | X35: =SUM(IF(B35=B$4,B$3),IF(C35=C$4,C$3),IF(D35=D$4,D$3),IF(E35=E$4,E$3),IF(F35=F$4,F$3),IF(G35=G$4,G$3),IF(H35=H$4,H$3),IF(I35=I$4,I$3),IF(J35=J$4,J$3),IF(K35=K$4,K$3),IF(L35=L$4,L$3),IF(M35=M$4,M$3),IF(N35=N$4,N$3),IF(O35=O$4,O$3),IF(P35=P$4,P$3),IF(Q35=Q$4,Q$3)) -> 71
W36: =SUM(IF(B36=B$4,1),IF(C36=C$4,1),IF(D36=D$4,1),IF(E36=E$4,1),IF(F36=F$4,1),IF(G36=G$4,1),IF(H36=H$4,1),IF(I36=I$4,1),IF(J36=J$4,1),IF(K36=K$4,1),IF(L36=L$4,1),IF(M36=M$4,1),IF(N36=N$4,1),IF(O36=O$4,1),IF(P36=P$4,1),IF(Q36=Q$4,1)) -> 14 | X36: =SUM(IF(B36=B$4,B$3),IF(C36=C$4,C$3),IF(D36=D$4,D$3),IF(E36=E$4,E$3),IF(F36=F$4,F$3),IF(G36=G$4,G$3),IF(H36=H$4,H$3),IF(I36=I$4,I$3),IF(J36=J$4,J$3),IF(K36=K$4,K$3),IF(L36=L$4,L$3),IF(M36=M$4,M$3),IF(N36=N$4,N$3),IF(O36=O$4,O$3),IF(P36=P$4,P$3),IF(Q36=Q$4,Q$3)) -> 71
W37: =SUM(IF(B37=B$4,1),IF(C37=C$4,1),IF(D37=D$4,1),IF(E37=E$4,1),IF(F37=F$4,1),IF(G37=G$4,1),IF(H37=H$4,1),IF(I37=I$4,1),IF(J37=J$4,1),IF(K37=K$4,1),IF(L37=L$4,1),IF(M37=M$4,1),IF(N37=N$4,1),IF(O37=O$4,1),IF(P37=P$4,1),IF(Q37=Q$4,1)) -> 14 | X37: =SUM(IF(B37=B$4,B$3),IF(C37=C$4,C$3),IF(D37=D$4,D$3),IF(E37=E$4,E$3),IF(F37=F$4,F$3),IF(G37=G$4,G$3),IF(H37=H$4,H$3),IF(I37=I$4,I$3),IF(J37=J$4,J$3),IF(K37=K$4,K$3),IF(L37=L$4,L$3),IF(M37=M$4,M$3),IF(N37=N$4,N$3),IF(O37=O$4,O$3),IF(P37=P$4,P$3),IF(Q37=Q$4,Q$3)) -> 71
A38: DIVISION IV
W39: =SUM(IF(B39=B$4,1),IF(C39=C$4,1),IF(D39=D$4,1),IF(E39=E$4,1),IF(F39=F$4,1),IF(G39=G$4,1),IF(H39=H$4,1),IF(I39=I$4,1),IF(J39=J$4,1),IF(K39=K$4,1),IF(L39=L$4,1),IF(M39=M$4,1),IF(N39=N$4,1),IF(O39=O$4,1),IF(P39=P$4,1),IF(Q39=Q$4,1)) -> 14 | X39: =SUM(IF(B39=B$4,B$3),IF(C39=C$4,C$3),IF(D39=D$4,D$3),IF(E39=E$4,E$3),IF(F39=F$4,F$3),IF(G39=G$4,G$3),IF(H39=H$4,H$3),IF(I39=I$4,I$3),IF(J39=J$4,J$3),IF(K39=K$4,K$3),IF(L39=L$4,L$3),IF(M39=M$4,M$3),IF(N39=N$4,N$3),IF(O39=O$4,O$3),IF(P39=P$4,P$3),IF(Q39=Q$4,Q$3)) -> 71
W40: =SUM(IF(B40=B$4,1),IF(C40=C$4,1),IF(D40=D$4,1),IF(E40=E$4,1),IF(F40=F$4,1),IF(G40=G$4,1),IF(H40=H$4,1),IF(I40=I$4,1),IF(J40=J$4,1),IF(K40=K$4,1),IF(L40=L$4,1),IF(M40=M$4,1),IF(N40=N$4,1),IF(O40=O$4,1),IF(P40=P$4,1),IF(Q40=Q$4,1)) -> 14 | X40: =SUM(IF(B40=B$4,B$3),IF(C40=C$4,C$3),IF(D40=D$4,D$3),IF(E40=E$4,E$3),IF(F40=F$4,F$3),IF(G40=G$4,G$3),IF(H40=H$4,H$3),IF(I40=I$4,I$3),IF(J40=J$4,J$3),IF(K40=K$4,K$3),IF(L40=L$4,L$3),IF(M40=M$4,M$3),IF(N40=N$4,N$3),IF(O40=O$4,O$3),IF(P40=P$4,P$3),IF(Q40=Q$4,Q$3)) -> 71
W41: =SUM(IF(B41=B$4,1),IF(C41=C$4,1),IF(D41=D$4,1),IF(E41=E$4,1),IF(F41=F$4,1),IF(G41=G$4,1),IF(H41=H$4,1),IF(I41=I$4,1),IF(J41=J$4,1),IF(K41=K$4,1),IF(L41=L$4,1),IF(M41=M$4,1),IF(N41=N$4,1),IF(O41=O$4,1),IF(P41=P$4,1),IF(Q41=Q$4,1)) -> 14 | X41: =SUM(IF(B41=B$4,B$3),IF(C41=C$4,C$3),IF(D41=D$4,D$3),IF(E41=E$4,E$3),IF(F41=F$4,F$3),IF(G41=G$4,G$3),IF(H41=H$4,H$3),IF(I41=I$4,I$3),IF(J41=J$4,J$3),IF(K41=K$4,K$3),IF(L41=L$4,L$3),IF(M41=M$4,M$3),IF(N41=N$4,N$3),IF(O41=O$4,O$3),IF(P41=P$4,P$3),IF(Q41=Q$4,Q$3)) -> 71
W42: =SUM(IF(B42=B$4,1),IF(C42=C$4,1),IF(D42=D$4,1),IF(E42=E$4,1),IF(F42=F$4,1),IF(G42=G$4,1),IF(H42=H$4,1),IF(I42=I$4,1),IF(J42=J$4,1),IF(K42=K$4,1),IF(L42=L$4,1),IF(M42=M$4,1),IF(N42=N$4,1),IF(O42=O$4,1),IF(P42=P$4,1),IF(Q42=Q$4,1)) -> 14 | X42: =SUM(IF(B42=B$4,B$3),IF(C42=C$4,C$3),IF(D42=D$4,D$3),IF(E42=E$4,E$3),IF(F42=F$4,F$3),IF(G42=G$4,G$3),IF(H42=H$4,H$3),IF(I42=I$4,I$3),IF(J42=J$4,J$3),IF(K42=K$4,K$3),IF(L42=L$4,L$3),IF(M42=M$4,M$3),IF(N42=N$4,N$3),IF(O42=O$4,O$3),IF(P42=P$4,P$3),IF(Q42=Q$4,Q$3)) -> 71
W43: =SUM(IF(B43=B$4,1),IF(C43=C$4,1),IF(D43=D$4,1),IF(E43=E$4,1),IF(F43=F$4,1),IF(G43=G$4,1),IF(H43=H$4,1),IF(I43=I$4,1),IF(J43=J$4,1),IF(K43=K$4,1),IF(L43=L$4,1),IF(M43=M$4,1),IF(N43=N$4,1),IF(O43=O$4,1),IF(P43=P$4,1),IF(Q43=Q$4,1)) -> 14 | X43: =SUM(IF(B43=B$4,B$3),IF(C43=C$4,C$3),IF(D43=D$4,D$3),IF(E43=E$4,E$3),IF(F43=F$4,F$3),IF(G43=G$4,G$3),IF(H43=H$4,H$3),IF(I43=I$4,I$3),IF(J43=J$4,J$3),IF(K43=K$4,K$3),IF(L43=L$4,L$3),IF(M43=M$4,M$3),IF(N43=N$4,N$3),IF(O43=O$4,O$3),IF(P43=P$4,P$3),IF(Q43=Q$4,Q$3)) -> 71
W44: =SUM(IF(B44=B$4,1),IF(C44=C$4,1),IF(D44=D$4,1),IF(E44=E$4,1),IF(F44=F$4,1),IF(G44=G$4,1),IF(H44=H$4,1),IF(I44=I$4,1),IF(J44=J$4,1),IF(K44=K$4,1),IF(L44=L$4,1),IF(M44=M$4,1),IF(N44=N$4,1),IF(O44=O$4,1),IF(P44=P$4,1),IF(Q44=Q$4,1)) -> 14 | X44: =SUM(IF(B44=B$4,B$3),IF(C44=C$4,C$3),IF(D44=D$4,D$3),IF(E44=E$4,E$3),IF(F44=F$4,F$3),IF(G44=G$4,G$3),IF(H44=H$4,H$3),IF(I44=I$4,I$3),IF(J44=J$4,J$3),IF(K44=K$4,K$3),IF(L44=L$4,L$3),IF(M44=M$4,M$3),IF(N44=N$4,N$3),IF(O44=O$4,O$3),IF(P44=P$4,P$3),IF(Q44=Q$4,Q$3)) -> 71
W45: =SUM(IF(B45=B$4,1),IF(C45=C$4,1),IF(D45=D$4,1),IF(E45=E$4,1),IF(F45=F$4,1),IF(G45=G$4,1),IF(H45=H$4,1),IF(I45=I$4,1),IF(J45=J$4,1),IF(K45=K$4,1),IF(L45=L$4,1),IF(M45=M$4,1),IF(N45=N$4,1),IF(O45=O$4,1),IF(P45=P$4,1),IF(Q45=Q$4,1)) -> 14 | X45: =SUM(IF(B45=B$4,B$3),IF(C45=C$4,C$3),IF(D45=D$4,D$3),IF(E45=E$4,E$3),IF(F45=F$4,F$3),IF(G45=G$4,G$3),IF(H45=H$4,H$3),IF(I45=I$4,I$3),IF(J45=J$4,J$3),IF(K45=K$4,K$3),IF(L45=L$4,L$3),IF(M45=M$4,M$3),IF(N45=N$4,N$3),IF(O45=O$4,O$3),IF(P45=P$4,P$3),IF(Q45=Q$4,Q$3)) -> 71
W46: =SUM(IF(B46=B$4,1),IF(C46=C$4,1),IF(D46=D$4,1),IF(E46=E$4,1),IF(F46=F$4,1),IF(G46=G$4,1),IF(H46=H$4,1),IF(I46=I$4,1),IF(J46=J$4,1),IF(K46=K$4,1),IF(L46=L$4,1),IF(M46=M$4,1),IF(N46=N$4,1),IF(O46=O$4,1),IF(P46=P$4,1),IF(Q46=Q$4,1)) -> 14 | X46: =SUM(IF(B46=B$4,B$3),IF(C46=C$4,C$3),IF(D46=D$4,D$3),IF(E46=E$4,E$3),IF(F46=F$4,F$3),IF(G46=G$4,G$3),IF(H46=H$4,H$3),IF(I46=I$4,I$3),IF(J46=J$4,J$3),IF(K46=K$4,K$3),IF(L46=L$4,L$3),IF(M46=M$4,M$3),IF(N46=N$4,N$3),IF(O46=O$4,O$3),IF(P46=P$4,P$3),IF(Q46=Q$4,Q$3)) -> 71
W47: =SUM(IF(B47=B$4,1),IF(C47=C$4,1),IF(D47=D$4,1),IF(E47=E$4,1),IF(F47=F$4,1),IF(G47=G$4,1),IF(H47=H$4,1),IF(I47=I$4,1),IF(J47=J$4,1),IF(K47=K$4,1),IF(L47=L$4,1),IF(M47=M$4,1),IF(N47=N$4,1),IF(O47=O$4,1),IF(P47=P$4,1),IF(Q47=Q$4,1)) -> 14 | X47: =SUM(IF(B47=B$4,B$3),IF(C47=C$4,C$3),IF(D47=D$4,D$3),IF(E47=E$4,E$3),IF(F47=F$4,F$3),IF(G47=G$4,G$3),IF(H47=H$4,H$3),IF(I47=I$4,I$3),IF(J47=J$4,J$3),IF(K47=K$4,K$3),IF(L47=L$4,L$3),IF(M47=M$4,M$3),IF(N47=N$4,N$3),IF(O47=O$4,O$3),IF(P47=P$4,P$3),IF(Q47=Q$4,Q$3)) -> 71
W48: =SUM(IF(B48=B$4,1),IF(C48=C$4,1),IF(D48=D$4,1),IF(E48=E$4,1),IF(F48=F$4,1),IF(G48=G$4,1),IF(H48=H$4,1),IF(I48=I$4,1),IF(J48=J$4,1),IF(K48=K$4,1),IF(L48=L$4,1),IF(M48=M$4,1),IF(N48=N$4,1),IF(O48=O$4,1),IF(P48=P$4,1),IF(Q48=Q$4,1)) -> 14 | X48: =SUM(IF(B48=B$4,B$3),IF(C48=C$4,C$3),IF(D48=D$4,D$3),IF(E48=E$4,E$3),IF(F48=F$4,F$3),IF(G48=G$4,G$3),IF(H48=H$4,H$3),IF(I48=I$4,I$3),IF(J48=J$4,J$3),IF(K48=K$4,K$3),IF(L48=L$4,L$3),IF(M48=M$4,M$3),IF(N48=N$4,N$3),IF(O48=O$4,O$3),IF(P48=P$4,P$3),IF(Q48=Q$4,Q$3)) -> 71

Sheet WK10
A1: PARTICIPANTS | B1: LV | C1: ATL | D1: NO | E1: NYG | F1: JAC | G1: BUF | H1: BAL | I1: CLE | J1: NE | K1: AZ | L1: LAR | M1: DET | N1: PIT | O1: PHI | V1: AWAY | W1: TOTAL | X1: TOTAL
A2: HOME | B2: DEN | C2: IND | D2: CAR | E2: CHI | F2: HOU | G2: MIA | H2: MIN | I2: NYJ | J2: TB | K2: SEA | L2: SF | M2: WAS | N2: LAC | O2: GB | V2: HOME | W2: WINS | X2: PTS
A3: POINT VALUE | B3: 10 | C3: 3 | D3: 10 | E3: 5 | F3: 10 | G3: 10 | H3: 3 | I3: 5 | J3: 3 | K3: 10 | L3: 10 | M3: 5 | N3: 5 | O3: 5 | P3: N/A | Q3: N/A | V3: POINT VALUE | W3: 16 | X3: =SUM(B3:Q3) -> 94
A4: WINNER | P4: N/A | Q4: N/A | R4: N/A | S4: N/A | T4: N/A | U4: N/A | V4: WINNER
A5: DIVISION I
W6: =SUM(IF(B6=B$4,1),IF(C6=C$4,1),IF(D6=D$4,1),IF(E6=E$4,1),IF(F6=F$4,1),IF(G6=G$4,1),IF(H6=H$4,1),IF(I6=I$4,1),IF(J6=J$4,1),IF(K6=K$4,1),IF(L6=L$4,1),IF(M6=M$4,1),IF(N6=N$4,1),IF(O6=O$4,1),IF(P6=P$4,1),IF(Q6=Q$4,1)) -> 14 | X6: =SUM(IF(B6=B$4,B$3),IF(C6=C$4,C$3),IF(D6=D$4,D$3),IF(E6=E$4,E$3),IF(F6=F$4,F$3),IF(G6=G$4,G$3),IF(H6=H$4,H$3),IF(I6=I$4,I$3),IF(J6=J$4,J$3),IF(K6=K$4,K$3),IF(L6=L$4,L$3),IF(M6=M$4,M$3),IF(N6=N$4,N$3),IF(O6=O$4,O$3),IF(P6=P$4,P$3),IF(Q6=Q$4,Q$3)) -> 94
W7: =SUM(IF(B7=B$4,1),IF(C7=C$4,1),IF(D7=D$4,1),IF(E7=E$4,1),IF(F7=F$4,1),IF(G7=G$4,1),IF(H7=H$4,1),IF(I7=I$4,1),IF(J7=J$4,1),IF(K7=K$4,1),IF(L7=L$4,1),IF(M7=M$4,1),IF(N7=N$4,1),IF(O7=O$4,1),IF(P7=P$4,1),IF(Q7=Q$4,1)) -> 14 | X7: =SUM(IF(B7=B$4,B$3),IF(C7=C$4,C$3),IF(D7=D$4,D$3),IF(E7=E$4,E$3),IF(F7=F$4,F$3),IF(G7=G$4,G$3),IF(H7=H$4,H$3),IF(I7=I$4,I$3),IF(J7=J$4,J$3),IF(K7=K$4,K$3),IF(L7=L$4,L$3),IF(M7=M$4,M$3),IF(N7=N$4,N$3),IF(O7=O$4,O$3),IF(P7=P$4,P$3),IF(Q7=Q$4,Q$3)) -> 94
W8: =SUM(IF(B8=B$4,1),IF(C8=C$4,1),IF(D8=D$4,1),IF(E8=E$4,1),IF(F8=F$4,1),IF(G8=G$4,1),IF(H8=H$4,1),IF(I8=I$4,1),IF(J8=J$4,1),IF(K8=K$4,1),IF(L8=L$4,1),IF(M8=M$4,1),IF(N8=N$4,1),IF(O8=O$4,1),IF(P8=P$4,1),IF(Q8=Q$4,1)) -> 14 | X8: =SUM(IF(B8=B$4,B$3),IF(C8=C$4,C$3),IF(D8=D$4,D$3),IF(E8=E$4,E$3),IF(F8=F$4,F$3),IF(G8=G$4,G$3),IF(H8=H$4,H$3),IF(I8=I$4,I$3),IF(J8=J$4,J$3),IF(K8=K$4,K$3),IF(L8=L$4,L$3),IF(M8=M$4,M$3),IF(N8=N$4,N$3),IF(O8=O$4,O$3),IF(P8=P$4,P$3),IF(Q8=Q$4,Q$3)) -> 94
W9: =SUM(IF(B9=B$4,1),IF(C9=C$4,1),IF(D9=D$4,1),IF(E9=E$4,1),IF(F9=F$4,1),IF(G9=G$4,1),IF(H9=H$4,1),IF(I9=I$4,1),IF(J9=J$4,1),IF(K9=K$4,1),IF(L9=L$4,1),IF(M9=M$4,1),IF(N9=N$4,1),IF(O9=O$4,1),IF(P9=P$4,1),IF(Q9=Q$4,1)) -> 14 | X9: =SUM(IF(B9=B$4,B$3),IF(C9=C$4,C$3),IF(D9=D$4,D$3),IF(E9=E$4,E$3),IF(F9=F$4,F$3),IF(G9=G$4,G$3),IF(H9=H$4,H$3),IF(I9=I$4,I$3),IF(J9=J$4,J$3),IF(K9=K$4,K$3),IF(L9=L$4,L$3),IF(M9=M$4,M$3),IF(N9=N$4,N$3),IF(O9=O$4,O$3),IF(P9=P$4,P$3),IF(Q9=Q$4,Q$3)) -> 94
W10: =SUM(IF(B10=B$4,1),IF(C10=C$4,1),IF(D10=D$4,1),IF(E10=E$4,1),IF(F10=F$4,1),IF(G10=G$4,1),IF(H10=H$4,1),IF(I10=I$4,1),IF(J10=J$4,1),IF(K10=K$4,1),IF(L10=L$4,1),IF(M10=M$4,1),IF(N10=N$4,1),IF(O10=O$4,1),IF(P10=P$4,1),IF(Q10=Q$4,1)) -> 14 | X10: =SUM(IF(B10=B$4,B$3),IF(C10=C$4,C$3),IF(D10=D$4,D$3),IF(E10=E$4,E$3),IF(F10=F$4,F$3),IF(G10=G$4,G$3),IF(H10=H$4,H$3),IF(I10=I$4,I$3),IF(J10=J$4,J$3),IF(K10=K$4,K$3),IF(L10=L$4,L$3),IF(M10=M$4,M$3),IF(N10=N$4,N$3),IF(O10=O$4,O$3),IF(P10=P$4,P$3),IF(Q10=Q$4,Q$3)) -> 94
W11: =SUM(IF(B11=B$4,1),IF(C11=C$4,1),IF(D11=D$4,1),IF(E11=E$4,1),IF(F11=F$4,1),IF(G11=G$4,1),IF(H11=H$4,1),IF(I11=I$4,1),IF(J11=J$4,1),IF(K11=K$4,1),IF(L11=L$4,1),IF(M11=M$4,1),IF(N11=N$4,1),IF(O11=O$4,1),IF(P11=P$4,1),IF(Q11=Q$4,1)) -> 14 | X11: =SUM(IF(B11=B$4,B$3),IF(C11=C$4,C$3),IF(D11=D$4,D$3),IF(E11=E$4,E$3),IF(F11=F$4,F$3),IF(G11=G$4,G$3),IF(H11=H$4,H$3),IF(I11=I$4,I$3),IF(J11=J$4,J$3),IF(K11=K$4,K$3),IF(L11=L$4,L$3),IF(M11=M$4,M$3),IF(N11=N$4,N$3),IF(O11=O$4,O$3),IF(P11=P$4,P$3),IF(Q11=Q$4,Q$3)) -> 94
W12: =SUM(IF(B12=B$4,1),IF(C12=C$4,1),IF(D12=D$4,1),IF(E12=E$4,1),IF(F12=F$4,1),IF(G12=G$4,1),IF(H12=H$4,1),IF(I12=I$4,1),IF(J12=J$4,1),IF(K12=K$4,1),IF(L12=L$4,1),IF(M12=M$4,1),IF(N12=N$4,1),IF(O12=O$4,1),IF(P12=P$4,1),IF(Q12=Q$4,1)) -> 14 | X12: =SUM(IF(B12=B$4,B$3),IF(C12=C$4,C$3),IF(D12=D$4,D$3),IF(E12=E$4,E$3),IF(F12=F$4,F$3),IF(G12=G$4,G$3),IF(H12=H$4,H$3),IF(I12=I$4,I$3),IF(J12=J$4,J$3),IF(K12=K$4,K$3),IF(L12=L$4,L$3),IF(M12=M$4,M$3),IF(N12=N$4,N$3),IF(O12=O$4,O$3),IF(P12=P$4,P$3),IF(Q12=Q$4,Q$3)) -> 94
W13: =SUM(IF(B13=B$4,1),IF(C13=C$4,1),IF(D13=D$4,1),IF(E13=E$4,1),IF(F13=F$4,1),IF(G13=G$4,1),IF(H13=H$4,1),IF(I13=I$4,1),IF(J13=J$4,1),IF(K13=K$4,1),IF(L13=L$4,1),IF(M13=M$4,1),IF(N13=N$4,1),IF(O13=O$4,1),IF(P13=P$4,1),IF(Q13=Q$4,1)) -> 14 | X13: =SUM(IF(B13=B$4,B$3),IF(C13=C$4,C$3),IF(D13=D$4,D$3),IF(E13=E$4,E$3),IF(F13=F$4,F$3),IF(G13=G$4,G$3),IF(H13=H$4,H$3),IF(I13=I$4,I$3),IF(J13=J$4,J$3),IF(K13=K$4,K$3),IF(L13=L$4,L$3),IF(M13=M$4,M$3),IF(N13=N$4,N$3),IF(O13=O$4,O$3),IF(P13=P$4,P$3),IF(Q13=Q$4,Q$3)) -> 94
W14: =SUM(IF(B14=B$4,1),IF(C14=C$4,1),IF(D14=D$4,1),IF(E14=E$4,1),IF(F14=F$4,1),IF(G14=G$4,1),IF(H14=H$4,1),IF(I14=I$4,1),IF(J14=J$4,1),IF(K14=K$4,1),IF(L14=L$4,1),IF(M14=M$4,1),IF(N14=N$4,1),IF(O14=O$4,1),IF(P14=P$4,1),IF(Q14=Q$4,1)) -> 14 | X14: =SUM(IF(B14=B$4,B$3),IF(C14=C$4,C$3),IF(D14=D$4,D$3),IF(E14=E$4,E$3),IF(F14=F$4,F$3),IF(G14=G$4,G$3),IF(H14=H$4,H$3),IF(I14=I$4,I$3),IF(J14=J$4,J$3),IF(K14=K$4,K$3),IF(L14=L$4,L$3),IF(M14=M$4,M$3),IF(N14=N$4,N$3),IF(O14=O$4,O$3),IF(P14=P$4,P$3),IF(Q14=Q$4,Q$3)) -> 94
W15: =SUM(IF(B15=B$4,1),IF(C15=C$4,1),IF(D15=D$4,1),IF(E15=E$4,1),IF(F15=F$4,1),IF(G15=G$4,1),IF(H15=H$4,1),IF(I15=I$4,1),IF(J15=J$4,1),IF(K15=K$4,1),IF(L15=L$4,1),IF(M15=M$4,1),IF(N15=N$4,1),IF(O15=O$4,1),IF(P15=P$4,1),IF(Q15=Q$4,1)) -> 14 | X15: =SUM(IF(B15=B$4,B$3),IF(C15=C$4,C$3),IF(D15=D$4,D$3),IF(E15=E$4,E$3),IF(F15=F$4,F$3),IF(G15=G$4,G$3),IF(H15=H$4,H$3),IF(I15=I$4,I$3),IF(J15=J$4,J$3),IF(K15=K$4,K$3),IF(L15=L$4,L$3),IF(M15=M$4,M$3),IF(N15=N$4,N$3),IF(O15=O$4,O$3),IF(P15=P$4,P$3),IF(Q15=Q$4,Q$3)) -> 94
A16: DIVISION II
W17: =SUM(IF(B17=B$4,1),IF(C17=C$4,1),IF(D17=D$4,1),IF(E17=E$4,1),IF(F17=F$4,1),IF(G17=G$4,1),IF(H17=H$4,1),IF(I17=I$4,1),IF(J17=J$4,1),IF(K17=K$4,1),IF(L17=L$4,1),IF(M17=M$4,1),IF(N17=N$4,1),IF(O17=O$4,1),IF(P17=P$4,1),IF(Q17=Q$4,1)) -> 14 | X17: =SUM(IF(B17=B$4,B$3),IF(C17=C$4,C$3),IF(D17=D$4,D$3),IF(E17=E$4,E$3),IF(F17=F$4,F$3),IF(G17=G$4,G$3),IF(H17=H$4,H$3),IF(I17=I$4,I$3),IF(J17=J$4,J$3),IF(K17=K$4,K$3),IF(L17=L$4,L$3),IF(M17=M$4,M$3),IF(N17=N$4,N$3),IF(O17=O$4,O$3),IF(P17=P$4,P$3),IF(Q17=Q$4,Q$3)) -> 94
W18: =SUM(IF(B18=B$4,1),IF(C18=C$4,1),IF(D18=D$4,1),IF(E18=E$4,1),IF(F18=F$4,1),IF(G18=G$4,1),IF(H18=H$4,1),IF(I18=I$4,1),IF(J18=J$4,1),IF(K18=K$4,1),IF(L18=L$4,1),IF(M18=M$4,1),IF(N18=N$4,1),IF(O18=O$4,1),IF(P18=P$4,1),IF(Q18=Q$4,1)) -> 14 | X18: =SUM(IF(B18=B$4,B$3),IF(C18=C$4,C$3),IF(D18=D$4,D$3),IF(E18=E$4,E$3),IF(F18=F$4,F$3),IF(G18=G$4,G$3),IF(H18=H$4,H$3),IF(I18=I$4,I$3),IF(J18=J$4,J$3),IF(K18=K$4,K$3),IF(L18=L$4,L$3),IF(M18=M$4,M$3),IF(N18=N$4,N$3),IF(O18=O$4,O$3),IF(P18=P$4,P$3),IF(Q18=Q$4,Q$3)) -> 94
W19: =SUM(IF(B19=B$4,1),IF(C19=C$4,1),IF(D19=D$4,1),IF(E19=E$4,1),IF(F19=F$4,1),IF(G19=G$4,1),IF(H19=H$4,1),IF(I19=I$4,1),IF(J19=J$4,1),IF(K19=K$4,1),IF(L19=L$4,1),IF(M19=M$4,1),IF(N19=N$4,1),IF(O19=O$4,1),IF(P19=P$4,1),IF(Q19=Q$4,1)) -> 14 | X19: =SUM(IF(B19=B$4,B$3),IF(C19=C$4,C$3),IF(D19=D$4,D$3),IF(E19=E$4,E$3),IF(F19=F$4,F$3),IF(G19=G$4,G$3),IF(H19=H$4,H$3),IF(I19=I$4,I$3),IF(J19=J$4,J$3),IF(K19=K$4,K$3),IF(L19=L$4,L$3),IF(M19=M$4,M$3),IF(N19=N$4,N$3),IF(O19=O$4,O$3),IF(P19=P$4,P$3),IF(Q19=Q$4,Q$3)) -> 94
W20: =SUM(IF(B20=B$4,1),IF(C20=C$4,1),IF(D20=D$4,1),IF(E20=E$4,1),IF(F20=F$4,1),IF(G20=G$4,1),IF(H20=H$4,1),IF(I20=I$4,1),IF(J20=J$4,1),IF(K20=K$4,1),IF(L20=L$4,1),IF(M20=M$4,1),IF(N20=N$4,1),IF(O20=O$4,1),IF(P20=P$4,1),IF(Q20=Q$4,1)) -> 14 | X20: =SUM(IF(B20=B$4,B$3),IF(C20=C$4,C$3),IF(D20=D$4,D$3),IF(E20=E$4,E$3),IF(F20=F$4,F$3),IF(G20=G$4,G$3),IF(H20=H$4,H$3),IF(I20=I$4,I$3),IF(J20=J$4,J$3),IF(K20=K$4,K$3),IF(L20=L$4,L$3),IF(M20=M$4,M$3),IF(N20=N$4,N$3),IF(O20=O$4,O$3),IF(P20=P$4,P$3),IF(Q20=Q$4,Q$3)) -> 94
